{"text_format":"1","workbook":"xlsx","n_sheets":6,"sheets":["Korrelation_Tag","Kurse_Tag","Silber_Gold_Tag","Korrelation_Woche","Kurse_Woche","Tabelle1"],"not_rendered":{"charts":1,"images":0,"macros":1,"external_links":0,"defined_names":0,"comments":0,"pivot_tables":0},"unopened":[],"bounds":{"document_bytes":16777216,"sheet_cells":100000,"rows_first":2000,"rows_last":500,"rows_between":2000,"halvings":0,"cell_chars":16384,"cell_head_chars":4096},"cells_cut":0,"cells_raw":0,"read":"whole","date_system":"1900"}

{"sheet":"Korrelation_Tag","index":0,"n_rows":253,"n_cols":19,"rows_kept":253,"cut":false,"hidden":false,"merged":[[1,10,1,18],[25,11,25,18],[2,11,2,18],[13,11,13,18],[37,11,37,18]]}
[null,"ZKB SILVER ETF  (ZSIL/ CH0029792717)","ZKB GOLD ETF  (ZGLD/ CH0024391002)","Xmtch (CH) SLI  (XMSLI/ CH0031768937)","UBS-ETF MSCI JAPAN  (FDJPHU/ LU0136240974)","NESTLE N  (NESN/ CH0038863350)","DB X-TR DAX  (XDAX/ LU0274211480)","DB X-TR SHORT DAX  (XSDX/ LU0292106241)","JPY/CHF"]
["Mittelwert",{"$f":"AVERAGE(B5:B253)","v":1.3067700434571776E-4},{"$f":"AVERAGE(C5:C253)","v":3.5934137502825829E-4},{"$f":"AVERAGE(D5:D253)","v":-4.7376357394844567E-4},-6.5168232225930843E-4,-5.0101086334327998E-4,-8.8991264263335818E-4,-2.3181873158328636E-4,5.1486231394035228E-4]
["Standartabweichung Tag",{"$f":"STDEVP(B5:B253)","v":3.151681566895078E-2},{"$f":"STDEVP(C5:C253)","v":1.8316257256141184E-2},{"$f":"STDEVP(D5:D253)","v":2.4361166670057725E-2},2.9255909191085026E-2,1.9317384397020607E-2,2.988344775947973E-2,2.3450573637021542E-2,1.0877652212907632E-2,null,null,"1-Jahr Korrelation basierend Tageskurs"]
["Standartabweichung Jahr",{"$f":"B3*SQRT(248)","v":0.49632730948219456},{"$f":"C3*SQRT(248)","v":0.28844470771456332},0.38364003636029725,0.46072251866395603,0.30421047369490634,0.47060500592152799,0.36930000293600285,0.17130143835039341,null,null,"ZKB Silver","ZKB Gold","Xmtch SLI","UBS MSCI Japan","Nestlé","DB X-TR-Dax","DB Sh. Dax",{"$f":"I1","v":"JPY/CHF"}]
["2008-09-01",{"$f":"LN(Kurse_Tag!B3/Kurse_Tag!B2)","v":-1.1088124690466408E-2},{"$f":"LN(Kurse_Tag!C3/Kurse_Tag!C2)","v":-1.9938783603831049E-2},{"$f":"LN(Kurse_Tag!D3/Kurse_Tag!D2)","v":1.1038544033202626E-3},{"$f":"LN(Kurse_Tag!E3/Kurse_Tag!E2)","v":-1.995267606231017E-2},{"$f":"LN(Kurse_Tag!F3/Kurse_Tag!F2)","v":-1.2353306079928546E-3},{"$f":"LN(Kurse_Tag!G3/Kurse_Tag!G2)","v":-1.2433295918686209E-2},{"$f":"LN(Kurse_Tag!H3/Kurse_Tag!H2)","v":0},{"$f":"LN(Kurse_Tag!I3/Kurse_Tag!I2)","v":1.1317503902849304E-2},null,"ZKB Silver",{"$f":"CorrMatrix(B5:I253)","v":1},0.72283523793740267,0.25841484646571306,0.32433688468794886,0.15322425768360953,0.30320556632812684,-0.21285410430642152,-6.3555453924519917E-2]
["2008-09-02",{"$f":"LN(Kurse_Tag!B4/Kurse_Tag!B3)","v":-5.2210641484263791E-2},{"$f":"LN(Kurse_Tag!C4/Kurse_Tag!C3)","v":-1.8220546113528288E-2},{"$f":"LN(Kurse_Tag!D4/Kurse_Tag!D3)","v":1.0881102191286041E-2},{"$f":"LN(Kurse_Tag!E4/Kurse_Tag!E3)","v":1.669656798823162E-2},{"$f":"LN(Kurse_Tag!F4/Kurse_Tag!F3)","v":8.6154379056154334E-3},{"$f":"LN(Kurse_Tag!G4/Kurse_Tag!G3)","v":1.7401775468820806E-2},{"$f":"LN(Kurse_Tag!H4/Kurse_Tag!H3)","v":-1.3573687912441476E-2},{"$f":"LN(Kurse_Tag!I4/Kurse_Tag!I3)","v":4.2358335510193001E-3},null,"ZKB Gold",0.72283523793740267,1,-1.1740979444759657E-2,0.15319175174565494,-2.521362408899112E-2,5.6891241482074369E-2,5.9890305518342353E-2,3.4626696716653561E-2]
["2008-09-03",{"$f":"LN(Kurse_Tag!B5/Kurse_Tag!B4)","v":5.8565321127129685E-3},{"$f":"LN(Kurse_Tag!C5/Kurse_Tag!C4)","v":3.8821294565077528E-3},{"$f":"LN(Kurse_Tag!D5/Kurse_Tag!D4)","v":-1.2740014463184046E-3},{"$f":"LN(Kurse_Tag!E5/Kurse_Tag!E4)","v":-2.7984527762083218E-2},{"$f":"LN(Kurse_Tag!F5/Kurse_Tag!F4)","v":-6.9686693160934277E-3},{"$f":"LN(Kurse_Tag!G5/Kurse_Tag!G4)","v":-1.1696039763191298E-2},{"$f":"LN(Kurse_Tag!H5/Kurse_Tag!H4)","v":1.2257049337021111E-3},{"$f":"LN(Kurse_Tag!I5/Kurse_Tag!I4)","v":2.3564075704773702E-3},null,"Xmtch SLI",0.25841484646571306,-1.1740979444759657E-2,1.0000000000000002,0.61585930112873677,0.62865219710462172,0.82262622401389407,-0.79601189658705351,-0.11658878502247438]
["2008-09-04",{"$f":"LN(Kurse_Tag!B6/Kurse_Tag!B5)","v":-7.3260400920728977E-3},{"$f":"LN(Kurse_Tag!C6/Kurse_Tag!C5)","v":-3.1751658356879236E-3},{"$f":"LN(Kurse_Tag!D6/Kurse_Tag!D5)","v":-2.6107289700211325E-2},{"$f":"LN(Kurse_Tag!E6/Kurse_Tag!E5)","v":-1.193889083596524E-2},{"$f":"LN(Kurse_Tag!F6/Kurse_Tag!F5)","v":-1.5754886407749972E-2},{"$f":"LN(Kurse_Tag!G6/Kurse_Tag!G5)","v":-2.8264558169631467E-2},{"$f":"LN(Kurse_Tag!H6/Kurse_Tag!H5)","v":2.4801444050026121E-2},{"$f":"LN(Kurse_Tag!I6/Kurse_Tag!I5)","v":1.9594402271980865E-3},null,"UBS MSCI Japan",0.32433688468794886,0.15319175174565494,0.61585930112873677,1,0.50837357433864894,0.60479002004911753,-0.5040268818815572,-3.6424381324318258E-2]
["2008-09-05",{"$f":"LN(Kurse_Tag!B7/Kurse_Tag!B6)","v":2.2034529664349137E-3},{"$f":"LN(Kurse_Tag!C7/Kurse_Tag!C6)","v":1.4383689483780616E-2},{"$f":"LN(Kurse_Tag!D7/Kurse_Tag!D6)","v":-2.3069946275872548E-2},{"$f":"LN(Kurse_Tag!E7/Kurse_Tag!E6)","v":-1.1026627868722664E-2},{"$f":"LN(Kurse_Tag!F7/Kurse_Tag!F6)","v":5.0020946314883203E-3},{"$f":"LN(Kurse_Tag!G7/Kurse_Tag!G6)","v":-4.2658815847377879E-2},{"$f":"LN(Kurse_Tag!H7/Kurse_Tag!H6)","v":2.0445081493225669E-2},{"$f":"LN(Kurse_Tag!I7/Kurse_Tag!I6)","v":2.0532884261050153E-3},null,"Nestlé",0.15322425768360953,-2.521362408899112E-2,0.62865219710462172,0.50837357433864894,0.99999999999999989,0.52129127168717704,-0.44542364940375789,-4.7741864126513975E-2]
["2008-09-08",{"$f":"LN(Kurse_Tag!B8/Kurse_Tag!B7)","v":-1.7018538751575617E-2},{"$f":"LN(Kurse_Tag!C8/Kurse_Tag!C7)","v":1.0050335853501506E-2},{"$f":"LN(Kurse_Tag!D8/Kurse_Tag!D7)","v":3.2465801249577077E-2},{"$f":"LN(Kurse_Tag!E8/Kurse_Tag!E7)","v":3.6801250557337857E-2},{"$f":"LN(Kurse_Tag!F8/Kurse_Tag!F7)","v":1.6495219369110845E-2},{"$f":"LN(Kurse_Tag!G8/Kurse_Tag!G7)","v":3.9678483818176236E-2},{"$f":"LN(Kurse_Tag!H8/Kurse_Tag!H7)","v":-2.1384409515838608E-2},{"$f":"LN(Kurse_Tag!I8/Kurse_Tag!I7)","v":1.4833758835118064E-2},null,"DB X-TR-Dax",0.30320556632812684,5.6891241482074369E-2,0.82262622401389407,0.60479002004911753,0.52129127168717704,1,-0.77479779033358598,-8.7486712721124446E-2]
["2008-09-09",{"$f":"LN(Kurse_Tag!B9/Kurse_Tag!B8)","v":-4.815603691241778E-2},{"$f":"LN(Kurse_Tag!C9/Kurse_Tag!C8)","v":-2.9038248098192776E-2},{"$f":"LN(Kurse_Tag!D9/Kurse_Tag!D8)","v":-4.6403795565022254E-3},{"$f":"LN(Kurse_Tag!E9/Kurse_Tag!E8)","v":0},{"$f":"LN(Kurse_Tag!F9/Kurse_Tag!F8)","v":2.0644327580345984E-2},{"$f":"LN(Kurse_Tag!G9/Kurse_Tag!G8)","v":-1.1406967793376478E-2},{"$f":"LN(Kurse_Tag!H9/Kurse_Tag!H8)","v":5.7926731531857088E-3},{"$f":"LN(Kurse_Tag!I9/Kurse_Tag!I8)","v":-3.4705520229621968E-3},null,"DB Sh. Dax",-0.21285410430642152,5.9890305518342353E-2,-0.79601189658705351,-0.5040268818815572,-0.44542364940375789,-0.77479779033358598,1.0000000000000002,0.11545458994132642]
["2008-09-10",{"$f":"LN(Kurse_Tag!B10/Kurse_Tag!B9)","v":-6.3025701005024998E-2},{"$f":"LN(Kurse_Tag!C10/Kurse_Tag!C9)","v":-1.4301280569573025E-2},{"$f":"LN(Kurse_Tag!D10/Kurse_Tag!D9)","v":-3.1678028913095257E-3},{"$f":"LN(Kurse_Tag!E10/Kurse_Tag!E9)","v":-1.2804272245987741E-2},{"$f":"LN(Kurse_Tag!F10/Kurse_Tag!F9)","v":-1.6155440222285256E-2},{"$f":"LN(Kurse_Tag!G10/Kurse_Tag!G9)","v":-7.2720247746476344E-3},{"$f":"LN(Kurse_Tag!H10/Kurse_Tag!H9)","v":8.289676975336998E-3},{"$f":"LN(Kurse_Tag!I10/Kurse_Tag!I9)","v":1.3143567157079742E-2},null,"JPY/CHF",-6.3555453924519917E-2,3.4626696716653561E-2,-0.11658878502247438,-3.6424381324318258E-2,-4.7741864126513975E-2,-8.7486712721124446E-2,0.11545458994132642,1.0000000000000002]
["2008-09-11",{"$f":"LN(Kurse_Tag!B11/Kurse_Tag!B10)","v":-5.6618893999507931E-2},{"$f":"LN(Kurse_Tag!C11/Kurse_Tag!C10)","v":-2.8860450539098331E-2},{"$f":"LN(Kurse_Tag!D11/Kurse_Tag!D10)","v":-2.7435265336448092E-2},{"$f":"LN(Kurse_Tag!E11/Kurse_Tag!E10)","v":1.0001365582312299E-2},{"$f":"LN(Kurse_Tag!F11/Kurse_Tag!F10)","v":7.3022636854000204E-3},{"$f":"LN(Kurse_Tag!G11/Kurse_Tag!G10)","v":-9.0627370453392059E-3},{"$f":"LN(Kurse_Tag!H11/Kurse_Tag!H10)","v":7.9708438964432339E-3},{"$f":"LN(Kurse_Tag!I11/Kurse_Tag!I10)","v":3.3303232645605359E-3}]
["2008-09-12",{"$f":"LN(Kurse_Tag!B12/Kurse_Tag!B11)","v":3.9797639509364574E-2},{"$f":"LN(Kurse_Tag!C12/Kurse_Tag!C11)","v":1.508213249537688E-2},{"$f":"LN(Kurse_Tag!D12/Kurse_Tag!D11)","v":2.1726579204666151E-2},{"$f":"LN(Kurse_Tag!E12/Kurse_Tag!E11)","v":-3.5787359258451787E-3},{"$f":"LN(Kurse_Tag!F12/Kurse_Tag!F11)","v":2.3370683170405342E-2},{"$f":"LN(Kurse_Tag!G12/Kurse_Tag!G11)","v":8.3529058539465375E-3},{"$f":"LN(Kurse_Tag!H12/Kurse_Tag!H11)","v":-1.2784026082796546E-2},{"$f":"LN(Kurse_Tag!I12/Kurse_Tag!I11)","v":1.0018987399761273E-2},null,null,"1-Jahr Kovarianzen basierend Tageskurs"]
["2008-09-15",{"$f":"LN(Kurse_Tag!B13/Kurse_Tag!B12)","v":-1.6977932770942247E-3},{"$f":"LN(Kurse_Tag!C13/Kurse_Tag!C12)","v":1.7013985076672861E-2},{"$f":"LN(Kurse_Tag!D13/Kurse_Tag!D12)","v":-2.7112243309144395E-2},{"$f":"LN(Kurse_Tag!E13/Kurse_Tag!E12)","v":-3.1211896402237094E-2},{"$f":"LN(Kurse_Tag!F13/Kurse_Tag!F12)","v":-2.4584030134228271E-2},{"$f":"LN(Kurse_Tag!G13/Kurse_Tag!G12)","v":-3.0068163025080866E-2},{"$f":"LN(Kurse_Tag!H13/Kurse_Tag!H12)","v":3.1330674608136655E-2},{"$f":"LN(Kurse_Tag!I13/Kurse_Tag!I12)","v":-1.4398278480908753E-2},null,null,"ZKB Silver","ZKB Gold","Xmtch SLI","UBS MSCI Japan","Nestlé","DB X-TR-Dax","DB Sh. Dax","JPY/CHF"]
["2008-09-16",{"$f":"LN(Kurse_Tag!B14/Kurse_Tag!B13)","v":-2.2337698538394086E-2},{"$f":"LN(Kurse_Tag!C14/Kurse_Tag!C13)","v":-1.7963001057861967E-3},{"$f":"LN(Kurse_Tag!D14/Kurse_Tag!D13)","v":-2.0753899284071921E-2},{"$f":"LN(Kurse_Tag!E14/Kurse_Tag!E13)","v":-4.9834302222673973E-2},{"$f":"LN(Kurse_Tag!F14/Kurse_Tag!F13)","v":-8.9431490364424437E-3},{"$f":"LN(Kurse_Tag!G14/Kurse_Tag!G13)","v":-1.7080014580281917E-2},{"$f":"LN(Kurse_Tag!H14/Kurse_Tag!H13)","v":8.9833188851915283E-3},{"$f":"LN(Kurse_Tag!I14/Kurse_Tag!I13)","v":8.7394875623491783E-3},null,"ZKB Silver",{"$f":"VarCovar(B5:I253)","v":9.9731495083768052E-4},4.1895371780407975E-4,1.9920743438174248E-4,3.0026169934217501E-4,9.3662521633021797E-5,2.867199221151638E-4,-1.5795213386560284E-4,-2.1876507612825141E-5]
["2008-09-17",{"$f":"LN(Kurse_Tag!B15/Kurse_Tag!B14)","v":4.8334969772877691E-2},{"$f":"LN(Kurse_Tag!C15/Kurse_Tag!C14)","v":6.7097272786135545E-2},{"$f":"LN(Kurse_Tag!D15/Kurse_Tag!D14)","v":-2.0590571786862633E-2},{"$f":"LN(Kurse_Tag!E15/Kurse_Tag!E14)","v":1.625156274653676E-2},{"$f":"LN(Kurse_Tag!F15/Kurse_Tag!F14)","v":-7.7885206175734674E-3},{"$f":"LN(Kurse_Tag!G15/Kurse_Tag!G14)","v":-1.1120730518612856E-2},{"$f":"LN(Kurse_Tag!H15/Kurse_Tag!H14)","v":2.111590161679667E-3},{"$f":"LN(Kurse_Tag!I15/Kurse_Tag!I14)","v":9.1324835632724723E-3},null,"ZKB Gold",4.1895371780407975E-4,3.3683804309843932E-4,-5.260012930013465E-6,8.2420146585175151E-5,-8.957111831284468E-6,3.1265149819857807E-5,2.5828215432154118E-5,6.9267678610490022E-6]
["2008-09-18",{"$f":"LN(Kurse_Tag!B16/Kurse_Tag!B15)","v":7.185851876927514E-2},{"$f":"LN(Kurse_Tag!C16/Kurse_Tag!C15)","v":2.8833811925312043E-2},{"$f":"LN(Kurse_Tag!D16/Kurse_Tag!D15)","v":-6.3517882555054221E-3},{"$f":"LN(Kurse_Tag!E16/Kurse_Tag!E15)","v":-5.4794657646257076E-3},{"$f":"LN(Kurse_Tag!F16/Kurse_Tag!F15)","v":-1.0341353794732595E-2},{"$f":"LN(Kurse_Tag!G16/Kurse_Tag!G15)","v":-5.0665768923170099E-3},{"$f":"LN(Kurse_Tag!H16/Kurse_Tag!H15)","v":1.0009770370665087E-2},{"$f":"LN(Kurse_Tag!I16/Kurse_Tag!I15)","v":-6.3934027480476493E-3},null,"Xmtch SLI",1.9920743438174248E-4,-5.260012930013465E-6,5.9585945137119467E-4,4.4069777055315707E-4,2.9703286828452558E-4,6.0128310551713104E-4,-4.5658199191245892E-4,-3.1019707264415588E-5]
["2008-09-19",{"$f":"LN(Kurse_Tag!B17/Kurse_Tag!B16)","v":9.2025189311619199E-3},{"$f":"LN(Kurse_Tag!C17/Kurse_Tag!C16)","v":-3.9279919571577086E-3},{"$f":"LN(Kurse_Tag!D17/Kurse_Tag!D16)","v":6.7744663515157288E-2},{"$f":"LN(Kurse_Tag!E17/Kurse_Tag!E16)","v":9.4060648216032106E-2},{"$f":"LN(Kurse_Tag!F17/Kurse_Tag!F16)","v":2.5452933989495254E-2},{"$f":"LN(Kurse_Tag!G17/Kurse_Tag!G16)","v":6.6879613074192296E-2},{"$f":"LN(Kurse_Tag!H17/Kurse_Tag!H16)","v":-3.9902069721949519E-2},{"$f":"LN(Kurse_Tag!I17/Kurse_Tag!I16)","v":-8.334960168358007E-3},null,"UBS MSCI Japan",3.0026169934217501E-4,8.2420146585175151E-5,4.4069777055315707E-4,8.5935946543006685E-4,2.8846462012161974E-4,5.3088026818755003E-4,-3.4719098190052431E-4,-1.1638275101000646E-5]
["2008-09-22",{"$f":"LN(Kurse_Tag!B18/Kurse_Tag!B17)","v":5.5673002426241576E-2},{"$f":"LN(Kurse_Tag!C18/Kurse_Tag!C17)","v":1.1737989351233508E-2},{"$f":"LN(Kurse_Tag!D18/Kurse_Tag!D17)","v":-1.4187753621332591E-3},{"$f":"LN(Kurse_Tag!E18/Kurse_Tag!E17)","v":-6.4288489882361938E-2},{"$f":"LN(Kurse_Tag!F18/Kurse_Tag!F17)","v":-1.1414718313436463E-2},{"$f":"LN(Kurse_Tag!G18/Kurse_Tag!G17)","v":-1.2203954984386905E-2},{"$f":"LN(Kurse_Tag!H18/Kurse_Tag!H17)","v":-3.9365183377312318E-3},{"$f":"LN(Kurse_Tag!I18/Kurse_Tag!I17)","v":-2.0855111722642521E-2},null,"Nestlé",9.3662521633021797E-5,-8.957111831284468E-6,2.9703286828452558E-4,2.8846462012161974E-4,3.7466602276460325E-4,3.0213924779050111E-4,-2.0259220472700073E-4,-1.0072343536895538E-5]
["2008-09-23",{"$f":"LN(Kurse_Tag!B19/Kurse_Tag!B18)","v":6.4771726990304106E-3},{"$f":"LN(Kurse_Tag!C19/Kurse_Tag!C18)","v":7.7494737192655341E-3},{"$f":"LN(Kurse_Tag!D19/Kurse_Tag!D18)","v":-2.9781259543676199E-2},{"$f":"LN(Kurse_Tag!E19/Kurse_Tag!E18)","v":-1.7485314341019499E-2},{"$f":"LN(Kurse_Tag!F19/Kurse_Tag!F18)","v":-2.3647648300674885E-2},{"$f":"LN(Kurse_Tag!G19/Kurse_Tag!G18)","v":-2.5613455937389621E-3},{"$f":"LN(Kurse_Tag!H19/Kurse_Tag!H18)","v":1.3834706865513611E-2},{"$f":"LN(Kurse_Tag!I19/Kurse_Tag!I18)","v":-5.8286382065916517E-4},null,"DB X-TR-Dax",2.867199221151638E-4,3.1265149819857807E-5,6.0128310551713104E-4,5.3088026818755003E-4,3.0213924779050111E-4,8.9662133890481915E-4,-5.4515526725015936E-4,-2.8553255793260911E-5]
["2008-09-24",{"$f":"LN(Kurse_Tag!B20/Kurse_Tag!B19)","v":-3.5932485661253856E-3},{"$f":"LN(Kurse_Tag!C20/Kurse_Tag!C19)","v":-1.0021095659929266E-2},{"$f":"LN(Kurse_Tag!D20/Kurse_Tag!D19)","v":-7.1439360441997567E-3},{"$f":"LN(Kurse_Tag!E20/Kurse_Tag!E19)","v":1.1064746538096672E-2},{"$f":"LN(Kurse_Tag!F20/Kurse_Tag!F19)","v":-1.6935205757582696E-2},{"$f":"LN(Kurse_Tag!G20/Kurse_Tag!G19)","v":-1.4049817888737267E-2},{"$f":"LN(Kurse_Tag!H20/Kurse_Tag!H19)","v":5.3654840015843249E-3},{"$f":"LN(Kurse_Tag!I20/Kurse_Tag!I19)","v":-6.238445030078919E-3},null,"DB Sh. Dax",-1.5795213386560284E-4,2.5828215432154118E-5,-4.5658199191245892E-4,-3.4719098190052431E-4,-2.0259220472700073E-4,-5.4515526725015936E-4,5.52146861179182E-4,2.9569740229853505E-5]
["2008-09-25",{"$f":"LN(Kurse_Tag!B21/Kurse_Tag!B20)","v":-7.2020168759392154E-4},{"$f":"LN(Kurse_Tag!C21/Kurse_Tag!C20)","v":-1.8692133012152522E-2},{"$f":"LN(Kurse_Tag!D21/Kurse_Tag!D20)","v":2.1280499890852015E-2},{"$f":"LN(Kurse_Tag!E21/Kurse_Tag!E20)","v":1.0729614763274643E-3},{"$f":"LN(Kurse_Tag!F21/Kurse_Tag!F20)","v":1.8193859164778947E-2},{"$f":"LN(Kurse_Tag!G21/Kurse_Tag!G20)","v":1.8144827706202647E-2},{"$f":"LN(Kurse_Tag!H21/Kurse_Tag!H20)","v":-4.8690007476953701E-3},{"$f":"LN(Kurse_Tag!I21/Kurse_Tag!I20)","v":4.098366392282185E-3},null,"JPY/CHF",-2.1876507612825141E-5,6.9267678610490022E-6,-3.1019707264415588E-5,-1.1638275101000646E-5,-1.0072343536895538E-5,-2.8553255793260911E-5,2.9569740229853505E-5,1.1880042781684922E-4]
["2008-09-26",{"$f":"LN(Kurse_Tag!B22/Kurse_Tag!B21)","v":1.4306395651237929E-2},{"$f":"LN(Kurse_Tag!C22/Kurse_Tag!C21)","v":2.5491576401076327E-2},{"$f":"LN(Kurse_Tag!D22/Kurse_Tag!D21)","v":-1.5600335759634326E-2},{"$f":"LN(Kurse_Tag!E22/Kurse_Tag!E21)","v":-4.8374187317700582E-3},{"$f":"LN(Kurse_Tag!F22/Kurse_Tag!F21)","v":-7.9983587841095782E-3},{"$f":"LN(Kurse_Tag!G22/Kurse_Tag!G21)","v":-1.7001079206161347E-2},{"$f":"LN(Kurse_Tag!H22/Kurse_Tag!H21)","v":4.1354783270010462E-4},{"$f":"LN(Kurse_Tag!I22/Kurse_Tag!I21)","v":-2.3398665252948206E-3}]
["2008-09-29",{"$f":"LN(Kurse_Tag!B23/Kurse_Tag!B22)","v":-1.7192400540372875E-2},{"$f":"LN(Kurse_Tag!C23/Kurse_Tag!C22)","v":1.2506175505229764E-2},{"$f":"LN(Kurse_Tag!D23/Kurse_Tag!D22)","v":-5.7169902876535672E-2},{"$f":"LN(Kurse_Tag!E23/Kurse_Tag!E22)","v":-2.6755622753917286E-2},{"$f":"LN(Kurse_Tag!F23/Kurse_Tag!F22)","v":-1.6620881236040407E-2},{"$f":"LN(Kurse_Tag!G23/Kurse_Tag!G22)","v":-4.7237800137309834E-2},{"$f":"LN(Kurse_Tag!H23/Kurse_Tag!H22)","v":0},{"$f":"LN(Kurse_Tag!I23/Kurse_Tag!I22)","v":4.7714195396996555E-3}]
["2008-09-30",{"$f":"LN(Kurse_Tag!B24/Kurse_Tag!B23)","v":-4.2057101845407383E-2},{"$f":"LN(Kurse_Tag!C24/Kurse_Tag!C23)","v":2.228235841562978E-3},{"$f":"LN(Kurse_Tag!D24/Kurse_Tag!D23)","v":1.1207767311899854E-2},{"$f":"LN(Kurse_Tag!E24/Kurse_Tag!E23)","v":1.7553934012092622E-2},{"$f":"LN(Kurse_Tag!F24/Kurse_Tag!F23)","v":3.5046863182409009E-2},{"$f":"LN(Kurse_Tag!G24/Kurse_Tag!G23)","v":-1.5591005317135241E-2},{"$f":"LN(Kurse_Tag!H24/Kurse_Tag!H23)","v":4.6373413698356902E-2},{"$f":"LN(Kurse_Tag!I24/Kurse_Tag!I23)","v":6.5840671620336971E-3},null,null,"90-Tage Korrelationen basierend Tageskurs"]
["2008-10-01",{"$f":"LN(Kurse_Tag!B25/Kurse_Tag!B24)","v":9.7488586127494545E-3},{"$f":"LN(Kurse_Tag!C25/Kurse_Tag!C24)","v":3.1746058407726395E-3},{"$f":"LN(Kurse_Tag!D25/Kurse_Tag!D24)","v":3.4704536209858136E-3},{"$f":"LN(Kurse_Tag!E25/Kurse_Tag!E24)","v":9.7403367483845857E-3},{"$f":"LN(Kurse_Tag!F25/Kurse_Tag!F24)","v":4.5539304533577935E-3},{"$f":"LN(Kurse_Tag!G25/Kurse_Tag!G24)","v":3.6450032072264842E-3},{"$f":"LN(Kurse_Tag!H25/Kurse_Tag!H24)","v":0},{"$f":"LN(Kurse_Tag!I25/Kurse_Tag!I24)","v":1.4372193349658302E-2},null,null,"ZKB Silver","ZKB Gold","Xmtch SLI","UBS MSCI Japan","Nestlé","DB X-TR-Dax","DB Sh. Dax","JPY/CHF"]
["2008-10-02",{"$f":"LN(Kurse_Tag!B26/Kurse_Tag!B25)","v":-9.2180753213416386E-2},{"$f":"LN(Kurse_Tag!C26/Kurse_Tag!C25)","v":-4.2077404510371744E-2},{"$f":"LN(Kurse_Tag!D26/Kurse_Tag!D25)","v":1.7307207170755457E-3},{"$f":"LN(Kurse_Tag!E26/Kurse_Tag!E25)","v":-1.8753097469892538E-2},{"$f":"LN(Kurse_Tag!F26/Kurse_Tag!F25)","v":-9.5456213505989533E-3},{"$f":"LN(Kurse_Tag!G26/Kurse_Tag!G25)","v":-2.195930627384449E-2},{"$f":"LN(Kurse_Tag!H26/Kurse_Tag!H25)","v":-8.4830254614429133E-3},{"$f":"LN(Kurse_Tag!I26/Kurse_Tag!I25)","v":5.3131054777694692E-3},null,"ZKB Silver",{"$f":"CorrMatrix(B164:I253)","v":1.0000000000000002},0.72024589871339662,0.36749238066741946,0.2828312456281451,5.331311839533464E-2,0.40633188999473357,-0.32640826292844838,-0.14768022336115233]
["2008-10-03",{"$f":"LN(Kurse_Tag!B27/Kurse_Tag!B26)","v":3.6951995265630644E-2},{"$f":"LN(Kurse_Tag!C27/Kurse_Tag!C26)","v":8.2304991365154435E-3},{"$f":"LN(Kurse_Tag!D27/Kurse_Tag!D26)","v":1.203189278571418E-2},{"$f":"LN(Kurse_Tag!E27/Kurse_Tag!E26)","v":-2.5282635728161938E-2},{"$f":"LN(Kurse_Tag!F27/Kurse_Tag!F26)","v":-9.6376191187180146E-3},{"$f":"LN(Kurse_Tag!G27/Kurse_Tag!G26)","v":2.2840946181073202E-2},{"$f":"LN(Kurse_Tag!H27/Kurse_Tag!H26)","v":-1.3223995552898746E-2},{"$f":"LN(Kurse_Tag!I27/Kurse_Tag!I26)","v":1.3253942198713802E-2},null,"ZKB Gold",0.72024589871339662,0.99999999999999978,0.18082897424018471,0.17589965087414444,8.1380297595256487E-2,0.30558788464718273,-8.8977922497217643E-2,-2.3865982160992914E-2]
["2008-10-06",{"$f":"LN(Kurse_Tag!B28/Kurse_Tag!B27)","v":-2.6369885935093609E-2},{"$f":"LN(Kurse_Tag!C28/Kurse_Tag!C27)","v":3.9851031484896972E-2},{"$f":"LN(Kurse_Tag!D28/Kurse_Tag!D27)","v":-5.6331088417507696E-2},{"$f":"LN(Kurse_Tag!E28/Kurse_Tag!E27)","v":-6.4801170520916884E-2},{"$f":"LN(Kurse_Tag!F28/Kurse_Tag!F27)","v":-4.742267855160729E-2},{"$f":"LN(Kurse_Tag!G28/Kurse_Tag!G27)","v":-8.2515101317254716E-2},{"$f":"LN(Kurse_Tag!H28/Kurse_Tag!H27)","v":4.8271387318301121E-2},{"$f":"LN(Kurse_Tag!I28/Kurse_Tag!I27)","v":2.6112110332605961E-3},null,"Xmtch SLI",0.36749238066741946,0.18082897424018471,1,0.34996497428242868,0.24647459763024879,0.68472006854725143,-0.81303901021194369,-9.0616086822931818E-2]
["2008-10-07",{"$f":"LN(Kurse_Tag!B29/Kurse_Tag!B28)","v":2.0834086902842053E-2},{"$f":"LN(Kurse_Tag!C29/Kurse_Tag!C28)","v":1.0031432083143828E-2},{"$f":"LN(Kurse_Tag!D29/Kurse_Tag!D28)","v":-2.6616997348603679E-3},{"$f":"LN(Kurse_Tag!E29/Kurse_Tag!E28)","v":1.8441926590550321E-2},{"$f":"LN(Kurse_Tag!F29/Kurse_Tag!F28)","v":1.4464420491566713E-2},{"$f":"LN(Kurse_Tag!G29/Kurse_Tag!G28)","v":3.5883021735422054E-4},{"$f":"LN(Kurse_Tag!H29/Kurse_Tag!H28)","v":5.9019831766542819E-3},{"$f":"LN(Kurse_Tag!I29/Kurse_Tag!I28)","v":2.8010463409854396E-2},null,"UBS MSCI Japan",0.2828312456281451,0.17589965087414444,0.34996497428242868,1,0.12492560188143116,0.30821100006656377,-0.31149688781397483,0.11636702152326035]
["2008-10-08",{"$f":"LN(Kurse_Tag!B30/Kurse_Tag!B29)","v":1.495502094874324E-2},{"$f":"LN(Kurse_Tag!C30/Kurse_Tag!C29)","v":3.0412419116288322E-2},{"$f":"LN(Kurse_Tag!D30/Kurse_Tag!D29)","v":-6.6103355371107952E-2},{"$f":"LN(Kurse_Tag!E30/Kurse_Tag!E29)","v":-4.5524062488608727E-2},{"$f":"LN(Kurse_Tag!F30/Kurse_Tag!F29)","v":-3.2282263808360433E-2},{"$f":"LN(Kurse_Tag!G30/Kurse_Tag!G29)","v":-7.5617767697551339E-2},{"$f":"LN(Kurse_Tag!H30/Kurse_Tag!H29)","v":7.4495472806679272E-2},{"$f":"LN(Kurse_Tag!I30/Kurse_Tag!I29)","v":1.4207594439195913E-2},null,"Nestlé",5.331311839533464E-2,8.1380297595256487E-2,0.24647459763024879,0.12492560188143116,1,0.2141135059029701,-0.16881477681698961,-0.21266293983081369]
["2008-10-09",{"$f":"LN(Kurse_Tag!B31/Kurse_Tag!B30)","v":6.2305497506361628E-3},{"$f":"LN(Kurse_Tag!C31/Kurse_Tag!C30)","v":-2.2335332644800657E-2},{"$f":"LN(Kurse_Tag!D31/Kurse_Tag!D30)","v":-2.8769819720467486E-2},{"$f":"LN(Kurse_Tag!E31/Kurse_Tag!E30)","v":-1.3664808901721951E-2},{"$f":"LN(Kurse_Tag!F31/Kurse_Tag!F30)","v":-5.1175028170157608E-2},{"$f":"LN(Kurse_Tag!G31/Kurse_Tag!G30)","v":-3.3843733682260922E-2},{"$f":"LN(Kurse_Tag!H31/Kurse_Tag!H30)","v":3.3688717791723791E-2},{"$f":"LN(Kurse_Tag!I31/Kurse_Tag!I30)","v":8.2692864404842296E-3},null,"DB X-TR-Dax",0.40633188999473357,0.30558788464718273,0.68472006854725143,0.30821100006656377,0.2141135059029701,0.99999999999999978,-0.68827918952430422,-0.13119772622833603]
["2008-10-10",{"$f":"LN(Kurse_Tag!B32/Kurse_Tag!B31)","v":-3.1548357734925897E-2},{"$f":"LN(Kurse_Tag!C32/Kurse_Tag!C31)","v":-7.141778531129162E-3},{"$f":"LN(Kurse_Tag!D32/Kurse_Tag!D31)","v":-6.9277588070266113E-2},{"$f":"LN(Kurse_Tag!E32/Kurse_Tag!E31)","v":-0.12401724981335827},{"$f":"LN(Kurse_Tag!F32/Kurse_Tag!F31)","v":-6.9026660407567594E-2},{"$f":"LN(Kurse_Tag!G32/Kurse_Tag!G31)","v":-6.7326482166164298E-2},{"$f":"LN(Kurse_Tag!H32/Kurse_Tag!H31)","v":4.7548293360458863E-2},{"$f":"LN(Kurse_Tag!I32/Kurse_Tag!I31)","v":-4.7931922054030929E-3},null,"DB Sh. Dax",-0.32640826292844838,-8.8977922497217643E-2,-0.81303901021194369,-0.31149688781397483,-0.16881477681698961,-0.68827918952430422,0.99999999999999978,0.11064729233982261]
["2008-10-13",{"$f":"LN(Kurse_Tag!B33/Kurse_Tag!B32)","v":-9.0514007540831859E-2},{"$f":"LN(Kurse_Tag!C33/Kurse_Tag!C32)","v":-6.2027911982010124E-2},{"$f":"LN(Kurse_Tag!D33/Kurse_Tag!D32)","v":8.3130321087496323E-2},{"$f":"LN(Kurse_Tag!E33/Kurse_Tag!E32)","v":0.112696374188876},{"$f":"LN(Kurse_Tag!F33/Kurse_Tag!F32)","v":7.8442925839083258E-2},{"$f":"LN(Kurse_Tag!G33/Kurse_Tag!G32)","v":9.6127210397639232E-2},{"$f":"LN(Kurse_Tag!H33/Kurse_Tag!H32)","v":-8.7142189992628905E-2},{"$f":"LN(Kurse_Tag!I33/Kurse_Tag!I32)","v":7.2695355598422747E-3},null,"JPY/CHF",-0.14768022336115233,-2.3865982160992914E-2,-9.0616086822931818E-2,0.11636702152326035,-0.21266293983081369,-0.13119772622833603,0.11064729233982261,1]
["2008-10-14",{"$f":"LN(Kurse_Tag!B34/Kurse_Tag!B33)","v":3.6179656577502259E-2},{"$f":"LN(Kurse_Tag!C34/Kurse_Tag!C33)","v":9.5694510161506725E-3},{"$f":"LN(Kurse_Tag!D34/Kurse_Tag!D33)","v":5.4553868886182084E-2},{"$f":"LN(Kurse_Tag!E34/Kurse_Tag!E33)","v":4.8760044141116968E-2},{"$f":"LN(Kurse_Tag!F34/Kurse_Tag!F33)","v":4.8924041939228329E-2},{"$f":"LN(Kurse_Tag!G34/Kurse_Tag!G33)","v":3.189452641591374E-2},{"$f":"LN(Kurse_Tag!H34/Kurse_Tag!H33)","v":-6.3711119843560218E-2},{"$f":"LN(Kurse_Tag!I34/Kurse_Tag!I33)","v":-4.3376334995931728E-3}]
["2008-10-15",{"$f":"LN(Kurse_Tag!B35/Kurse_Tag!B34)","v":-5.3879233676903289E-2},{"$f":"LN(Kurse_Tag!C35/Kurse_Tag!C34)","v":6.5003498689101061E-4},{"$f":"LN(Kurse_Tag!D35/Kurse_Tag!D34)","v":-5.6868684734633468E-2},{"$f":"LN(Kurse_Tag!E35/Kurse_Tag!E34)","v":-6.8562671437296663E-2},{"$f":"LN(Kurse_Tag!F35/Kurse_Tag!F34)","v":-6.784608237044476E-2},{"$f":"LN(Kurse_Tag!G35/Kurse_Tag!G34)","v":-6.8867314326889417E-2},{"$f":"LN(Kurse_Tag!H35/Kurse_Tag!H34)","v":5.6980944801491656E-2},{"$f":"LN(Kurse_Tag!I35/Kurse_Tag!I34)","v":-1.7089844642190748E-2}]
["2008-10-16",{"$f":"LN(Kurse_Tag!B36/Kurse_Tag!B35)","v":-9.1567193525490503E-2},{"$f":"LN(Kurse_Tag!C36/Kurse_Tag!C35)","v":-5.2202631852233033E-2},{"$f":"LN(Kurse_Tag!D36/Kurse_Tag!D35)","v":-5.7226577842565171E-2},{"$f":"LN(Kurse_Tag!E36/Kurse_Tag!E35)","v":-6.3592731978036013E-2},{"$f":"LN(Kurse_Tag!F36/Kurse_Tag!F35)","v":-2.3189444918910441E-2},{"$f":"LN(Kurse_Tag!G36/Kurse_Tag!G35)","v":-6.8618215517613892E-2},{"$f":"LN(Kurse_Tag!H36/Kurse_Tag!H35)","v":2.798128364380487E-2},{"$f":"LN(Kurse_Tag!I36/Kurse_Tag!I35)","v":1.1038927443673728E-2},null,null,"1-Jahr Korrelationen basierend Wochenkurs"]
["2008-10-17",{"$f":"LN(Kurse_Tag!B37/Kurse_Tag!B36)","v":-7.8585866125212706E-3},{"$f":"LN(Kurse_Tag!C37/Kurse_Tag!C36)","v":-1.9906367116802902E-2},{"$f":"LN(Kurse_Tag!D37/Kurse_Tag!D36)","v":2.6635957248612677E-2},{"$f":"LN(Kurse_Tag!E37/Kurse_Tag!E36)","v":3.9432235853099726E-2},{"$f":"LN(Kurse_Tag!F37/Kurse_Tag!F36)","v":7.0750856117849398E-2},{"$f":"LN(Kurse_Tag!G37/Kurse_Tag!G36)","v":2.0392863563140535E-2},{"$f":"LN(Kurse_Tag!H37/Kurse_Tag!H36)","v":1.7656681657035007E-2},{"$f":"LN(Kurse_Tag!I37/Kurse_Tag!I36)","v":1.0476878216606065E-2},null,null,"ZKB Silver","ZKB Gold","Xmtch SLI","UBS MSCI Japan","Nestlé","DB X-TR-Dax","DB Sh. Dax","JPY/CHF"]
["2008-10-20",{"$f":"LN(Kurse_Tag!B38/Kurse_Tag!B37)","v":3.488725900044054E-2},{"$f":"LN(Kurse_Tag!C38/Kurse_Tag!C37)","v":2.3013567959551635E-2},{"$f":"LN(Kurse_Tag!D38/Kurse_Tag!D37)","v":4.4628361178241337E-2},{"$f":"LN(Kurse_Tag!E38/Kurse_Tag!E37)","v":0.10022507821402758},{"$f":"LN(Kurse_Tag!F38/Kurse_Tag!F37)","v":3.0937235287713125E-2},{"$f":"LN(Kurse_Tag!G38/Kurse_Tag!G37)","v":4.1476777279963933E-2},{"$f":"LN(Kurse_Tag!H38/Kurse_Tag!H37)","v":-2.9462032730316105E-2},{"$f":"LN(Kurse_Tag!I38/Kurse_Tag!I37)","v":-1.110185033640829E-2},null,"ZKB Silver",{"$f":"CorrMatrix(Korrelation_Woche!$B$2:'Korrelation_Woche'!$I$50)","v":1.0000000000000002},0.73115569931348801,0.25783155946940844,0.26152813512695611,2.4312991805529458E-2,0.30870195919977339,-0.10715369989114304,-0.13375315904266497]
["2008-10-21",{"$f":"LN(Kurse_Tag!B39/Kurse_Tag!B38)","v":4.6520015634892907E-2},{"$f":"LN(Kurse_Tag!C39/Kurse_Tag!C38)","v":-1.756108764976741E-2},{"$f":"LN(Kurse_Tag!D39/Kurse_Tag!D38)","v":3.7634759594351217E-3},{"$f":"LN(Kurse_Tag!E39/Kurse_Tag!E38)","v":5.9612695164992244E-3},{"$f":"LN(Kurse_Tag!F39/Kurse_Tag!F38)","v":-3.9814252991849219E-3},{"$f":"LN(Kurse_Tag!G39/Kurse_Tag!G38)","v":-1.2949134800475121E-2},{"$f":"LN(Kurse_Tag!H39/Kurse_Tag!H38)","v":3.7393771304177676E-3},{"$f":"LN(Kurse_Tag!I39/Kurse_Tag!I38)","v":5.3571429852628145E-4},null,"ZKB Gold",0.73115569931348801,0.99999999999999989,-5.4187418343439972E-2,-4.12991548152754E-2,-0.16663383165114637,6.8431033369525843E-2,3.6978520350799078E-2,7.1881226508662535E-2]
["2008-10-22",{"$f":"LN(Kurse_Tag!B40/Kurse_Tag!B39)","v":0},{"$f":"LN(Kurse_Tag!C40/Kurse_Tag!C39)","v":-2.5043489786953824E-2},{"$f":"LN(Kurse_Tag!D40/Kurse_Tag!D39)","v":-4.505213937705891E-2},{"$f":"LN(Kurse_Tag!E40/Kurse_Tag!E39)","v":-8.2025851605590505E-2},{"$f":"LN(Kurse_Tag!F40/Kurse_Tag!F39)","v":-4.9056156989194077E-2},{"$f":"LN(Kurse_Tag!G40/Kurse_Tag!G39)","v":-5.2239651885098812E-2},{"$f":"LN(Kurse_Tag!H40/Kurse_Tag!H39)","v":2.8190438590702999E-2},{"$f":"LN(Kurse_Tag!I40/Kurse_Tag!I39)","v":1.5412173980993343E-2},null,"Xmtch SLI",0.25783155946940844,-5.4187418343439972E-2,0.99999999999999989,0.70427421172547633,0.52560354365829753,0.87837178575999975,-0.77031169282314538,-0.45965100692921584]
["2008-10-23",{"$f":"LN(Kurse_Tag!B41/Kurse_Tag!B40)","v":3.6297680505787311E-3},{"$f":"LN(Kurse_Tag!C41/Kurse_Tag!C40)","v":-3.7007337140073988E-2},{"$f":"LN(Kurse_Tag!D41/Kurse_Tag!D40)","v":-2.1666711800783521E-2},{"$f":"LN(Kurse_Tag!E41/Kurse_Tag!E40)","v":2.5479085300984968E-2},{"$f":"LN(Kurse_Tag!F41/Kurse_Tag!F40)","v":3.2970019237569682E-2},{"$f":"LN(Kurse_Tag!G41/Kurse_Tag!G40)","v":-1.3534369443953653E-2},{"$f":"LN(Kurse_Tag!H41/Kurse_Tag!H40)","v":3.8546368769565999E-2},{"$f":"LN(Kurse_Tag!I41/Kurse_Tag!I40)","v":2.6541020177431943E-2},null,"UBS MSCI Japan",0.26152813512695611,-4.12991548152754E-2,0.70427421172547633,0.99999999999999989,0.54447315669670338,0.66766836720854739,-0.52144119696817848,-0.11869466535692354]
["2008-10-24",{"$f":"LN(Kurse_Tag!B42/Kurse_Tag!B41)","v":-0.112025187403559},{"$f":"LN(Kurse_Tag!C42/Kurse_Tag!C41)","v":-2.281140444910644E-2},{"$f":"LN(Kurse_Tag!D42/Kurse_Tag!D41)","v":-5.2331350112857201E-2},{"$f":"LN(Kurse_Tag!E42/Kurse_Tag!E41)","v":-7.5076026440356991E-2},{"$f":"LN(Kurse_Tag!F42/Kurse_Tag!F41)","v":-2.1858793812499073E-2},{"$f":"LN(Kurse_Tag!G42/Kurse_Tag!G41)","v":-9.9274069601424028E-2},{"$f":"LN(Kurse_Tag!H42/Kurse_Tag!H41)","v":1.4908083088285789E-2},{"$f":"LN(Kurse_Tag!I42/Kurse_Tag!I41)","v":2.3349339251658906E-2},null,"Nestlé",2.4312991805529458E-2,-0.16663383165114637,0.52560354365829753,0.54447315669670338,1,0.34338575896391865,-0.27199156435613109,-0.29909751430439419]
["2008-10-27",{"$f":"LN(Kurse_Tag!B43/Kurse_Tag!B42)","v":1.9067311226202945E-2},{"$f":"LN(Kurse_Tag!C43/Kurse_Tag!C42)","v":3.5422847563429526E-2},{"$f":"LN(Kurse_Tag!D43/Kurse_Tag!D42)","v":-2.3106557135678368E-3},{"$f":"LN(Kurse_Tag!E43/Kurse_Tag!E42)","v":-6.1203863273234134E-3},{"$f":"LN(Kurse_Tag!F43/Kurse_Tag!F42)","v":-1.6713480973740556E-2},{"$f":"LN(Kurse_Tag!G43/Kurse_Tag!G42)","v":1.2222731773410737E-2},{"$f":"LN(Kurse_Tag!H43/Kurse_Tag!H42)","v":-6.0669242490011731E-2},{"$f":"LN(Kurse_Tag!I43/Kurse_Tag!I42)","v":3.7018466229845434E-2},null,"DB X-TR-Dax",0.30870195919977339,6.8431033369525843E-2,0.87837178575999975,0.66766836720854739,0.34338575896391865,1.0000000000000002,-0.85130061568807203,-0.42749872578668796]
["2008-10-28",{"$f":"LN(Kurse_Tag!B44/Kurse_Tag!B43)","v":-1.8054652911816706E-2},{"$f":"LN(Kurse_Tag!C44/Kurse_Tag!C43)","v":1.0997178278671508E-2},{"$f":"LN(Kurse_Tag!D44/Kurse_Tag!D43)","v":-1.1764081117240463E-2},{"$f":"LN(Kurse_Tag!E44/Kurse_Tag!E43)","v":-3.2937628197690687E-2},{"$f":"LN(Kurse_Tag!F44/Kurse_Tag!F43)","v":1.8093743442699081E-2},{"$f":"LN(Kurse_Tag!G44/Kurse_Tag!G43)","v":6.1075851424752775E-2},{"$f":"LN(Kurse_Tag!H44/Kurse_Tag!H43)","v":-3.5588946242053145E-2},{"$f":"LN(Kurse_Tag!I44/Kurse_Tag!I43)","v":3.3786533628459518E-3},null,"DB Sh. Dax",-0.10715369989114304,3.6978520350799078E-2,-0.77031169282314538,-0.52144119696817848,-0.27199156435613109,-0.85130061568807203,0.99999999999999989,0.48622817749397657]
["2008-10-29",{"$f":"LN(Kurse_Tag!B45/Kurse_Tag!B44)","v":0.10282694450273347},{"$f":"LN(Kurse_Tag!C45/Kurse_Tag!C44)","v":8.3500212871003305E-3},{"$f":"LN(Kurse_Tag!D45/Kurse_Tag!D44)","v":7.0534811691452634E-2},{"$f":"LN(Kurse_Tag!E45/Kurse_Tag!E44)","v":8.5423935082939662E-2},{"$f":"LN(Kurse_Tag!F45/Kurse_Tag!F44)","v":3.523399690946008E-2},{"$f":"LN(Kurse_Tag!G45/Kurse_Tag!G44)","v":5.9969829866447055E-2},{"$f":"LN(Kurse_Tag!H45/Kurse_Tag!H44)","v":-6.6016436116599159E-2},{"$f":"LN(Kurse_Tag!I45/Kurse_Tag!I44)","v":-1.5620891466504474E-2},null,"JPY/CHF",-0.13375315904266497,7.1881226508662535E-2,-0.45965100692921584,-0.11869466535692354,-0.29909751430439419,-0.42749872578668796,0.48622817749397657,1.0000000000000002]
["2008-10-30",{"$f":"LN(Kurse_Tag!B46/Kurse_Tag!B45)","v":-3.437402983235651E-2},{"$f":"LN(Kurse_Tag!C46/Kurse_Tag!C45)","v":-2.1358066299391562E-2},{"$f":"LN(Kurse_Tag!D46/Kurse_Tag!D45)","v":-1.4552512876249831E-3},{"$f":"LN(Kurse_Tag!E46/Kurse_Tag!E45)","v":4.9252378182745436E-2},{"$f":"LN(Kurse_Tag!F46/Kurse_Tag!F45)","v":-2.653629959706888E-2},{"$f":"LN(Kurse_Tag!G46/Kurse_Tag!G45)","v":3.4656589227477275E-2},{"$f":"LN(Kurse_Tag!H46/Kurse_Tag!H45)","v":-9.0484475958291025E-3},{"$f":"LN(Kurse_Tag!I46/Kurse_Tag!I45)","v":-3.8923832518321017E-2}]
["2008-10-31",{"$f":"LN(Kurse_Tag!B47/Kurse_Tag!B46)","v":3.8929846368217155E-2},{"$f":"LN(Kurse_Tag!C47/Kurse_Tag!C46)","v":-7.9069496596836388E-4},{"$f":"LN(Kurse_Tag!D47/Kurse_Tag!D46)","v":4.4156235580736308E-2},{"$f":"LN(Kurse_Tag!E47/Kurse_Tag!E46)","v":-8.0421095360824479E-3},{"$f":"LN(Kurse_Tag!F47/Kurse_Tag!F46)","v":2.5203854363290156E-2},{"$f":"LN(Kurse_Tag!G47/Kurse_Tag!G46)","v":-1.3774322464829399E-2},{"$f":"LN(Kurse_Tag!H47/Kurse_Tag!H46)","v":-3.1632167717437557E-3},{"$f":"LN(Kurse_Tag!I47/Kurse_Tag!I46)","v":-2.2557669897315322E-2}]
["2008-11-03",{"$f":"LN(Kurse_Tag!B48/Kurse_Tag!B47)","v":5.0689493235204384E-3},{"$f":"LN(Kurse_Tag!C48/Kurse_Tag!C47)","v":2.7388984756920435E-3},{"$f":"LN(Kurse_Tag!D48/Kurse_Tag!D47)","v":1.9547592637408937E-2},{"$f":"LN(Kurse_Tag!E48/Kurse_Tag!E47)","v":3.8683062672872567E-2},{"$f":"LN(Kurse_Tag!F48/Kurse_Tag!F47)","v":2.0238262240991262E-2},{"$f":"LN(Kurse_Tag!G48/Kurse_Tag!G47)","v":2.7766264377724947E-2},{"$f":"LN(Kurse_Tag!H48/Kurse_Tag!H47)","v":1.5442826017051847E-3},{"$f":"LN(Kurse_Tag!I48/Kurse_Tag!I47)","v":2.1794084402274601E-2}]
["2008-11-04",{"$f":"LN(Kurse_Tag!B49/Kurse_Tag!B48)","v":5.1483220181400814E-2},{"$f":"LN(Kurse_Tag!C49/Kurse_Tag!C48)","v":3.6969891138754915E-2},{"$f":"LN(Kurse_Tag!D49/Kurse_Tag!D48)","v":3.7984906149982949E-2},{"$f":"LN(Kurse_Tag!E49/Kurse_Tag!E48)","v":4.1550739975447545E-2},{"$f":"LN(Kurse_Tag!F49/Kurse_Tag!F48)","v":3.1299446719328466E-2},{"$f":"LN(Kurse_Tag!G49/Kurse_Tag!G48)","v":5.9949903485730364E-2},{"$f":"LN(Kurse_Tag!H49/Kurse_Tag!H48)","v":-2.6345084337719687E-2},{"$f":"LN(Kurse_Tag!I49/Kurse_Tag!I48)","v":-6.1297654898696515E-3}]
["2008-11-05",{"$f":"LN(Kurse_Tag!B50/Kurse_Tag!B49)","v":-3.4423441909727901E-3},{"$f":"LN(Kurse_Tag!C50/Kurse_Tag!C49)","v":-1.0714388212406369E-2},{"$f":"LN(Kurse_Tag!D50/Kurse_Tag!D49)","v":-2.8239786535443553E-2},{"$f":"LN(Kurse_Tag!E50/Kurse_Tag!E49)","v":-2.7900676402544011E-2},{"$f":"LN(Kurse_Tag!F50/Kurse_Tag!F49)","v":-1.2316995807038461E-2},{"$f":"LN(Kurse_Tag!G50/Kurse_Tag!G49)","v":7.5940119408695102E-3},{"$f":"LN(Kurse_Tag!H50/Kurse_Tag!H49)","v":6.7893210978443438E-3},{"$f":"LN(Kurse_Tag!I50/Kurse_Tag!I49)","v":8.0799929278501416E-3}]
["2008-11-06",{"$f":"LN(Kurse_Tag!B51/Kurse_Tag!B50)","v":1.709443335930004E-2},{"$f":"LN(Kurse_Tag!C51/Kurse_Tag!C50)","v":-3.5971261808494803E-3},{"$f":"LN(Kurse_Tag!D51/Kurse_Tag!D50)","v":-5.493212684266606E-2},{"$f":"LN(Kurse_Tag!E51/Kurse_Tag!E50)","v":-3.4175987939581952E-2},{"$f":"LN(Kurse_Tag!F51/Kurse_Tag!F50)","v":-2.0726130517116741E-2},{"$f":"LN(Kurse_Tag!G51/Kurse_Tag!G50)","v":-9.5310179804325018E-2},{"$f":"LN(Kurse_Tag!H51/Kurse_Tag!H50)","v":3.3956624903419247E-2},{"$f":"LN(Kurse_Tag!I51/Kurse_Tag!I50)","v":-5.2658521545321524E-3}]
["2008-11-07",{"$f":"LN(Kurse_Tag!B52/Kurse_Tag!B51)","v":-3.0109801471370455E-2},{"$f":"LN(Kurse_Tag!C52/Kurse_Tag!C51)","v":-2.7063615977429142E-3},{"$f":"LN(Kurse_Tag!D52/Kurse_Tag!D51)","v":1.6658191335004718E-2},{"$f":"LN(Kurse_Tag!E52/Kurse_Tag!E51)","v":-1.1656573703100991E-2},{"$f":"LN(Kurse_Tag!F52/Kurse_Tag!F51)","v":1.6443468725116019E-2},{"$f":"LN(Kurse_Tag!G52/Kurse_Tag!G51)","v":1.3637514201397031E-2},{"$f":"LN(Kurse_Tag!H52/Kurse_Tag!H51)","v":1.1343134326244361E-2},{"$f":"LN(Kurse_Tag!I52/Kurse_Tag!I51)","v":1.3869144086093882E-2}]
["2008-11-10",{"$f":"LN(Kurse_Tag!B53/Kurse_Tag!B52)","v":9.5611332439828438E-3},{"$f":"LN(Kurse_Tag!C53/Kurse_Tag!C52)","v":1.8725121192985483E-2},{"$f":"LN(Kurse_Tag!D53/Kurse_Tag!D52)","v":1.3383964697384032E-2},{"$f":"LN(Kurse_Tag!E53/Kurse_Tag!E52)","v":5.3758626915103601E-2},{"$f":"LN(Kurse_Tag!F53/Kurse_Tag!F52)","v":1.0247741260475632E-2},{"$f":"LN(Kurse_Tag!G53/Kurse_Tag!G52)","v":3.0319643771594754E-2},{"$f":"LN(Kurse_Tag!H53/Kurse_Tag!H52)","v":-2.2585652648749153E-2},{"$f":"LN(Kurse_Tag!I53/Kurse_Tag!I52)","v":7.530156063753189E-3}]
["2008-11-11",{"$f":"LN(Kurse_Tag!B54/Kurse_Tag!B53)","v":-5.4211406981721562E-2},{"$f":"LN(Kurse_Tag!C54/Kurse_Tag!C53)","v":-2.5796132433537421E-2},{"$f":"LN(Kurse_Tag!D54/Kurse_Tag!D53)","v":-4.7467340065193313E-2},{"$f":"LN(Kurse_Tag!E54/Kurse_Tag!E53)","v":-6.9619634277760731E-2},{"$f":"LN(Kurse_Tag!F54/Kurse_Tag!F53)","v":-2.3206885902980898E-2},{"$f":"LN(Kurse_Tag!G54/Kurse_Tag!G53)","v":-6.5689523965072077E-2},{"$f":"LN(Kurse_Tag!H54/Kurse_Tag!H53)","v":4.0618928218409997E-2},{"$f":"LN(Kurse_Tag!I54/Kurse_Tag!I53)","v":-9.211252534303804E-3}]
["2008-11-12",{"$f":"LN(Kurse_Tag!B55/Kurse_Tag!B54)","v":-3.0600440448717039E-2},{"$f":"LN(Kurse_Tag!C55/Kurse_Tag!C54)","v":-1.614121617938525E-2},{"$f":"LN(Kurse_Tag!D55/Kurse_Tag!D54)","v":-4.1458637915362077E-2},{"$f":"LN(Kurse_Tag!E55/Kurse_Tag!E54)","v":-6.2893289075639904E-3},{"$f":"LN(Kurse_Tag!F55/Kurse_Tag!F54)","v":-2.197890671877523E-2},{"$f":"LN(Kurse_Tag!G55/Kurse_Tag!G54)","v":-4.6418775442450037E-2},{"$f":"LN(Kurse_Tag!H55/Kurse_Tag!H54)","v":-1.4280644327091597E-2},{"$f":"LN(Kurse_Tag!I55/Kurse_Tag!I54)","v":1.4614649030307791E-2}]
["2008-11-13",{"$f":"LN(Kurse_Tag!B56/Kurse_Tag!B55)","v":-8.5106896679086191E-3},{"$f":"LN(Kurse_Tag!C56/Kurse_Tag!C55)","v":9.9613156191285749E-3},{"$f":"LN(Kurse_Tag!D56/Kurse_Tag!D55)","v":4.7901263910402978E-3},{"$f":"LN(Kurse_Tag!E56/Kurse_Tag!E55)","v":1.7821325180635676E-2},{"$f":"LN(Kurse_Tag!F56/Kurse_Tag!F55)","v":4.4434570826645131E-4},{"$f":"LN(Kurse_Tag!G56/Kurse_Tag!G55)","v":3.8449471845075398E-2},{"$f":"LN(Kurse_Tag!H56/Kurse_Tag!H55)","v":4.2100673253553031E-2},{"$f":"LN(Kurse_Tag!I56/Kurse_Tag!I55)","v":1.2031459513306241E-2}]
["2008-11-14",{"$f":"LN(Kurse_Tag!B57/Kurse_Tag!B56)","v":3.9111130116625696E-2},{"$f":"LN(Kurse_Tag!C57/Kurse_Tag!C56)","v":3.3814890798557845E-2},{"$f":"LN(Kurse_Tag!D57/Kurse_Tag!D56)","v":1.2372837963570854E-2},{"$f":"LN(Kurse_Tag!E57/Kurse_Tag!E56)","v":-2.4150460232283212E-2},{"$f":"LN(Kurse_Tag!F57/Kurse_Tag!F56)","v":1.1923303100395207E-2},{"$f":"LN(Kurse_Tag!G57/Kurse_Tag!G56)","v":1.4890723982466453E-2},{"$f":"LN(Kurse_Tag!H57/Kurse_Tag!H56)","v":-5.2569162938009267E-3},{"$f":"LN(Kurse_Tag!I57/Kurse_Tag!I56)","v":1.9388155476739347E-2}]
["2008-11-17",{"$f":"LN(Kurse_Tag!B58/Kurse_Tag!B57)","v":-1.8433701688838022E-2},{"$f":"LN(Kurse_Tag!C58/Kurse_Tag!C57)","v":-1.7714796483820044E-3},{"$f":"LN(Kurse_Tag!D58/Kurse_Tag!D57)","v":-2.4264186181575706E-2},{"$f":"LN(Kurse_Tag!E58/Kurse_Tag!E57)","v":2.3530497410194036E-2},{"$f":"LN(Kurse_Tag!F58/Kurse_Tag!F57)","v":-2.0847949574595018E-2},{"$f":"LN(Kurse_Tag!G58/Kurse_Tag!G57)","v":-2.8557051908742109E-2},{"$f":"LN(Kurse_Tag!H58/Kurse_Tag!H57)","v":1.9731838353382943E-2},{"$f":"LN(Kurse_Tag!I58/Kurse_Tag!I57)","v":-8.4715501199653723E-3}]
["2008-11-18",{"$f":"LN(Kurse_Tag!B59/Kurse_Tag!B58)","v":1.1100946559446193E-2},{"$f":"LN(Kurse_Tag!C59/Kurse_Tag!C58)","v":3.8931211797403626E-3},{"$f":"LN(Kurse_Tag!D59/Kurse_Tag!D58)","v":-5.8711081218354453E-3},{"$f":"LN(Kurse_Tag!E59/Kurse_Tag!E58)","v":-1.2794682265599223E-2},{"$f":"LN(Kurse_Tag!F59/Kurse_Tag!F58)","v":1.4683244890541017E-2},{"$f":"LN(Kurse_Tag!G59/Kurse_Tag!G58)","v":3.1814921991033729E-3},{"$f":"LN(Kurse_Tag!H59/Kurse_Tag!H58)","v":1.71952161053795E-2},{"$f":"LN(Kurse_Tag!I59/Kurse_Tag!I58)","v":2.8318316590101962E-3}]
["2008-11-19",{"$f":"LN(Kurse_Tag!B60/Kurse_Tag!B59)","v":2.8119766593835097E-2},{"$f":"LN(Kurse_Tag!C60/Kurse_Tag!C59)","v":1.0890675004496642E-2},{"$f":"LN(Kurse_Tag!D60/Kurse_Tag!D59)","v":-3.7696018436347956E-2},{"$f":"LN(Kurse_Tag!E60/Kurse_Tag!E59)","v":-2.6736156491035994E-2},{"$f":"LN(Kurse_Tag!F60/Kurse_Tag!F59)","v":-5.7585984163412403E-3},{"$f":"LN(Kurse_Tag!G60/Kurse_Tag!G59)","v":-3.7063065651048131E-2},{"$f":"LN(Kurse_Tag!H60/Kurse_Tag!H59)","v":3.7825372186555843E-2},{"$f":"LN(Kurse_Tag!I60/Kurse_Tag!I59)","v":3.3876464080100327E-3}]
["2008-11-20",{"$f":"LN(Kurse_Tag!B61/Kurse_Tag!B60)","v":-6.5612442844507637E-2},{"$f":"LN(Kurse_Tag!C61/Kurse_Tag!C60)","v":1.7875613193629319E-2},{"$f":"LN(Kurse_Tag!D61/Kurse_Tag!D60)","v":-3.917286104817836E-2},{"$f":"LN(Kurse_Tag!E61/Kurse_Tag!E60)","v":-3.2789822822990838E-2},{"$f":"LN(Kurse_Tag!F61/Kurse_Tag!F60)","v":-4.3119908877844629E-2},{"$f":"LN(Kurse_Tag!G61/Kurse_Tag!G60)","v":-3.9268661560803914E-2},{"$f":"LN(Kurse_Tag!H61/Kurse_Tag!H60)","v":4.7369357902369222E-2},{"$f":"LN(Kurse_Tag!I61/Kurse_Tag!I60)","v":3.9378039391950786E-3}]
["2008-11-21",{"$f":"LN(Kurse_Tag!B62/Kurse_Tag!B61)","v":6.7399753418603381E-2},{"$f":"LN(Kurse_Tag!C62/Kurse_Tag!C61)","v":5.0129115920428118E-2},{"$f":"LN(Kurse_Tag!D62/Kurse_Tag!D61)","v":-3.3310647766146596E-2},{"$f":"LN(Kurse_Tag!E62/Kurse_Tag!E61)","v":2.3065272930995969E-2},{"$f":"LN(Kurse_Tag!F62/Kurse_Tag!F61)","v":-3.0612232600254082E-2},{"$f":"LN(Kurse_Tag!G62/Kurse_Tag!G61)","v":-3.1502407131816179E-2},{"$f":"LN(Kurse_Tag!H62/Kurse_Tag!H61)","v":3.7008739301915498E-2},{"$f":"LN(Kurse_Tag!I62/Kurse_Tag!I61)","v":2.0796050664224516E-2}]
["2008-11-24",{"$f":"LN(Kurse_Tag!B63/Kurse_Tag!B62)","v":9.1243480421771203E-2},{"$f":"LN(Kurse_Tag!C63/Kurse_Tag!C62)","v":2.8828970314607131E-2},{"$f":"LN(Kurse_Tag!D63/Kurse_Tag!D62)","v":6.7820253411531251E-2},{"$f":"LN(Kurse_Tag!E63/Kurse_Tag!E62)","v":6.5250808117571835E-2},{"$f":"LN(Kurse_Tag!F63/Kurse_Tag!F62)","v":2.1760555890514021E-2},{"$f":"LN(Kurse_Tag!G63/Kurse_Tag!G62)","v":0.11100553674229641},{"$f":"LN(Kurse_Tag!H63/Kurse_Tag!H62)","v":-8.7397727078004556E-2},{"$f":"LN(Kurse_Tag!I63/Kurse_Tag!I62)","v":1.9619390244595193E-3}]
["2008-11-25",{"$f":"LN(Kurse_Tag!B64/Kurse_Tag!B63)","v":-5.3569292192247028E-2},{"$f":"LN(Kurse_Tag!C64/Kurse_Tag!C63)","v":-2.5638270494139064E-2},{"$f":"LN(Kurse_Tag!D64/Kurse_Tag!D63)","v":3.9539120707366156E-2},{"$f":"LN(Kurse_Tag!E64/Kurse_Tag!E63)","v":-3.4775314120538151E-2},{"$f":"LN(Kurse_Tag!F64/Kurse_Tag!F63)","v":-2.0326863888665444E-2},{"$f":"LN(Kurse_Tag!G64/Kurse_Tag!G63)","v":1.6132836155351323E-2},{"$f":"LN(Kurse_Tag!H64/Kurse_Tag!H63)","v":-2.3114557299572593E-2},{"$f":"LN(Kurse_Tag!I64/Kurse_Tag!I63)","v":-5.1878751789971745E-3}]
["2008-11-26",{"$f":"LN(Kurse_Tag!B65/Kurse_Tag!B64)","v":1.8739901050567231E-2},{"$f":"LN(Kurse_Tag!C65/Kurse_Tag!C64)","v":1.5386086285737432E-2},{"$f":"LN(Kurse_Tag!D65/Kurse_Tag!D64)","v":-1.9050663621909894E-2},{"$f":"LN(Kurse_Tag!E65/Kurse_Tag!E64)","v":1.7228303960177566E-2},{"$f":"LN(Kurse_Tag!F65/Kurse_Tag!F64)","v":-1.2494155802162539E-2},{"$f":"LN(Kurse_Tag!G65/Kurse_Tag!G64)","v":-1.4694607804459471E-2},{"$f":"LN(Kurse_Tag!H65/Kurse_Tag!H64)","v":2.0611481017400969E-3},{"$f":"LN(Kurse_Tag!I65/Kurse_Tag!I64)","v":-2.0220399159409548E-2}]
["2008-11-27",{"$f":"LN(Kurse_Tag!B66/Kurse_Tag!B65)","v":9.2398809413454606E-3},{"$f":"LN(Kurse_Tag!C66/Kurse_Tag!C65)","v":-5.0884809690798817E-3},{"$f":"LN(Kurse_Tag!D66/Kurse_Tag!D65)","v":3.4843146702485374E-2},{"$f":"LN(Kurse_Tag!E66/Kurse_Tag!E65)","v":-3.4437141640817029E-2},{"$f":"LN(Kurse_Tag!F66/Kurse_Tag!F65)","v":2.7660323273573612E-2},{"$f":"LN(Kurse_Tag!G66/Kurse_Tag!G65)","v":3.5438168692691327E-2},{"$f":"LN(Kurse_Tag!H66/Kurse_Tag!H65)","v":-2.6638567877264881E-2},{"$f":"LN(Kurse_Tag!I66/Kurse_Tag!I65)","v":7.3712376066869915E-3}]
["2008-11-28",{"$f":"LN(Kurse_Tag!B67/Kurse_Tag!B66)","v":-9.2398809413455352E-3},{"$f":"LN(Kurse_Tag!C67/Kurse_Tag!C66)","v":1.7874717848038624E-2},{"$f":"LN(Kurse_Tag!D67/Kurse_Tag!D66)","v":1.5795740227642418E-2},{"$f":"LN(Kurse_Tag!E67/Kurse_Tag!E66)","v":6.1701811023975345E-2},{"$f":"LN(Kurse_Tag!F67/Kurse_Tag!F66)","v":3.2850513482716767E-2},{"$f":"LN(Kurse_Tag!G67/Kurse_Tag!G66)","v":-1.8056337716813243E-2},{"$f":"LN(Kurse_Tag!H67/Kurse_Tag!H66)","v":9.680210270954866E-3},{"$f":"LN(Kurse_Tag!I67/Kurse_Tag!I66)","v":5.0165331942009662E-3}]
["2008-12-01",{"$f":"LN(Kurse_Tag!B68/Kurse_Tag!B67)","v":-8.9084871569640095E-2},{"$f":"LN(Kurse_Tag!C68/Kurse_Tag!C67)","v":-5.7623750891966231E-2},{"$f":"LN(Kurse_Tag!D68/Kurse_Tag!D67)","v":-4.580953603129434E-2},{"$f":"LN(Kurse_Tag!E68/Kurse_Tag!E67)","v":-5.2423229019313275E-2},{"$f":"LN(Kurse_Tag!F68/Kurse_Tag!F67)","v":-2.4886076911033197E-2},{"$f":"LN(Kurse_Tag!G68/Kurse_Tag!G67)","v":-5.8155920157074069E-2},{"$f":"LN(Kurse_Tag!H68/Kurse_Tag!H67)","v":3.3296365678904184E-2},{"$f":"LN(Kurse_Tag!I68/Kurse_Tag!I67)","v":9.643581178158861E-3}]
["2008-12-02",{"$f":"LN(Kurse_Tag!B69/Kurse_Tag!B68)","v":3.26707822895487E-2},{"$f":"LN(Kurse_Tag!C69/Kurse_Tag!C68)","v":9.0075671580824492E-3},{"$f":"LN(Kurse_Tag!D69/Kurse_Tag!D68)","v":5.3243421670979545E-3},{"$f":"LN(Kurse_Tag!E69/Kurse_Tag!E68)","v":-2.2317879501073746E-3},{"$f":"LN(Kurse_Tag!F69/Kurse_Tag!F68)","v":-3.7400698108519762E-3},{"$f":"LN(Kurse_Tag!G69/Kurse_Tag!G68)","v":3.9479776783635866E-2},{"$f":"LN(Kurse_Tag!H69/Kurse_Tag!H68)","v":-2.5993255493927753E-2},{"$f":"LN(Kurse_Tag!I69/Kurse_Tag!I68)","v":6.8206136392398205E-3}]
["2008-12-03",{"$f":"LN(Kurse_Tag!B70/Kurse_Tag!B69)","v":2.6749904493030552E-3},{"$f":"LN(Kurse_Tag!C70/Kurse_Tag!C69)","v":2.9084200465448358E-3},{"$f":"LN(Kurse_Tag!D70/Kurse_Tag!D69)","v":-1.0284540301970468E-2},{"$f":"LN(Kurse_Tag!E70/Kurse_Tag!E69)","v":3.9736183408561672E-2},{"$f":"LN(Kurse_Tag!F70/Kurse_Tag!F69)","v":-5.6364639594689058E-3},{"$f":"LN(Kurse_Tag!G70/Kurse_Tag!G69)","v":1.130440599266049E-2},{"$f":"LN(Kurse_Tag!H70/Kurse_Tag!H69)","v":1.1026989748914629E-2},{"$f":"LN(Kurse_Tag!I70/Kurse_Tag!I69)","v":9.2546447366264328E-3}]
["2008-12-04",{"$f":"LN(Kurse_Tag!B71/Kurse_Tag!B70)","v":-1.4350022029806335E-2},{"$f":"LN(Kurse_Tag!C71/Kurse_Tag!C70)","v":-1.1915987204627115E-2},{"$f":"LN(Kurse_Tag!D71/Kurse_Tag!D70)","v":3.2570298682897132E-2},{"$f":"LN(Kurse_Tag!E71/Kurse_Tag!E70)","v":-4.5177067370114524E-2},{"$f":"LN(Kurse_Tag!F71/Kurse_Tag!F70)","v":2.8222031902234252E-3},{"$f":"LN(Kurse_Tag!G71/Kurse_Tag!G70)","v":4.2677289217358535E-4},{"$f":"LN(Kurse_Tag!H71/Kurse_Tag!H70)","v":-6.1877131081656458E-3},{"$f":"LN(Kurse_Tag!I71/Kurse_Tag!I70)","v":6.0968739891703082E-3}]
["2008-12-05",{"$f":"LN(Kurse_Tag!B72/Kurse_Tag!B71)","v":-1.9152432214756123E-2},{"$f":"LN(Kurse_Tag!C72/Kurse_Tag!C71)","v":-2.4994769495225284E-2},{"$f":"LN(Kurse_Tag!D72/Kurse_Tag!D71)","v":-3.126259612959905E-2},{"$f":"LN(Kurse_Tag!E72/Kurse_Tag!E71)","v":-1.324522675002068E-2},{"$f":"LN(Kurse_Tag!F72/Kurse_Tag!F71)","v":-1.9924757816278581E-2},{"$f":"LN(Kurse_Tag!G72/Kurse_Tag!G71)","v":-4.9565603416344417E-2},{"$f":"LN(Kurse_Tag!H72/Kurse_Tag!H71)","v":2.654119726938893E-2},{"$f":"LN(Kurse_Tag!I72/Kurse_Tag!I71)","v":9.9973092496271308E-4}]
["2008-12-08",{"$f":"LN(Kurse_Tag!B73/Kurse_Tag!B72)","v":8.555236348450608E-2},{"$f":"LN(Kurse_Tag!C73/Kurse_Tag!C72)","v":2.432430349625752E-2},{"$f":"LN(Kurse_Tag!D73/Kurse_Tag!D72)","v":5.8007504384413919E-2},{"$f":"LN(Kurse_Tag!E73/Kurse_Tag!E72)","v":8.2366459703036354E-2},{"$f":"LN(Kurse_Tag!F73/Kurse_Tag!F72)","v":2.1332878208534349E-2},{"$f":"LN(Kurse_Tag!G73/Kurse_Tag!G72)","v":0.10004075636208336},{"$f":"LN(Kurse_Tag!H73/Kurse_Tag!H72)","v":-6.3419827654754832E-2},{"$f":"LN(Kurse_Tag!I73/Kurse_Tag!I72)","v":1.1235643859287287E-2}]
["2008-12-09",{"$f":"LN(Kurse_Tag!B74/Kurse_Tag!B73)","v":-3.4397200183576102E-2},{"$f":"LN(Kurse_Tag!C74/Kurse_Tag!C73)","v":-3.7124493540783066E-3},{"$f":"LN(Kurse_Tag!D74/Kurse_Tag!D73)","v":2.0264365300706317E-2},{"$f":"LN(Kurse_Tag!E74/Kurse_Tag!E73)","v":1.9279849749610237E-2},{"$f":"LN(Kurse_Tag!F74/Kurse_Tag!F73)","v":3.745322730161892E-3},{"$f":"LN(Kurse_Tag!G74/Kurse_Tag!G73)","v":1.8223738956451435E-2},{"$f":"LN(Kurse_Tag!H74/Kurse_Tag!H73)","v":-1.521353110592899E-2},{"$f":"LN(Kurse_Tag!I74/Kurse_Tag!I73)","v":-7.8593361706755464E-3}]
["2008-12-10",{"$f":"LN(Kurse_Tag!B75/Kurse_Tag!B74)","v":2.0779968491745435E-2},{"$f":"LN(Kurse_Tag!C75/Kurse_Tag!C74)","v":3.3977506537437738E-2},{"$f":"LN(Kurse_Tag!D75/Kurse_Tag!D74)","v":-1.460768519014944E-2},{"$f":"LN(Kurse_Tag!E75/Kurse_Tag!E74)","v":-2.3481536603310194E-2},{"$f":"LN(Kurse_Tag!F75/Kurse_Tag!F74)","v":-2.4599159013367785E-2},{"$f":"LN(Kurse_Tag!G75/Kurse_Tag!G74)","v":-1.430983963531534E-2},{"$f":"LN(Kurse_Tag!H75/Kurse_Tag!H74)","v":2.4671661886829319E-3},{"$f":"LN(Kurse_Tag!I75/Kurse_Tag!I74)","v":5.3609038235843216E-4}]
["2008-12-11",{"$f":"LN(Kurse_Tag!B76/Kurse_Tag!B75)","v":2.3709832079054999E-2},{"$f":"LN(Kurse_Tag!C76/Kurse_Tag!C75)","v":1.8119416452104364E-2},{"$f":"LN(Kurse_Tag!D76/Kurse_Tag!D75)","v":-4.6706082939385347E-3},{"$f":"LN(Kurse_Tag!E76/Kurse_Tag!E75)","v":-4.5214847188458961E-3},{"$f":"LN(Kurse_Tag!F76/Kurse_Tag!F75)","v":-1.4378147696273605E-3},{"$f":"LN(Kurse_Tag!G76/Kurse_Tag!G75)","v":1.3512815151039961E-2},{"$f":"LN(Kurse_Tag!H76/Kurse_Tag!H75)","v":6.5735058101648782E-3},{"$f":"LN(Kurse_Tag!I76/Kurse_Tag!I75)","v":-4.9121289959327573E-3}]
["2008-12-12",{"$f":"LN(Kurse_Tag!B77/Kurse_Tag!B76)","v":-2.1997502893542641E-2},{"$f":"LN(Kurse_Tag!C77/Kurse_Tag!C76)","v":-7.3210595671001572E-3},{"$f":"LN(Kurse_Tag!D77/Kurse_Tag!D76)","v":-2.2173305036062359E-2},{"$f":"LN(Kurse_Tag!E77/Kurse_Tag!E76)","v":-1.7677997703407271E-2},{"$f":"LN(Kurse_Tag!F77/Kurse_Tag!F76)","v":-9.6386288377688575E-3},{"$f":"LN(Kurse_Tag!G77/Kurse_Tag!G76)","v":-2.1355992612065968E-2},{"$f":"LN(Kurse_Tag!H77/Kurse_Tag!H76)","v":3.293148907379826E-2},{"$f":"LN(Kurse_Tag!I77/Kurse_Tag!I76)","v":-4.0089483959504305E-3}]
["2008-12-15",{"$f":"LN(Kurse_Tag!B78/Kurse_Tag!B77)","v":1.8644607883231589E-2},{"$f":"LN(Kurse_Tag!C78/Kurse_Tag!C77)","v":-3.219056844150634E-4},{"$f":"LN(Kurse_Tag!D78/Kurse_Tag!D77)","v":-7.3325233714638177E-3},{"$f":"LN(Kurse_Tag!E78/Kurse_Tag!E77)","v":1.4652276786870196E-2},{"$f":"LN(Kurse_Tag!F78/Kurse_Tag!F77)","v":-1.2180418556871072E-2},{"$f":"LN(Kurse_Tag!G78/Kurse_Tag!G77)","v":-8.1488528208870157E-4},{"$f":"LN(Kurse_Tag!H78/Kurse_Tag!H77)","v":-5.1686920964417191E-3},{"$f":"LN(Kurse_Tag!I78/Kurse_Tag!I77)","v":-3.1722723805932013E-3}]
["2008-12-16",{"$f":"LN(Kurse_Tag!B79/Kurse_Tag!B78)","v":-1.0975205143768135E-2},{"$f":"LN(Kurse_Tag!C79/Kurse_Tag!C78)","v":-1.8085943238706673E-2},{"$f":"LN(Kurse_Tag!D79/Kurse_Tag!D78)","v":6.5764749483532489E-3},{"$f":"LN(Kurse_Tag!E79/Kurse_Tag!E78)","v":-3.077165866675366E-2},{"$f":"LN(Kurse_Tag!F79/Kurse_Tag!F78)","v":4.8899852941917702E-3},{"$f":"LN(Kurse_Tag!G79/Kurse_Tag!G78)","v":1.0810916104215676E-2},{"$f":"LN(Kurse_Tag!H79/Kurse_Tag!H78)","v":-1.3394631000849543E-2},{"$f":"LN(Kurse_Tag!I79/Kurse_Tag!I78)","v":-1.7839834089569868E-3}]
["2008-12-17",{"$f":"LN(Kurse_Tag!B80/Kurse_Tag!B79)","v":1.0135221894043148E-2},{"$f":"LN(Kurse_Tag!C80/Kurse_Tag!C79)","v":-6.357183412122552E-3},{"$f":"LN(Kurse_Tag!D80/Kurse_Tag!D79)","v":6.9091412337028745E-3},{"$f":"LN(Kurse_Tag!E80/Kurse_Tag!E79)","v":-2.6921657566264443E-2},{"$f":"LN(Kurse_Tag!F80/Kurse_Tag!F79)","v":-5.3803015579986912E-3},{"$f":"LN(Kurse_Tag!G80/Kurse_Tag!G79)","v":-1.6943814372912907E-2},{"$f":"LN(Kurse_Tag!H80/Kurse_Tag!H79)","v":-3.5549273129238338E-3},{"$f":"LN(Kurse_Tag!I80/Kurse_Tag!I79)","v":-8.1849465012396247E-3}]
["2008-12-18",{"$f":"LN(Kurse_Tag!B81/Kurse_Tag!B80)","v":-4.5560092355038981E-2},{"$f":"LN(Kurse_Tag!C81/Kurse_Tag!C80)","v":-4.0739516892264932E-2},{"$f":"LN(Kurse_Tag!D81/Kurse_Tag!D80)","v":-7.9180957902243772E-3},{"$f":"LN(Kurse_Tag!E81/Kurse_Tag!E80)","v":-2.5688292706032893E-2},{"$f":"LN(Kurse_Tag!F81/Kurse_Tag!F80)","v":-6.3960857658264449E-3},{"$f":"LN(Kurse_Tag!G81/Kurse_Tag!G80)","v":3.0030052597695561E-3},{"$f":"LN(Kurse_Tag!H81/Kurse_Tag!H80)","v":-2.743854445502111E-2},{"$f":"LN(Kurse_Tag!I81/Kurse_Tag!I80)","v":-1.9043679302454562E-2}]
["2008-12-19",{"$f":"LN(Kurse_Tag!B82/Kurse_Tag!B81)","v":2.2609658768128482E-2},{"$f":"LN(Kurse_Tag!C82/Kurse_Tag!C81)","v":2.3770219333911852E-2},{"$f":"LN(Kurse_Tag!D82/Kurse_Tag!D81)","v":-5.5675203918317626E-3},{"$f":"LN(Kurse_Tag!E82/Kurse_Tag!E81)","v":3.1769284400445554E-2},{"$f":"LN(Kurse_Tag!F82/Kurse_Tag!F81)","v":6.8864020296332618E-3},{"$f":"LN(Kurse_Tag!G82/Kurse_Tag!G81)","v":-9.5452383329720672E-4},{"$f":"LN(Kurse_Tag!H82/Kurse_Tag!H81)","v":3.6536394315790318E-3},{"$f":"LN(Kurse_Tag!I82/Kurse_Tag!I81)","v":-3.4328034915163744E-2}]
["2008-12-22",{"$f":"LN(Kurse_Tag!B83/Kurse_Tag!B82)","v":-1.2981575639152722E-2},{"$f":"LN(Kurse_Tag!C83/Kurse_Tag!C82)","v":-4.3719592086283055E-3},{"$f":"LN(Kurse_Tag!D83/Kurse_Tag!D82)","v":-1.0844017726198285E-2},{"$f":"LN(Kurse_Tag!E83/Kurse_Tag!E82)","v":7.9453778861191416E-3},{"$f":"LN(Kurse_Tag!F83/Kurse_Tag!F82)","v":9.7991188634900892E-4},{"$f":"LN(Kurse_Tag!G83/Kurse_Tag!G82)","v":-2.2069861287031051E-2},{"$f":"LN(Kurse_Tag!H83/Kurse_Tag!H82)","v":1.3763346562423137E-2},{"$f":"LN(Kurse_Tag!I83/Kurse_Tag!I82)","v":2.1239158127730116E-2}]
["2008-12-23",{"$f":"LN(Kurse_Tag!B84/Kurse_Tag!B83)","v":-6.0134759240303474E-2},{"$f":"LN(Kurse_Tag!C84/Kurse_Tag!C83)","v":-2.1462244346135102E-2},{"$f":"LN(Kurse_Tag!D84/Kurse_Tag!D83)","v":3.84738703046628E-4},{"$f":"LN(Kurse_Tag!E84/Kurse_Tag!E83)","v":-5.0643732818754915E-2},{"$f":"LN(Kurse_Tag!F84/Kurse_Tag!F83)","v":-1.9607849419408748E-3},{"$f":"LN(Kurse_Tag!G84/Kurse_Tag!G83)","v":-2.7932979056127108E-3},{"$f":"LN(Kurse_Tag!H84/Kurse_Tag!H83)","v":-1.0559149239001741E-2},{"$f":"LN(Kurse_Tag!I84/Kurse_Tag!I83)","v":-1.1135157928188148E-2}]
["2008-12-29",{"$f":"LN(Kurse_Tag!B85/Kurse_Tag!B84)","v":1.6514136764413014E-2},{"$f":"LN(Kurse_Tag!C85/Kurse_Tag!C84)","v":8.2304991365154435E-3},{"$f":"LN(Kurse_Tag!D85/Kurse_Tag!D84)","v":2.3053288898324175E-3},{"$f":"LN(Kurse_Tag!E85/Kurse_Tag!E84)","v":-9.9950033308361034E-4},{"$f":"LN(Kurse_Tag!F85/Kurse_Tag!F84)","v":1.0737048000956656E-2},{"$f":"LN(Kurse_Tag!G85/Kurse_Tag!G84)","v":-2.1630870942156599E-2},{"$f":"LN(Kurse_Tag!H85/Kurse_Tag!H84)","v":-2.0642008123933669E-2},{"$f":"LN(Kurse_Tag!I85/Kurse_Tag!I84)","v":-3.5946960447703014E-2}]
["2008-12-30",{"$f":"LN(Kurse_Tag!B86/Kurse_Tag!B85)","v":2.3382360234899233E-2},{"$f":"LN(Kurse_Tag!C86/Kurse_Tag!C85)","v":1.6482310844907024E-3},{"$f":"LN(Kurse_Tag!D86/Kurse_Tag!D85)","v":1.6871079428047241E-2},{"$f":"LN(Kurse_Tag!E86/Kurse_Tag!E85)","v":8.9597413714718015E-3},{"$f":"LN(Kurse_Tag!F86/Kurse_Tag!F85)","v":9.6619109117368901E-3},{"$f":"LN(Kurse_Tag!G86/Kurse_Tag!G85)","v":2.8043830324526911E-2},{"$f":"LN(Kurse_Tag!H86/Kurse_Tag!H85)","v":-2.4722302038743701E-2},{"$f":"LN(Kurse_Tag!I86/Kurse_Tag!I85)","v":-1.1417983622961571E-2}]
["2009-01-05",{"$f":"LN(Kurse_Tag!B87/Kurse_Tag!B86)","v":3.5796052271917234E-2},{"$f":"LN(Kurse_Tag!C87/Kurse_Tag!C86)","v":1.8432269312515341E-2},{"$f":"LN(Kurse_Tag!D87/Kurse_Tag!D86)","v":4.3083586136311698E-2},{"$f":"LN(Kurse_Tag!E87/Kurse_Tag!E86)","v":5.3702019753239107E-2},{"$f":"LN(Kurse_Tag!F87/Kurse_Tag!F86)","v":1.9048194970694411E-2},{"$f":"LN(Kurse_Tag!G87/Kurse_Tag!G86)","v":4.0176983877459264E-2},{"$f":"LN(Kurse_Tag!H87/Kurse_Tag!H86)","v":-2.8083931785578164E-2},{"$f":"LN(Kurse_Tag!I87/Kurse_Tag!I86)","v":8.5332030715549439E-3}]
["2009-01-06",{"$f":"LN(Kurse_Tag!B88/Kurse_Tag!B87)","v":3.2900479014317766E-2},{"$f":"LN(Kurse_Tag!C88/Kurse_Tag!C87)","v":1.4779494375406734E-2},{"$f":"LN(Kurse_Tag!D88/Kurse_Tag!D87)","v":1.197619104671562E-2},{"$f":"LN(Kurse_Tag!E88/Kurse_Tag!E87)","v":7.175198464068615E-3},{"$f":"LN(Kurse_Tag!F88/Kurse_Tag!F87)","v":0},{"$f":"LN(Kurse_Tag!G88/Kurse_Tag!G87)","v":5.059930902239578E-3},{"$f":"LN(Kurse_Tag!H88/Kurse_Tag!H87)","v":-1.7603169942561989E-2},{"$f":"LN(Kurse_Tag!I88/Kurse_Tag!I87)","v":2.037179212307652E-3}]
["2009-01-07",{"$f":"LN(Kurse_Tag!B89/Kurse_Tag!B88)","v":-4.0649118731078765E-2},{"$f":"LN(Kurse_Tag!C89/Kurse_Tag!C88)","v":-2.2639883437637297E-2},{"$f":"LN(Kurse_Tag!D89/Kurse_Tag!D88)","v":-9.6896505475172878E-3},{"$f":"LN(Kurse_Tag!E89/Kurse_Tag!E88)","v":-2.1783111149647929E-3},{"$f":"LN(Kurse_Tag!F89/Kurse_Tag!F88)","v":9.4295150787036277E-4},{"$f":"LN(Kurse_Tag!G89/Kurse_Tag!G88)","v":-1.849918706523564E-2},{"$f":"LN(Kurse_Tag!H89/Kurse_Tag!H88)","v":1.9166891918744718E-2},{"$f":"LN(Kurse_Tag!I89/Kurse_Tag!I88)","v":1.1214755593081292E-2}]
["2009-01-08",{"$f":"LN(Kurse_Tag!B90/Kurse_Tag!B89)","v":1.0318234278391744E-2},{"$f":"LN(Kurse_Tag!C90/Kurse_Tag!C89)","v":8.4092126191979664E-3},{"$f":"LN(Kurse_Tag!D90/Kurse_Tag!D89)","v":-8.0864600927452648E-3},{"$f":"LN(Kurse_Tag!E90/Kurse_Tag!E89)","v":-6.2500203451714056E-3},{"$f":"LN(Kurse_Tag!F90/Kurse_Tag!F89)","v":-8.9941434712285384E-3},{"$f":"LN(Kurse_Tag!G90/Kurse_Tag!G89)","v":-1.8710002942038891E-2},{"$f":"LN(Kurse_Tag!H90/Kurse_Tag!H89)","v":1.3502183865292247E-2},{"$f":"LN(Kurse_Tag!I90/Kurse_Tag!I89)","v":-4.706682079337496E-3}]
["2009-01-09",{"$f":"LN(Kurse_Tag!B91/Kurse_Tag!B90)","v":9.3657559876420896E-3},{"$f":"LN(Kurse_Tag!C91/Kurse_Tag!C90)","v":1.427354772708673E-2},{"$f":"LN(Kurse_Tag!D91/Kurse_Tag!D90)","v":-4.615579674638535E-3},{"$f":"LN(Kurse_Tag!E91/Kurse_Tag!E90)","v":-6.2893289075639904E-3},{"$f":"LN(Kurse_Tag!F91/Kurse_Tag!F90)","v":-4.0762557389862314E-2},{"$f":"LN(Kurse_Tag!G91/Kurse_Tag!G90)","v":-1.8926253772709643E-2},{"$f":"LN(Kurse_Tag!H91/Kurse_Tag!H90)","v":5.1508858839008648E-3},{"$f":"LN(Kurse_Tag!I91/Kurse_Tag!I90)","v":7.9715127387600341E-3}]
["2009-01-12",{"$f":"LN(Kurse_Tag!B92/Kurse_Tag!B91)","v":-5.0977170716687177E-3},{"$f":"LN(Kurse_Tag!C92/Kurse_Tag!C91)","v":-2.9113650676575228E-2},{"$f":"LN(Kurse_Tag!D92/Kurse_Tag!D91)","v":-1.4346392830389604E-2},{"$f":"LN(Kurse_Tag!E92/Kurse_Tag!E91)","v":1.2539349252735392E-2},{"$f":"LN(Kurse_Tag!F92/Kurse_Tag!F91)","v":0},{"$f":"LN(Kurse_Tag!G92/Kurse_Tag!G91)","v":-8.6067550693079333E-3},{"$f":"LN(Kurse_Tag!H92/Kurse_Tag!H91)","v":2.1093346544128727E-2},{"$f":"LN(Kurse_Tag!I92/Kurse_Tag!I91)","v":2.9968489526079042E-2}]
["2009-01-13",{"$f":"LN(Kurse_Tag!B93/Kurse_Tag!B92)","v":-1.0274062976185229E-2},{"$f":"LN(Kurse_Tag!C93/Kurse_Tag!C92)","v":6.7682153461388105E-3},{"$f":"LN(Kurse_Tag!D93/Kurse_Tag!D92)","v":-1.6060102421680131E-2},{"$f":"LN(Kurse_Tag!E93/Kurse_Tag!E92)","v":-3.9719279784573305E-2},{"$f":"LN(Kurse_Tag!F93/Kurse_Tag!F92)","v":4.9517208241294658E-4},{"$f":"LN(Kurse_Tag!G93/Kurse_Tag!G92)","v":-2.787536809219554E-2},{"$f":"LN(Kurse_Tag!H93/Kurse_Tag!H92)","v":8.2994233162528106E-3},{"$f":"LN(Kurse_Tag!I93/Kurse_Tag!I92)","v":8.4804449607302386E-3}]
["2009-01-14",{"$f":"LN(Kurse_Tag!B94/Kurse_Tag!B93)","v":-3.8601283696812046E-2},{"$f":"LN(Kurse_Tag!C94/Kurse_Tag!C93)","v":-1.8036902115249283E-2},{"$f":"LN(Kurse_Tag!D94/Kurse_Tag!D93)","v":-4.0074491172650134E-2},{"$f":"LN(Kurse_Tag!E94/Kurse_Tag!E93)","v":-2.4611578596566829E-2},{"$f":"LN(Kurse_Tag!F94/Kurse_Tag!F93)","v":-2.7605266091888857E-2},{"$f":"LN(Kurse_Tag!G94/Kurse_Tag!G93)","v":-5.0656979167730209E-2},{"$f":"LN(Kurse_Tag!H94/Kurse_Tag!H93)","v":4.3065195203848348E-2},{"$f":"LN(Kurse_Tag!I94/Kurse_Tag!I93)","v":7.3718282560753046E-3}]
["2009-01-15",{"$f":"LN(Kurse_Tag!B95/Kurse_Tag!B94)","v":6.2416609234761337E-3},{"$f":"LN(Kurse_Tag!C95/Kurse_Tag!C94)","v":3.4281829940681911E-3},{"$f":"LN(Kurse_Tag!D95/Kurse_Tag!D94)","v":-2.0923245504243745E-3},{"$f":"LN(Kurse_Tag!E95/Kurse_Tag!E94)","v":1.5821028746085996E-2},{"$f":"LN(Kurse_Tag!F95/Kurse_Tag!F94)","v":1.3144779760834687E-2},{"$f":"LN(Kurse_Tag!G95/Kurse_Tag!G94)","v":-5.2251540427686455E-3},{"$f":"LN(Kurse_Tag!H95/Kurse_Tag!H94)","v":2.0751732811083848E-2},{"$f":"LN(Kurse_Tag!I95/Kurse_Tag!I94)","v":-1.6779197736387281E-3}]
["2009-01-16",{"$f":"LN(Kurse_Tag!B96/Kurse_Tag!B95)","v":6.2862116756626729E-2},{"$f":"LN(Kurse_Tag!C96/Kurse_Tag!C95)","v":1.9654987188805324E-2},{"$f":"LN(Kurse_Tag!D96/Kurse_Tag!D95)","v":1.72608269559709E-2},{"$f":"LN(Kurse_Tag!E96/Kurse_Tag!E95)","v":6.5380845741894265E-4},{"$f":"LN(Kurse_Tag!F96/Kurse_Tag!F95)","v":2.3822466510258943E-2},{"$f":"LN(Kurse_Tag!G96/Kurse_Tag!G95)","v":1.2555669459022962E-2},{"$f":"LN(Kurse_Tag!H96/Kurse_Tag!H95)","v":-1.5204065666854361E-2},{"$f":"LN(Kurse_Tag!I96/Kurse_Tag!I95)","v":4.3089757064073515E-3}]
["2009-01-19",{"$f":"LN(Kurse_Tag!B97/Kurse_Tag!B96)","v":5.8344145296081234E-3},{"$f":"LN(Kurse_Tag!C97/Kurse_Tag!C96)","v":1.6969297558353098E-2},{"$f":"LN(Kurse_Tag!D97/Kurse_Tag!D96)","v":-2.9642439295381403E-2},{"$f":"LN(Kurse_Tag!E97/Kurse_Tag!E96)","v":-9.8522964430117071E-3},{"$f":"LN(Kurse_Tag!F97/Kurse_Tag!F96)","v":1.9598242431668866E-3},{"$f":"LN(Kurse_Tag!G97/Kurse_Tag!G96)","v":-2.0444951618975197E-2},{"$f":"LN(Kurse_Tag!H97/Kurse_Tag!H96)","v":3.5533904267152978E-2},{"$f":"LN(Kurse_Tag!I97/Kurse_Tag!I96)","v":-1.807786346668876E-2}]
["2009-01-20",{"$f":"LN(Kurse_Tag!B98/Kurse_Tag!B97)","v":3.6663984371591525E-2},{"$f":"LN(Kurse_Tag!C98/Kurse_Tag!C97)","v":4.2953933453564318E-2},{"$f":"LN(Kurse_Tag!D98/Kurse_Tag!D97)","v":-1.2671059828344123E-2},{"$f":"LN(Kurse_Tag!E98/Kurse_Tag!E97)","v":1.7664836179805299E-2},{"$f":"LN(Kurse_Tag!F98/Kurse_Tag!F97)","v":1.9559908436674127E-3},{"$f":"LN(Kurse_Tag!G98/Kurse_Tag!G97)","v":-1.1559016546676655E-2},{"$f":"LN(Kurse_Tag!H98/Kurse_Tag!H97)","v":-6.8453297764247683E-5},{"$f":"LN(Kurse_Tag!I98/Kurse_Tag!I97)","v":3.1570026625376982E-3}]
["2009-01-21",{"$f":"LN(Kurse_Tag!B99/Kurse_Tag!B98)","v":-7.2260450917395825E-3},{"$f":"LN(Kurse_Tag!C99/Kurse_Tag!C98)","v":-1.8472172648850486E-2},{"$f":"LN(Kurse_Tag!D99/Kurse_Tag!D98)","v":4.8205770907691669E-3},{"$f":"LN(Kurse_Tag!E99/Kurse_Tag!E98)","v":-1.5357269637471286E-2},{"$f":"LN(Kurse_Tag!F99/Kurse_Tag!F98)","v":-7.3547769629169341E-3},{"$f":"LN(Kurse_Tag!G99/Kurse_Tag!G98)","v":-2.2883566476487122E-2},{"$f":"LN(Kurse_Tag!H99/Kurse_Tag!H98)","v":2.0515633264226469E-3},{"$f":"LN(Kurse_Tag!I99/Kurse_Tag!I98)","v":2.047907743219431E-2}]
["2009-01-22",{"$f":"LN(Kurse_Tag!B100/Kurse_Tag!B99)","v":2.6244050927501549E-2},{"$f":"LN(Kurse_Tag!C100/Kurse_Tag!C99)","v":1.9094602578440371E-2},{"$f":"LN(Kurse_Tag!D100/Kurse_Tag!D99)","v":9.3464189993656412E-4},{"$f":"LN(Kurse_Tag!E100/Kurse_Tag!E99)","v":1.7300904846042211E-2},{"$f":"LN(Kurse_Tag!F100/Kurse_Tag!F99)","v":-4.9334091179558878E-3},{"$f":"LN(Kurse_Tag!G100/Kurse_Tag!G99)","v":9.4393149472244212E-3},{"$f":"LN(Kurse_Tag!H100/Kurse_Tag!H99)","v":0},{"$f":"LN(Kurse_Tag!I100/Kurse_Tag!I99)","v":1.4698633661970249E-2}]
["2009-01-23",{"$f":"LN(Kurse_Tag!B101/Kurse_Tag!B100)","v":7.818648117797769E-3},{"$f":"LN(Kurse_Tag!C101/Kurse_Tag!C100)","v":4.5988662179005345E-2},{"$f":"LN(Kurse_Tag!D101/Kurse_Tag!D100)","v":-2.2130170438460533E-2},{"$f":"LN(Kurse_Tag!E101/Kurse_Tag!E100)","v":-1.7630231376270615E-2},{"$f":"LN(Kurse_Tag!F101/Kurse_Tag!F100)","v":-1.9801986668624536E-3},{"$f":"LN(Kurse_Tag!G101/Kurse_Tag!G100)","v":-9.1178748930265032E-3},{"$f":"LN(Kurse_Tag!H101/Kurse_Tag!H100)","v":3.9055166118494501E-2},{"$f":"LN(Kurse_Tag!I101/Kurse_Tag!I100)","v":1.3562419687592574E-2}]
["2009-01-26",{"$f":"LN(Kurse_Tag!B102/Kurse_Tag!B101)","v":4.1195756438267332E-2},{"$f":"LN(Kurse_Tag!C102/Kurse_Tag!C101)","v":-1.2073650727166053E-3},{"$f":"LN(Kurse_Tag!D102/Kurse_Tag!D101)","v":4.2081945434313414E-2},{"$f":"LN(Kurse_Tag!E102/Kurse_Tag!E101)","v":-3.2992441672192608E-3},{"$f":"LN(Kurse_Tag!F102/Kurse_Tag!F101)","v":1.0352569660900852E-2},{"$f":"LN(Kurse_Tag!G102/Kurse_Tag!G101)","v":3.2566899572469062E-2},{"$f":"LN(Kurse_Tag!H102/Kurse_Tag!H101)","v":-3.0077956754241499E-2},{"$f":"LN(Kurse_Tag!I102/Kurse_Tag!I101)","v":7.6946756643583056E-4}]
["2009-01-27",{"$f":"LN(Kurse_Tag!B103/Kurse_Tag!B102)","v":-6.7491819749284495E-3},{"$f":"LN(Kurse_Tag!C103/Kurse_Tag!C102)","v":-1.6136748385255889E-2},{"$f":"LN(Kurse_Tag!D103/Kurse_Tag!D102)","v":-2.369559538687278E-2},{"$f":"LN(Kurse_Tag!E103/Kurse_Tag!E102)","v":2.1576515359011329E-2},{"$f":"LN(Kurse_Tag!F103/Kurse_Tag!F102)","v":-3.9312089940706117E-3},{"$f":"LN(Kurse_Tag!G103/Kurse_Tag!G102)","v":-2.0241345953364701E-3},{"$f":"LN(Kurse_Tag!H103/Kurse_Tag!H102)","v":-9.0455270414785301E-3},{"$f":"LN(Kurse_Tag!I103/Kurse_Tag!I102)","v":-1.4624949687548111E-3}]
["2009-01-28",{"$f":"LN(Kurse_Tag!B104/Kurse_Tag!B103)","v":7.5216250255410848E-4},{"$f":"LN(Kurse_Tag!C104/Kurse_Tag!C103)","v":6.8116758435220507E-4},{"$f":"LN(Kurse_Tag!D104/Kurse_Tag!D103)","v":4.8630677079573831E-2},{"$f":"LN(Kurse_Tag!E104/Kurse_Tag!E103)","v":1.2214873826886262E-2},{"$f":"LN(Kurse_Tag!F104/Kurse_Tag!F103)","v":-9.3990303607546979E-3},{"$f":"LN(Kurse_Tag!G104/Kurse_Tag!G103)","v":6.3846651551745778E-2},{"$f":"LN(Kurse_Tag!H104/Kurse_Tag!H103)","v":-3.7377772117687252E-2},{"$f":"LN(Kurse_Tag!I104/Kurse_Tag!I103)","v":-1.7562033463465732E-2}]
["2009-01-29",{"$f":"LN(Kurse_Tag!B105/Kurse_Tag!B104)","v":-5.1893161420386576E-4},{"$f":"LN(Kurse_Tag!C105/Kurse_Tag!C104)","v":9.0928870130749361E-3},{"$f":"LN(Kurse_Tag!D105/Kurse_Tag!D104)","v":-3.4398874723651156E-2},{"$f":"LN(Kurse_Tag!E105/Kurse_Tag!E104)","v":-1.935544295295609E-2},{"$f":"LN(Kurse_Tag!F105/Kurse_Tag!F104)","v":-9.9453016650834724E-4},{"$f":"LN(Kurse_Tag!G105/Kurse_Tag!G104)","v":-3.8150953630219434E-2},{"$f":"LN(Kurse_Tag!H105/Kurse_Tag!H104)","v":0},{"$f":"LN(Kurse_Tag!I105/Kurse_Tag!I104)","v":1.5666617649000511E-3}]
["2009-01-30",{"$f":"LN(Kurse_Tag!B106/Kurse_Tag!B105)","v":5.323977799293985E-2},{"$f":"LN(Kurse_Tag!C106/Kurse_Tag!C105)","v":3.9629794770767758E-2},{"$f":"LN(Kurse_Tag!D106/Kurse_Tag!D105)","v":-4.7656960730144571E-3},{"$f":"LN(Kurse_Tag!E106/Kurse_Tag!E105)","v":-2.0734657592713732E-2},{"$f":"LN(Kurse_Tag!F106/Kurse_Tag!F105)","v":-4.9763623818711866E-4},{"$f":"LN(Kurse_Tag!G106/Kurse_Tag!G105)","v":-1.7623626770879065E-2},{"$f":"LN(Kurse_Tag!H106/Kurse_Tag!H105)","v":2.0845054160095612E-2},{"$f":"LN(Kurse_Tag!I106/Kurse_Tag!I105)","v":1.9548819612612623E-3}]
["2009-02-02",{"$f":"LN(Kurse_Tag!B107/Kurse_Tag!B106)","v":-7.1352125752835579E-4},{"$f":"LN(Kurse_Tag!C107/Kurse_Tag!C106)","v":-4.9787773075516857E-3},{"$f":"LN(Kurse_Tag!D107/Kurse_Tag!D106)","v":-2.5127287727327818E-2},{"$f":"LN(Kurse_Tag!E107/Kurse_Tag!E106)","v":-7.3431571618266097E-3},{"$f":"LN(Kurse_Tag!F107/Kurse_Tag!F106)","v":-2.0619287202735703E-2},{"$f":"LN(Kurse_Tag!G107/Kurse_Tag!G106)","v":-1.4796625382703517E-2},{"$f":"LN(Kurse_Tag!H107/Kurse_Tag!H106)","v":2.6796189530167311E-2},{"$f":"LN(Kurse_Tag!I107/Kurse_Tag!I106)","v":8.9435600220561171E-3}]
["2009-02-03",{"$f":"LN(Kurse_Tag!B108/Kurse_Tag!B107)","v":-3.1173238218365613E-2},{"$f":"LN(Kurse_Tag!C108/Kurse_Tag!C107)","v":-2.7204646493029682E-2},{"$f":"LN(Kurse_Tag!D108/Kurse_Tag!D107)","v":9.520571953404918E-4},{"$f":"LN(Kurse_Tag!E108/Kurse_Tag!E107)","v":-1.1794576492837041E-2},{"$f":"LN(Kurse_Tag!F108/Kurse_Tag!F107)","v":1.7128882262967212E-2},{"$f":"LN(Kurse_Tag!G108/Kurse_Tag!G107)","v":3.9151251951692577E-3},{"$f":"LN(Kurse_Tag!H108/Kurse_Tag!H107)","v":-2.86037539822756E-2},{"$f":"LN(Kurse_Tag!I108/Kurse_Tag!I107)","v":6.4825045655077943E-3}]
["2009-02-04",{"$f":"LN(Kurse_Tag!B109/Kurse_Tag!B108)","v":3.0459207484708439E-2},{"$f":"LN(Kurse_Tag!C109/Kurse_Tag!C108)","v":1.3607038227646001E-2},{"$f":"LN(Kurse_Tag!D109/Kurse_Tag!D108)","v":2.3777062101482997E-2},{"$f":"LN(Kurse_Tag!E109/Kurse_Tag!E108)","v":3.3336420267591711E-2},{"$f":"LN(Kurse_Tag!F109/Kurse_Tag!F108)","v":-1.3072081567352662E-2},{"$f":"LN(Kurse_Tag!G109/Kurse_Tag!G108)","v":4.9102713007732036E-2},{"$f":"LN(Kurse_Tag!H109/Kurse_Tag!H108)","v":-3.4547217039444501E-2},{"$f":"LN(Kurse_Tag!I109/Kurse_Tag!I108)","v":-5.0125418235441753E-3}]
["2009-02-05",{"$f":"LN(Kurse_Tag!B110/Kurse_Tag!B109)","v":2.2599831917240992E-2},{"$f":"LN(Kurse_Tag!C110/Kurse_Tag!C109)","v":1.4478019180653235E-2},{"$f":"LN(Kurse_Tag!D110/Kurse_Tag!D109)","v":-1.9842452860214584E-2},{"$f":"LN(Kurse_Tag!E110/Kurse_Tag!E109)","v":2.5571874067424907E-2},{"$f":"LN(Kurse_Tag!F110/Kurse_Tag!F109)","v":-3.0313135262168677E-2},{"$f":"LN(Kurse_Tag!G110/Kurse_Tag!G109)","v":2.9757476785563221E-4},{"$f":"LN(Kurse_Tag!H110/Kurse_Tag!H109)","v":5.3877505422945038E-3},{"$f":"LN(Kurse_Tag!I110/Kurse_Tag!I109)","v":-3.8729715336640685E-3}]
["2009-02-06",{"$f":"LN(Kurse_Tag!B111/Kurse_Tag!B110)","v":2.2100347000665922E-2},{"$f":"LN(Kurse_Tag!C111/Kurse_Tag!C110)","v":-1.0389672309877604E-3},{"$f":"LN(Kurse_Tag!D111/Kurse_Tag!D110)","v":9.1657199162136493E-3},{"$f":"LN(Kurse_Tag!E111/Kurse_Tag!E110)","v":-6.0907384956022997E-3},{"$f":"LN(Kurse_Tag!F111/Kurse_Tag!F110)","v":-4.1819193198970161E-3},{"$f":"LN(Kurse_Tag!G111/Kurse_Tag!G110)","v":3.6229495469518661E-2},{"$f":"LN(Kurse_Tag!H111/Kurse_Tag!H110)","v":-2.819134674818231E-2},{"$f":"LN(Kurse_Tag!I111/Kurse_Tag!I110)","v":3.1769427363753534E-3}]
["2009-02-09",{"$f":"LN(Kurse_Tag!B112/Kurse_Tag!B111)","v":-1.8614808442231935E-2},{"$f":"LN(Kurse_Tag!C112/Kurse_Tag!C111)","v":-2.3913359340280427E-2},{"$f":"LN(Kurse_Tag!D112/Kurse_Tag!D111)","v":4.0171451986646982E-3},{"$f":"LN(Kurse_Tag!E112/Kurse_Tag!E111)","v":-6.7753122546981336E-3},{"$f":"LN(Kurse_Tag!F112/Kurse_Tag!F111)","v":3.1380778889985774E-3},{"$f":"LN(Kurse_Tag!G112/Kurse_Tag!G111)","v":0},{"$f":"LN(Kurse_Tag!H112/Kurse_Tag!H111)","v":5.1451785685384362E-3},{"$f":"LN(Kurse_Tag!I112/Kurse_Tag!I111)","v":-2.1741686933532862E-2}]
["2009-02-10",{"$f":"LN(Kurse_Tag!B113/Kurse_Tag!B112)","v":1.175389441169687E-2},{"$f":"LN(Kurse_Tag!C113/Kurse_Tag!C112)","v":1.1366766173634739E-2},{"$f":"LN(Kurse_Tag!D113/Kurse_Tag!D112)","v":2.2692394440434081E-3},{"$f":"LN(Kurse_Tag!E113/Kurse_Tag!E112)","v":-3.2574026533849679E-2},{"$f":"LN(Kurse_Tag!F113/Kurse_Tag!F112)","v":5.2083451071382597E-3},{"$f":"LN(Kurse_Tag!G113/Kurse_Tag!G112)","v":9.566718211979271E-3},{"$f":"LN(Kurse_Tag!H113/Kurse_Tag!H112)","v":9.4856603252472093E-3},{"$f":"LN(Kurse_Tag!I113/Kurse_Tag!I112)","v":2.3691079548038172E-3}]
["2009-02-11",{"$f":"LN(Kurse_Tag!B114/Kurse_Tag!B113)","v":4.7682908550790236E-2},{"$f":"LN(Kurse_Tag!C114/Kurse_Tag!C113)","v":4.0783456757167727E-2},{"$f":"LN(Kurse_Tag!D114/Kurse_Tag!D113)","v":-1.207258123426936E-2},{"$f":"LN(Kurse_Tag!E114/Kurse_Tag!E113)","v":1.2959144642505116E-2},{"$f":"LN(Kurse_Tag!F114/Kurse_Tag!F113)","v":-1.5179563906917421E-2},{"$f":"LN(Kurse_Tag!G114/Kurse_Tag!G113)","v":-4.9522278056498829E-2},{"$f":"LN(Kurse_Tag!H114/Kurse_Tag!H113)","v":1.305887754540757E-2},{"$f":"LN(Kurse_Tag!I114/Kurse_Tag!I113)","v":8.3261811619441736E-3}]
["2009-02-12",{"$f":"LN(Kurse_Tag!B115/Kurse_Tag!B114)","v":-5.9191228391949798E-3},{"$f":"LN(Kurse_Tag!C115/Kurse_Tag!C114)","v":6.2607098654752554E-3},{"$f":"LN(Kurse_Tag!D115/Kurse_Tag!D114)","v":-9.7641133749051517E-3},{"$f":"LN(Kurse_Tag!E115/Kurse_Tag!E114)","v":-7.2896280387081749E-3},{"$f":"LN(Kurse_Tag!F115/Kurse_Tag!F114)","v":-6.8801541578148136E-3},{"$f":"LN(Kurse_Tag!G115/Kurse_Tag!G114)","v":-2.3875416348774204E-2},{"$f":"LN(Kurse_Tag!H115/Kurse_Tag!H114)","v":1.7690774321244083E-2},{"$f":"LN(Kurse_Tag!I115/Kurse_Tag!I114)","v":3.6697288889624017E-3}]
["2009-02-13",{"$f":"LN(Kurse_Tag!B116/Kurse_Tag!B115)","v":-1.7970533518307928E-2},{"$f":"LN(Kurse_Tag!C116/Kurse_Tag!C115)","v":-1.8028254127174438E-2},{"$f":"LN(Kurse_Tag!D116/Kurse_Tag!D115)","v":8.5488002822392169E-3},{"$f":"LN(Kurse_Tag!E116/Kurse_Tag!E115)","v":-2.9359287726201624E-2},{"$f":"LN(Kurse_Tag!F116/Kurse_Tag!F115)","v":-4.7910658587849136E-3},{"$f":"LN(Kurse_Tag!G116/Kurse_Tag!G115)","v":0},{"$f":"LN(Kurse_Tag!H116/Kurse_Tag!H115)","v":-2.1568975102770144E-2},{"$f":"LN(Kurse_Tag!I116/Kurse_Tag!I115)","v":3.5009955236804734E-3}]
["2009-02-16",{"$f":"LN(Kurse_Tag!B117/Kurse_Tag!B116)","v":1.9947469911763889E-2},{"$f":"LN(Kurse_Tag!C117/Kurse_Tag!C116)","v":7.4820277614995739E-3},{"$f":"LN(Kurse_Tag!D117/Kurse_Tag!D116)","v":-1.0595046136396625E-2},{"$f":"LN(Kurse_Tag!E117/Kurse_Tag!E116)","v":-1.2405396857487741E-2},{"$f":"LN(Kurse_Tag!F117/Kurse_Tag!F116)","v":1.0666667678026682E-3},{"$f":"LN(Kurse_Tag!G117/Kurse_Tag!G116)","v":3.3587817836015976E-3},{"$f":"LN(Kurse_Tag!H117/Kurse_Tag!H116)","v":1.7617516390842764E-2},{"$f":"LN(Kurse_Tag!I117/Kurse_Tag!I116)","v":-1.7154691626250464E-2}]
["2009-02-17",{"$f":"LN(Kurse_Tag!B118/Kurse_Tag!B117)","v":4.7566807314275678E-2},{"$f":"LN(Kurse_Tag!C118/Kurse_Tag!C117)","v":4.5121784439209951E-2},{"$f":"LN(Kurse_Tag!D118/Kurse_Tag!D117)","v":-3.0643645558036614E-2},{"$f":"LN(Kurse_Tag!E118/Kurse_Tag!E117)","v":1.3860016078771529E-3},{"$f":"LN(Kurse_Tag!F118/Kurse_Tag!F117)","v":-1.5037877364540559E-2},{"$f":"LN(Kurse_Tag!G118/Kurse_Tag!G117)","v":-1.2422519998557209E-2},{"$f":"LN(Kurse_Tag!H118/Kurse_Tag!H117)","v":2.7612966210085806E-2},{"$f":"LN(Kurse_Tag!I118/Kurse_Tag!I117)","v":4.0212945969584513E-3}]
["2009-02-18",{"$f":"LN(Kurse_Tag!B119/Kurse_Tag!B118)","v":1.30965389198455E-2},{"$f":"LN(Kurse_Tag!C119/Kurse_Tag!C118)","v":6.9775187334093023E-3},{"$f":"LN(Kurse_Tag!D119/Kurse_Tag!D118)","v":-9.47874395454377E-3},{"$f":"LN(Kurse_Tag!E119/Kurse_Tag!E118)","v":6.9228109376093412E-4},{"$f":"LN(Kurse_Tag!F119/Kurse_Tag!F118)","v":1.6220603718680509E-3},{"$f":"LN(Kurse_Tag!G119/Kurse_Tag!G118)","v":-4.9508014354827476E-2},{"$f":"LN(Kurse_Tag!H119/Kurse_Tag!H118)","v":1.8804205798450237E-2},{"$f":"LN(Kurse_Tag!I119/Kurse_Tag!I118)","v":3.1471282714513258E-4}]
["2009-02-19",{"$f":"LN(Kurse_Tag!B120/Kurse_Tag!B119)","v":-1.8762276455522892E-2},{"$f":"LN(Kurse_Tag!C120/Kurse_Tag!C119)","v":-2.9123452342008887E-4},{"$f":"LN(Kurse_Tag!D120/Kurse_Tag!D119)","v":1.0463896380993831E-2},{"$f":"LN(Kurse_Tag!E120/Kurse_Tag!E119)","v":-2.0979790469194407E-2},{"$f":"LN(Kurse_Tag!F120/Kurse_Tag!F119)","v":5.0563692798702105E-2},{"$f":"LN(Kurse_Tag!G120/Kurse_Tag!G119)","v":2.0066489186675678E-2},{"$f":"LN(Kurse_Tag!H120/Kurse_Tag!H119)","v":-2.4327623837677149E-3},{"$f":"LN(Kurse_Tag!I120/Kurse_Tag!I119)","v":-5.7591575694256915E-3}]
["2009-02-20",{"$f":"LN(Kurse_Tag!B121/Kurse_Tag!B120)","v":3.4742948443872837E-2},{"$f":"LN(Kurse_Tag!C121/Kurse_Tag!C120)","v":1.8117278116923527E-2},{"$f":"LN(Kurse_Tag!D121/Kurse_Tag!D120)","v":-3.288829440346893E-2},{"$f":"LN(Kurse_Tag!E121/Kurse_Tag!E120)","v":-3.5975102458277924E-2},{"$f":"LN(Kurse_Tag!F121/Kurse_Tag!F120)","v":5.6338177182560642E-3},{"$f":"LN(Kurse_Tag!G121/Kurse_Tag!G120)","v":-3.641473623587059E-2},{"$f":"LN(Kurse_Tag!H121/Kurse_Tag!H120)","v":3.7840558513150366E-2},{"$f":"LN(Kurse_Tag!I121/Kurse_Tag!I120)","v":-8.9807875617679469E-3}]
["2009-02-23",{"$f":"LN(Kurse_Tag!B122/Kurse_Tag!B121)","v":-1.2270092591814359E-2},{"$f":"LN(Kurse_Tag!C122/Kurse_Tag!C121)","v":-1.6343967600383841E-2},{"$f":"LN(Kurse_Tag!D122/Kurse_Tag!D121)","v":-2.3087563240963269E-2},{"$f":"LN(Kurse_Tag!E122/Kurse_Tag!E121)","v":-1.1049836186585046E-2},{"$f":"LN(Kurse_Tag!F122/Kurse_Tag!F121)","v":-1.2850343882124816E-2},{"$f":"LN(Kurse_Tag!G122/Kurse_Tag!G121)","v":-4.1563987216814306E-2},{"$f":"LN(Kurse_Tag!H122/Kurse_Tag!H121)","v":2.5089768956050976E-2},{"$f":"LN(Kurse_Tag!I122/Kurse_Tag!I121)","v":-9.6262575522953371E-3}]
["2009-02-24",{"$f":"LN(Kurse_Tag!B123/Kurse_Tag!B122)","v":-1.4925650216675706E-2},{"$f":"LN(Kurse_Tag!C123/Kurse_Tag!C122)","v":-1.3594708101369717E-2},{"$f":"LN(Kurse_Tag!D123/Kurse_Tag!D122)","v":-1.2123174744337356E-2},{"$f":"LN(Kurse_Tag!E123/Kurse_Tag!E122)","v":-3.0841105522575213E-2},{"$f":"LN(Kurse_Tag!F123/Kurse_Tag!F122)","v":-6.2273164397741295E-3},{"$f":"LN(Kurse_Tag!G123/Kurse_Tag!G122)","v":-2.0639842208515936E-3},{"$f":"LN(Kurse_Tag!H123/Kurse_Tag!H122)","v":8.225291549060456E-3},{"$f":"LN(Kurse_Tag!I123/Kurse_Tag!I122)","v":-3.1485917910058707E-3}]
["2009-02-25",{"$f":"LN(Kurse_Tag!B124/Kurse_Tag!B123)","v":-1.1976191046715649E-2},{"$f":"LN(Kurse_Tag!C124/Kurse_Tag!C123)","v":-4.5028519094330631E-3},{"$f":"LN(Kurse_Tag!D124/Kurse_Tag!D123)","v":-1.9594549942600881E-3},{"$f":"LN(Kurse_Tag!E124/Kurse_Tag!E123)","v":5.3333459753626029E-3},{"$f":"LN(Kurse_Tag!F124/Kurse_Tag!F123)","v":1.0405828202231101E-3},{"$f":"LN(Kurse_Tag!G124/Kurse_Tag!G123)","v":0},{"$f":"LN(Kurse_Tag!H124/Kurse_Tag!H123)","v":1.9036305848646556E-2},{"$f":"LN(Kurse_Tag!I124/Kurse_Tag!I123)","v":-1.4415691266739843E-2}]
["2009-02-26",{"$f":"LN(Kurse_Tag!B125/Kurse_Tag!B124)","v":-7.7087872260656304E-2},{"$f":"LN(Kurse_Tag!C125/Kurse_Tag!C124)","v":-3.49478405009973E-2},{"$f":"LN(Kurse_Tag!D125/Kurse_Tag!D124)","v":3.0021574018382204E-2},{"$f":"LN(Kurse_Tag!E125/Kurse_Tag!E124)","v":1.0582109330537008E-2},{"$f":"LN(Kurse_Tag!F125/Kurse_Tag!F124)","v":-1.5195471842756176E-2},{"$f":"LN(Kurse_Tag!G125/Kurse_Tag!G124)","v":1.1129299017887461E-2},{"$f":"LN(Kurse_Tag!H125/Kurse_Tag!H124)","v":-2.5801418742558955E-2},{"$f":"LN(Kurse_Tag!I125/Kurse_Tag!I124)","v":-1.670979403876325E-2}]
["2009-02-27",{"$f":"LN(Kurse_Tag!B126/Kurse_Tag!B125)","v":7.5060058990554478E-3},{"$f":"LN(Kurse_Tag!C126/Kurse_Tag!C125)","v":1.1659954710217723E-2},{"$f":"LN(Kurse_Tag!D126/Kurse_Tag!D125)","v":-2.9569051195968019E-2},{"$f":"LN(Kurse_Tag!E126/Kurse_Tag!E125)","v":-2.2814677766171399E-2},{"$f":"LN(Kurse_Tag!F126/Kurse_Tag!F125)","v":1.2070469299620979E-2},{"$f":"LN(Kurse_Tag!G126/Kurse_Tag!G125)","v":-4.9565196252821325E-2},{"$f":"LN(Kurse_Tag!H126/Kurse_Tag!H125)","v":2.1153850346011922E-2},{"$f":"LN(Kurse_Tag!I126/Kurse_Tag!I125)","v":-5.8562871296296533E-3}]
["2009-03-02",{"$f":"LN(Kurse_Tag!B127/Kurse_Tag!B126)","v":-2.1195166789694974E-2},{"$f":"LN(Kurse_Tag!C127/Kurse_Tag!C126)","v":-1.1625570164921271E-2},{"$f":"LN(Kurse_Tag!D127/Kurse_Tag!D126)","v":-4.4876853937596016E-2},{"$f":"LN(Kurse_Tag!E127/Kurse_Tag!E126)","v":-2.310359133184147E-3},{"$f":"LN(Kurse_Tag!F127/Kurse_Tag!F126)","v":-3.8282186571017035E-2},{"$f":"LN(Kurse_Tag!G127/Kurse_Tag!G126)","v":-1.6052288049135895E-2},{"$f":"LN(Kurse_Tag!H127/Kurse_Tag!H126)","v":2.3874219928413775E-2},{"$f":"LN(Kurse_Tag!I127/Kurse_Tag!I126)","v":7.1900652533336672E-3}]
["2009-03-03",{"$f":"LN(Kurse_Tag!B128/Kurse_Tag!B127)","v":-1.5499846719669729E-2},{"$f":"LN(Kurse_Tag!C128/Kurse_Tag!C127)","v":-2.2078625157542251E-2},{"$f":"LN(Kurse_Tag!D128/Kurse_Tag!D127)","v":-1.9108861698046362E-2},{"$f":"LN(Kurse_Tag!E128/Kurse_Tag!E127)","v":-1.8284889896932256E-2},{"$f":"LN(Kurse_Tag!F128/Kurse_Tag!F127)","v":-4.093491869179388E-2},{"$f":"LN(Kurse_Tag!G128/Kurse_Tag!G127)","v":4.7161342627995229E-3},{"$f":"LN(Kurse_Tag!H128/Kurse_Tag!H127)","v":1.2128562780195047E-4},{"$f":"LN(Kurse_Tag!I128/Kurse_Tag!I127)","v":4.1566274827317552E-3}]
["2009-03-04",{"$f":"LN(Kurse_Tag!B129/Kurse_Tag!B128)","v":3.8406668118774606E-2},{"$f":"LN(Kurse_Tag!C129/Kurse_Tag!C128)","v":3.5031529079720121E-3},{"$f":"LN(Kurse_Tag!D129/Kurse_Tag!D128)","v":2.147199789032914E-2},{"$f":"LN(Kurse_Tag!E129/Kurse_Tag!E128)","v":1.2873202936206191E-2},{"$f":"LN(Kurse_Tag!F129/Kurse_Tag!F128)","v":2.948753285144293E-2},{"$f":"LN(Kurse_Tag!G129/Kurse_Tag!G128)","v":9.186770906191865E-3},{"$f":"LN(Kurse_Tag!H129/Kurse_Tag!H128)","v":-2.6794450005155665E-2},{"$f":"LN(Kurse_Tag!I129/Kurse_Tag!I128)","v":-3.323918632882714E-3}]
["2009-03-05",{"$f":"LN(Kurse_Tag!B130/Kurse_Tag!B129)","v":-9.2176605084653782E-3},{"$f":"LN(Kurse_Tag!C130/Kurse_Tag!C129)","v":1.2339972130831147E-3},{"$f":"LN(Kurse_Tag!D130/Kurse_Tag!D129)","v":-1.6660440893107201E-2},{"$f":"LN(Kurse_Tag!E130/Kurse_Tag!E129)","v":8.1065875329884938E-3},{"$f":"LN(Kurse_Tag!F130/Kurse_Tag!F129)","v":-2.2734552771136261E-2},{"$f":"LN(Kurse_Tag!G130/Kurse_Tag!G129)","v":0},{"$f":"LN(Kurse_Tag!H130/Kurse_Tag!H129)","v":5.899722127188322E-3},{"$f":"LN(Kurse_Tag!I130/Kurse_Tag!I129)","v":-7.9388709273980809E-3}]
["2009-03-06",{"$f":"LN(Kurse_Tag!B131/Kurse_Tag!B130)","v":1.7967745897405931E-2},{"$f":"LN(Kurse_Tag!C131/Kurse_Tag!C130)","v":1.3034217838906906E-2},{"$f":"LN(Kurse_Tag!D131/Kurse_Tag!D130)","v":-1.0454457903858873E-2},{"$f":"LN(Kurse_Tag!E131/Kurse_Tag!E130)","v":-4.2008139208669852E-2},{"$f":"LN(Kurse_Tag!F131/Kurse_Tag!F130)","v":2.8003378703191561E-3},{"$f":"LN(Kurse_Tag!G131/Kurse_Tag!G130)","v":-1.3902905168991493E-2},{"$f":"LN(Kurse_Tag!H131/Kurse_Tag!H130)","v":1.3530341714377838E-2},{"$f":"LN(Kurse_Tag!I131/Kurse_Tag!I130)","v":-6.0590945279496294E-3}]
["2009-03-09",{"$f":"LN(Kurse_Tag!B132/Kurse_Tag!B131)","v":-2.8294860053255464E-2},{"$f":"LN(Kurse_Tag!C132/Kurse_Tag!C131)","v":-2.0349539415279727E-2},{"$f":"LN(Kurse_Tag!D132/Kurse_Tag!D131)","v":-2.6043565136341831E-2},{"$f":"LN(Kurse_Tag!E132/Kurse_Tag!E131)","v":-1.6576081981492508E-2},{"$f":"LN(Kurse_Tag!F132/Kurse_Tag!F131)","v":-5.0462680676242721E-3},{"$f":"LN(Kurse_Tag!G132/Kurse_Tag!G131)","v":-4.3287151737172964E-2},{"$f":"LN(Kurse_Tag!H132/Kurse_Tag!H131)","v":1.0935710440028504E-2},{"$f":"LN(Kurse_Tag!I132/Kurse_Tag!I131)","v":-4.0598888548398727E-3}]
["2009-03-10",{"$f":"LN(Kurse_Tag!B133/Kurse_Tag!B132)","v":-3.8805574421795122E-2},{"$f":"LN(Kurse_Tag!C133/Kurse_Tag!C132)","v":-3.4965462407542162E-2},{"$f":"LN(Kurse_Tag!D133/Kurse_Tag!D132)","v":5.614377528703534E-2},{"$f":"LN(Kurse_Tag!E133/Kurse_Tag!E132)","v":4.2304791901299356E-2},{"$f":"LN(Kurse_Tag!F133/Kurse_Tag!F132)","v":3.2626615249797299E-2},{"$f":"LN(Kurse_Tag!G133/Kurse_Tag!G132)","v":6.4336773049043408E-2},{"$f":"LN(Kurse_Tag!H133/Kurse_Tag!H132)","v":-5.4829512411721931E-2},{"$f":"LN(Kurse_Tag!I133/Kurse_Tag!I132)","v":-2.4608608455969519E-3}]
["2009-03-11",{"$f":"LN(Kurse_Tag!B134/Kurse_Tag!B133)","v":2.8370697129215566E-2},{"$f":"LN(Kurse_Tag!C134/Kurse_Tag!C133)","v":2.3721872748098342E-2},{"$f":"LN(Kurse_Tag!D134/Kurse_Tag!D133)","v":9.9907168814717586E-3},{"$f":"LN(Kurse_Tag!E134/Kurse_Tag!E133)","v":-5.09305704243696E-3},{"$f":"LN(Kurse_Tag!F134/Kurse_Tag!F133)","v":-1.0887317351965606E-3},{"$f":"LN(Kurse_Tag!G134/Kurse_Tag!G133)","v":4.5759048360239793E-2},{"$f":"LN(Kurse_Tag!H134/Kurse_Tag!H133)","v":-1.2718568156822044E-2},{"$f":"LN(Kurse_Tag!I134/Kurse_Tag!I133)","v":-4.2571371233187218E-3}]
["2009-03-12",{"$f":"LN(Kurse_Tag!B135/Kurse_Tag!B134)","v":2.7703596090819453E-2},{"$f":"LN(Kurse_Tag!C135/Kurse_Tag!C134)","v":4.5311549417068692E-2},{"$f":"LN(Kurse_Tag!D135/Kurse_Tag!D134)","v":2.5306158335817893E-2},{"$f":"LN(Kurse_Tag!E135/Kurse_Tag!E134)","v":1.7906278354813409E-2},{"$f":"LN(Kurse_Tag!F135/Kurse_Tag!F134)","v":-5.4481069176505101E-4},{"$f":"LN(Kurse_Tag!G135/Kurse_Tag!G134)","v":1.0198879007456026E-3},{"$f":"LN(Kurse_Tag!H135/Kurse_Tag!H134)","v":2.1045328487699425E-2},{"$f":"LN(Kurse_Tag!I135/Kurse_Tag!I134)","v":7.6498460604043283E-3}]
["2009-03-13",{"$f":"LN(Kurse_Tag!B136/Kurse_Tag!B135)","v":2.1812245437036148E-2},{"$f":"LN(Kurse_Tag!C136/Kurse_Tag!C135)","v":9.0223266130700481E-4},{"$f":"LN(Kurse_Tag!D136/Kurse_Tag!D135)","v":2.5712787364825084E-3},{"$f":"LN(Kurse_Tag!E136/Kurse_Tag!E135)","v":1.3793322132335769E-2},{"$f":"LN(Kurse_Tag!F136/Kurse_Tag!F135)","v":1.460669734834162E-2},{"$f":"LN(Kurse_Tag!G136/Kurse_Tag!G135)","v":4.5662452221152637E-2},{"$f":"LN(Kurse_Tag!H136/Kurse_Tag!H135)","v":1.0578111481379777E-2},{"$f":"LN(Kurse_Tag!I136/Kurse_Tag!I135)","v":1.6959519911812871E-2}]
["2009-03-16",{"$f":"LN(Kurse_Tag!B137/Kurse_Tag!B136)","v":-3.7697838150324785E-2},{"$f":"LN(Kurse_Tag!C137/Kurse_Tag!C136)","v":-1.1173364326893528E-2},{"$f":"LN(Kurse_Tag!D137/Kurse_Tag!D136)","v":3.1814783744183318E-2},{"$f":"LN(Kurse_Tag!E137/Kurse_Tag!E136)","v":3.2937109074085508E-2},{"$f":"LN(Kurse_Tag!F137/Kurse_Tag!F136)","v":6.9574805674987193E-3},{"$f":"LN(Kurse_Tag!G137/Kurse_Tag!G136)","v":-5.6970936218501793E-3},{"$f":"LN(Kurse_Tag!H137/Kurse_Tag!H136)","v":-5.2121063705891004E-3},{"$f":"LN(Kurse_Tag!I137/Kurse_Tag!I136)","v":8.1254074439169321E-3}]
["2009-03-17",{"$f":"LN(Kurse_Tag!B138/Kurse_Tag!B137)","v":-1.1818003377530846E-2},{"$f":"LN(Kurse_Tag!C138/Kurse_Tag!C137)","v":-5.7521009906277305E-3},{"$f":"LN(Kurse_Tag!D138/Kurse_Tag!D137)","v":-3.8117624220271387E-3},{"$f":"LN(Kurse_Tag!E138/Kurse_Tag!E137)","v":-2.2115748048401542E-3},{"$f":"LN(Kurse_Tag!F138/Kurse_Tag!F137)","v":-4.8115569972220816E-3},{"$f":"LN(Kurse_Tag!G138/Kurse_Tag!G137)","v":2.6084136080470753E-3},{"$f":"LN(Kurse_Tag!H138/Kurse_Tag!H137)","v":-2.0167650372625626E-3},{"$f":"LN(Kurse_Tag!I138/Kurse_Tag!I137)","v":-2.3975870275740013E-3}]
["2009-03-18",{"$f":"LN(Kurse_Tag!B139/Kurse_Tag!B138)","v":-5.6089466651043585E-2},{"$f":"LN(Kurse_Tag!C139/Kurse_Tag!C138)","v":-4.2969525235067828E-2},{"$f":"LN(Kurse_Tag!D139/Kurse_Tag!D138)","v":-5.0066368754931008E-3},{"$f":"LN(Kurse_Tag!E139/Kurse_Tag!E138)","v":-1.4771051430133265E-3},{"$f":"LN(Kurse_Tag!F139/Kurse_Tag!F138)","v":-1.7843133567584168E-2},{"$f":"LN(Kurse_Tag!G139/Kurse_Tag!G138)","v":5.6822946951315271E-3},{"$f":"LN(Kurse_Tag!H139/Kurse_Tag!H138)","v":-9.8266869927481869E-3},{"$f":"LN(Kurse_Tag!I139/Kurse_Tag!I138)","v":-4.8124885446546523E-3}]
["2009-03-19",{"$f":"LN(Kurse_Tag!B140/Kurse_Tag!B139)","v":6.8439463947372992E-2},{"$f":"LN(Kurse_Tag!C140/Kurse_Tag!C139)","v":3.0030683618167433E-2},{"$f":"LN(Kurse_Tag!D140/Kurse_Tag!D139)","v":1.4945333125022985E-2},{"$f":"LN(Kurse_Tag!E140/Kurse_Tag!E139)","v":5.160350559309611E-3},{"$f":"LN(Kurse_Tag!F140/Kurse_Tag!F139)","v":-1.2074789956291547E-2},{"$f":"LN(Kurse_Tag!G140/Kurse_Tag!G139)","v":1.2868120302464215E-2},{"$f":"LN(Kurse_Tag!H140/Kurse_Tag!H139)","v":-1.3857034661426241E-2},{"$f":"LN(Kurse_Tag!I140/Kurse_Tag!I139)","v":-6.5087012149992185E-3}]
["2009-03-20",{"$f":"LN(Kurse_Tag!B141/Kurse_Tag!B140)","v":1.2554088753205749E-2},{"$f":"LN(Kurse_Tag!C141/Kurse_Tag!C140)","v":-2.0035075384063523E-3},{"$f":"LN(Kurse_Tag!D141/Kurse_Tag!D140)","v":3.4843240826108427E-3},{"$f":"LN(Kurse_Tag!E141/Kurse_Tag!E140)","v":-1.668249995993602E-2},{"$f":"LN(Kurse_Tag!F141/Kurse_Tag!F140)","v":-2.8565369851215786E-2},{"$f":"LN(Kurse_Tag!G141/Kurse_Tag!G140)","v":-1.4650507552267857E-2},{"$f":"LN(Kurse_Tag!H141/Kurse_Tag!H140)","v":1.9377967311864295E-4},{"$f":"LN(Kurse_Tag!I141/Kurse_Tag!I140)","v":-3.0183639919142222E-3}]
["2009-03-23",{"$f":"LN(Kurse_Tag!B142/Kurse_Tag!B141)","v":2.6878599056350764E-2},{"$f":"LN(Kurse_Tag!C142/Kurse_Tag!C141)","v":4.5044463287329597E-3},{"$f":"LN(Kurse_Tag!D142/Kurse_Tag!D141)","v":2.6458461539429875E-2},{"$f":"LN(Kurse_Tag!E142/Kurse_Tag!E141)","v":4.7097588824373704E-2},{"$f":"LN(Kurse_Tag!F142/Kurse_Tag!F141)","v":4.7165468442429921E-2},{"$f":"LN(Kurse_Tag!G142/Kurse_Tag!G141)","v":2.9561951356879296E-2},{"$f":"LN(Kurse_Tag!H142/Kurse_Tag!H141)","v":-2.0752506694155379E-2},{"$f":"LN(Kurse_Tag!I142/Kurse_Tag!I141)","v":-1.2420420748094475E-2}]
["2009-03-24",{"$f":"LN(Kurse_Tag!B143/Kurse_Tag!B142)","v":-3.8583466039156473E-2},{"$f":"LN(Kurse_Tag!C143/Kurse_Tag!C142)","v":-3.0633497852902515E-2},{"$f":"LN(Kurse_Tag!D143/Kurse_Tag!D142)","v":7.0546740139253866E-4},{"$f":"LN(Kurse_Tag!E143/Kurse_Tag!E142)","v":-5.0053733390694414E-3},{"$f":"LN(Kurse_Tag!F143/Kurse_Tag!F142)","v":1.6129381929883717E-2},{"$f":"LN(Kurse_Tag!G143/Kurse_Tag!G142)","v":-9.4517965448676219E-4},{"$f":"LN(Kurse_Tag!H143/Kurse_Tag!H142)","v":-7.4792684093536012E-3},{"$f":"LN(Kurse_Tag!I143/Kurse_Tag!I142)","v":-7.5955133672380524E-3}]
["2009-03-25",{"$f":"LN(Kurse_Tag!B144/Kurse_Tag!B143)","v":2.2610719388695792E-3},{"$f":"LN(Kurse_Tag!C144/Kurse_Tag!C143)","v":3.2614024123308518E-3},{"$f":"LN(Kurse_Tag!D144/Kurse_Tag!D143)","v":9.4055582124241456E-3},{"$f":"LN(Kurse_Tag!E144/Kurse_Tag!E143)","v":3.174869831458027E-2},{"$f":"LN(Kurse_Tag!F144/Kurse_Tag!F143)","v":2.1631020126294698E-2},{"$f":"LN(Kurse_Tag!G144/Kurse_Tag!G143)","v":-7.1174677688639896E-3},{"$f":"LN(Kurse_Tag!H144/Kurse_Tag!H143)","v":-6.3314550540013977E-3},{"$f":"LN(Kurse_Tag!I144/Kurse_Tag!I143)","v":-1.4496759183196995E-2}]
["2009-03-26",{"$f":"LN(Kurse_Tag!B145/Kurse_Tag!B144)","v":2.3625932200602981E-2},{"$f":"LN(Kurse_Tag!C145/Kurse_Tag!C144)","v":1.5069977694975464E-2},{"$f":"LN(Kurse_Tag!D145/Kurse_Tag!D144)","v":-1.5205135964721891E-2},{"$f":"LN(Kurse_Tag!E145/Kurse_Tag!E144)","v":-3.8267571486267559E-3},{"$f":"LN(Kurse_Tag!F145/Kurse_Tag!F144)","v":5.724709883560491E-3},{"$f":"LN(Kurse_Tag!G145/Kurse_Tag!G144)","v":2.5389234004819593E-2},{"$f":"LN(Kurse_Tag!H145/Kurse_Tag!H144)","v":-1.2242854385027525E-2},{"$f":"LN(Kurse_Tag!I145/Kurse_Tag!I144)","v":3.8171296456213331E-3}]
["2009-03-27",{"$f":"LN(Kurse_Tag!B146/Kurse_Tag!B145)","v":-1.4768915555495766E-2},{"$f":"LN(Kurse_Tag!C146/Kurse_Tag!C145)","v":-4.696691084074861E-3},{"$f":"LN(Kurse_Tag!D146/Kurse_Tag!D145)","v":-1.0266737834639026E-2},{"$f":"LN(Kurse_Tag!E146/Kurse_Tag!E145)","v":2.4369028595726009E-3},{"$f":"LN(Kurse_Tag!F146/Kurse_Tag!F145)","v":-1.8858599755908839E-2},{"$f":"LN(Kurse_Tag!G146/Kurse_Tag!G145)","v":3.5529503661005397E-3},{"$f":"LN(Kurse_Tag!H146/Kurse_Tag!H145)","v":1.4646862220604347E-2},{"$f":"LN(Kurse_Tag!I146/Kurse_Tag!I145)","v":-7.5616370034046919E-3}]
["2009-03-30",{"$f":"LN(Kurse_Tag!B147/Kurse_Tag!B146)","v":3.9506896967781988E-3},{"$f":"LN(Kurse_Tag!C147/Kurse_Tag!C146)","v":1.3199703954941262E-2},{"$f":"LN(Kurse_Tag!D147/Kurse_Tag!D146)","v":-3.6787099469196685E-2},{"$f":"LN(Kurse_Tag!E147/Kurse_Tag!E146)","v":-1.9309007838941065E-2},{"$f":"LN(Kurse_Tag!F147/Kurse_Tag!F146)","v":-1.1167358809825221E-2},{"$f":"LN(Kurse_Tag!G147/Kurse_Tag!G146)","v":-6.120304658914151E-2},{"$f":"LN(Kurse_Tag!H147/Kurse_Tag!H146)","v":3.8276236984990691E-2},{"$f":"LN(Kurse_Tag!I147/Kurse_Tag!I146)","v":2.0722551236498597E-2}]
["2009-03-31",{"$f":"LN(Kurse_Tag!B148/Kurse_Tag!B147)","v":-5.6458854533764112E-2},{"$f":"LN(Kurse_Tag!C148/Kurse_Tag!C147)","v":-2.3980459232345697E-2},{"$f":"LN(Kurse_Tag!D148/Kurse_Tag!D147)","v":2.9450520492327471E-2},{"$f":"LN(Kurse_Tag!E148/Kurse_Tag!E147)","v":-3.6459551711953371E-2},{"$f":"LN(Kurse_Tag!F148/Kurse_Tag!F147)","v":2.846792137701943E-2},{"$f":"LN(Kurse_Tag!G148/Kurse_Tag!G147)","v":5.3952554645810002E-3},{"$f":"LN(Kurse_Tag!H148/Kurse_Tag!H147)","v":-1.1492153078173349E-2},{"$f":"LN(Kurse_Tag!I148/Kurse_Tag!I147)","v":9.4408526003385874E-3}]
["2009-04-01",{"$f":"LN(Kurse_Tag!B149/Kurse_Tag!B148)","v":2.6791276831856416E-2},{"$f":"LN(Kurse_Tag!C149/Kurse_Tag!C148)","v":1.4872374066397593E-2},{"$f":"LN(Kurse_Tag!D149/Kurse_Tag!D148)","v":1.95874444465549E-2},{"$f":"LN(Kurse_Tag!E149/Kurse_Tag!E148)","v":6.4768274154090144E-2},{"$f":"LN(Kurse_Tag!F149/Kurse_Tag!F148)","v":1.5983841193814362E-2},{"$f":"LN(Kurse_Tag!G149/Kurse_Tag!G148)","v":3.2557411145065123E-3},{"$f":"LN(Kurse_Tag!H149/Kurse_Tag!H148)","v":-1.8150745650980113E-2},{"$f":"LN(Kurse_Tag!I149/Kurse_Tag!I148)","v":-2.0871512919631078E-2}]
["2009-04-02",{"$f":"LN(Kurse_Tag!B150/Kurse_Tag!B149)","v":-3.7152265631292626E-2},{"$f":"LN(Kurse_Tag!C150/Kurse_Tag!C149)","v":-4.0981932513866344E-2},{"$f":"LN(Kurse_Tag!D150/Kurse_Tag!D149)","v":4.6610109783339015E-2},{"$f":"LN(Kurse_Tag!E150/Kurse_Tag!E149)","v":7.8943262218237123E-3},{"$f":"LN(Kurse_Tag!F150/Kurse_Tag!F149)","v":9.1650336031492263E-3},{"$f":"LN(Kurse_Tag!G150/Kurse_Tag!G149)","v":6.7094977578872436E-2},{"$f":"LN(Kurse_Tag!H150/Kurse_Tag!H149)","v":-4.9683242869326967E-2},{"$f":"LN(Kurse_Tag!I150/Kurse_Tag!I149)","v":8.6434158833482939E-5}]
["2009-04-03",{"$f":"LN(Kurse_Tag!B151/Kurse_Tag!B150)","v":6.5775413532017553E-3},{"$f":"LN(Kurse_Tag!C151/Kurse_Tag!C150)","v":3.0712554854137614E-3},{"$f":"LN(Kurse_Tag!D151/Kurse_Tag!D150)","v":-1.3605652055778598E-2},{"$f":"LN(Kurse_Tag!E151/Kurse_Tag!E150)","v":7.4932230717377844E-3},{"$f":"LN(Kurse_Tag!F151/Kurse_Tag!F150)","v":-2.514887479696367E-2},{"$f":"LN(Kurse_Tag!G151/Kurse_Tag!G150)","v":1.1483958181681731E-2},{"$f":"LN(Kurse_Tag!H151/Kurse_Tag!H150)","v":-1.8374877037672242E-2},{"$f":"LN(Kurse_Tag!I151/Kurse_Tag!I150)","v":-4.1572898953939723E-3}]
["2009-04-06",{"$f":"LN(Kurse_Tag!B152/Kurse_Tag!B151)","v":-4.4287680201116238E-2},{"$f":"LN(Kurse_Tag!C152/Kurse_Tag!C151)","v":-2.8302308917992888E-2},{"$f":"LN(Kurse_Tag!D152/Kurse_Tag!D151)","v":-1.0188715428896933E-2},{"$f":"LN(Kurse_Tag!E152/Kurse_Tag!E151)","v":-4.0510992100411404E-2},{"$f":"LN(Kurse_Tag!F152/Kurse_Tag!F151)","v":1.5983841193814362E-2},{"$f":"LN(Kurse_Tag!G152/Kurse_Tag!G151)","v":-1.07243683236632E-2},{"$f":"LN(Kurse_Tag!H152/Kurse_Tag!H151)","v":2.4471612009345414E-2},{"$f":"LN(Kurse_Tag!I152/Kurse_Tag!I151)","v":-2.0961083153882336E-2}]
["2009-04-07",{"$f":"LN(Kurse_Tag!B153/Kurse_Tag!B152)","v":2.0172518182586769E-2},{"$f":"LN(Kurse_Tag!C153/Kurse_Tag!C152)","v":1.6891236755192596E-2},{"$f":"LN(Kurse_Tag!D153/Kurse_Tag!D152)","v":-9.5947339689882415E-3},{"$f":"LN(Kurse_Tag!E153/Kurse_Tag!E152)","v":3.0964380216831362E-2},{"$f":"LN(Kurse_Tag!F153/Kurse_Tag!F152)","v":1.5732372185651652E-2},{"$f":"LN(Kurse_Tag!G153/Kurse_Tag!G152)","v":-1.5302517426837107E-2},{"$f":"LN(Kurse_Tag!H153/Kurse_Tag!H152)","v":-1.451529544644332E-3},{"$f":"LN(Kurse_Tag!I153/Kurse_Tag!I152)","v":-5.777537070163743E-3}]
["2009-04-08",{"$f":"LN(Kurse_Tag!B154/Kurse_Tag!B153)","v":2.105769476061017E-3},{"$f":"LN(Kurse_Tag!C154/Kurse_Tag!C153)","v":8.8011067601415187E-3},{"$f":"LN(Kurse_Tag!D154/Kurse_Tag!D153)","v":-1.2583014592786985E-3},{"$f":"LN(Kurse_Tag!E154/Kurse_Tag!E153)","v":-1.3450797724123104E-2},{"$f":"LN(Kurse_Tag!F154/Kurse_Tag!F153)","v":2.5144594590784607E-3},{"$f":"LN(Kurse_Tag!G154/Kurse_Tag!G153)","v":1.1193860654049375E-2},{"$f":"LN(Kurse_Tag!H154/Kurse_Tag!H153)","v":-1.0919189060443783E-2},{"$f":"LN(Kurse_Tag!I154/Kurse_Tag!I153)","v":1.1521885860459763E-2}]
["2009-04-09",{"$f":"LN(Kurse_Tag!B155/Kurse_Tag!B154)","v":-5.9222144440431021E-3},{"$f":"LN(Kurse_Tag!C155/Kurse_Tag!C154)","v":-3.8506016002852572E-3},{"$f":"LN(Kurse_Tag!D155/Kurse_Tag!D154)","v":2.582481429776327E-2},{"$f":"LN(Kurse_Tag!E155/Kurse_Tag!E154)","v":3.4133006369458617E-2},{"$f":"LN(Kurse_Tag!F155/Kurse_Tag!F154)","v":-7.0564808935794539E-3},{"$f":"LN(Kurse_Tag!G155/Kurse_Tag!G154)","v":2.052592436667831E-2},{"$f":"LN(Kurse_Tag!H155/Kurse_Tag!H154)","v":-3.2696587076338067E-2},{"$f":"LN(Kurse_Tag!I155/Kurse_Tag!I154)","v":9.9084505679571458E-3}]
["2009-04-14",{"$f":"LN(Kurse_Tag!B156/Kurse_Tag!B155)","v":1.3385895984132921E-2},{"$f":"LN(Kurse_Tag!C156/Kurse_Tag!C155)","v":-2.2989368277060158E-3},{"$f":"LN(Kurse_Tag!D156/Kurse_Tag!D155)","v":2.2112266724307262E-2},{"$f":"LN(Kurse_Tag!E156/Kurse_Tag!E155)","v":1.2671059828343956E-2},{"$f":"LN(Kurse_Tag!F156/Kurse_Tag!F155)","v":-6.0882988672554053E-3},{"$f":"LN(Kurse_Tag!G156/Kurse_Tag!G155)","v":3.1758034990443683E-2},{"$f":"LN(Kurse_Tag!H156/Kurse_Tag!H155)","v":-2.3466846807255214E-2},{"$f":"LN(Kurse_Tag!I156/Kurse_Tag!I155)","v":-5.2365160910334218E-4}]
["2009-04-15",{"$f":"LN(Kurse_Tag!B157/Kurse_Tag!B156)","v":2.3258546302464142E-2},{"$f":"LN(Kurse_Tag!C157/Kurse_Tag!C156)","v":8.9557433907220593E-3},{"$f":"LN(Kurse_Tag!D157/Kurse_Tag!D156)","v":-6.1530424196954564E-3},{"$f":"LN(Kurse_Tag!E157/Kurse_Tag!E156)","v":-2.9865626977489674E-3},{"$f":"LN(Kurse_Tag!F157/Kurse_Tag!F156)","v":-1.3319869060709699E-2},{"$f":"LN(Kurse_Tag!G157/Kurse_Tag!G156)","v":0},{"$f":"LN(Kurse_Tag!H157/Kurse_Tag!H156)","v":8.4705695583253103E-3},{"$f":"LN(Kurse_Tag!I157/Kurse_Tag!I156)","v":-3.0601116775946639E-3}]
["2009-04-16",{"$f":"LN(Kurse_Tag!B158/Kurse_Tag!B157)","v":-3.8762732838429508E-2},{"$f":"LN(Kurse_Tag!C158/Kurse_Tag!C157)","v":-1.3091042179666536E-2},{"$f":"LN(Kurse_Tag!D158/Kurse_Tag!D157)","v":1.6500707049679559E-2},{"$f":"LN(Kurse_Tag!E158/Kurse_Tag!E157)","v":-2.9955089797984512E-3},{"$f":"LN(Kurse_Tag!F158/Kurse_Tag!F157)","v":2.0607941347882161E-3},{"$f":"LN(Kurse_Tag!G158/Kurse_Tag!G157)","v":5.3402739311653163E-3},{"$f":"LN(Kurse_Tag!H158/Kurse_Tag!H157)","v":-1.3736276834279111E-2},{"$f":"LN(Kurse_Tag!I158/Kurse_Tag!I157)","v":1.0453056852089441E-2}]
["2009-04-17",{"$f":"LN(Kurse_Tag!B159/Kurse_Tag!B158)","v":-1.9125178245186055E-2},{"$f":"LN(Kurse_Tag!C159/Kurse_Tag!C158)","v":1.7938560601484363E-3},{"$f":"LN(Kurse_Tag!D159/Kurse_Tag!D158)","v":1.7789874002625713E-2},{"$f":"LN(Kurse_Tag!E159/Kurse_Tag!E158)","v":1.0280309407556381E-2},{"$f":"LN(Kurse_Tag!F159/Kurse_Tag!F158)","v":-1.451554776269383E-2},{"$f":"LN(Kurse_Tag!G159/Kurse_Tag!G158)","v":2.1221333296534452E-2},{"$f":"LN(Kurse_Tag!H159/Kurse_Tag!H158)","v":-5.3683397639686234E-3},{"$f":"LN(Kurse_Tag!I159/Kurse_Tag!I158)","v":1.8181036132311659E-3}]
["2009-04-20",{"$f":"LN(Kurse_Tag!B160/Kurse_Tag!B159)","v":2.5592316392265016E-2},{"$f":"LN(Kurse_Tag!C160/Kurse_Tag!C159)","v":2.2083046897616362E-2},{"$f":"LN(Kurse_Tag!D160/Kurse_Tag!D159)","v":-2.8004196409597344E-2},{"$f":"LN(Kurse_Tag!E160/Kurse_Tag!E159)","v":6.248992543654304E-3},{"$f":"LN(Kurse_Tag!F160/Kurse_Tag!F159)","v":-8.3901908024604389E-3},{"$f":"LN(Kurse_Tag!G160/Kurse_Tag!G159)","v":-3.5282592733144325E-2},{"$f":"LN(Kurse_Tag!H160/Kurse_Tag!H159)","v":2.9683637669420244E-2},{"$f":"LN(Kurse_Tag!I160/Kurse_Tag!I159)","v":1.6981540148094072E-2}]
["2009-04-21",{"$f":"LN(Kurse_Tag!B161/Kurse_Tag!B160)","v":-1.0522970976340133E-2},{"$f":"LN(Kurse_Tag!C161/Kurse_Tag!C160)","v":-3.3601937142094568E-3},{"$f":"LN(Kurse_Tag!D161/Kurse_Tag!D160)","v":-2.867386058460767E-2},{"$f":"LN(Kurse_Tag!E161/Kurse_Tag!E160)","v":-1.9533810971509333E-2},{"$f":"LN(Kurse_Tag!F161/Kurse_Tag!F160)","v":-2.1085932957590789E-3},{"$f":"LN(Kurse_Tag!G161/Kurse_Tag!G160)","v":-1.9458161084032859E-2},{"$f":"LN(Kurse_Tag!H161/Kurse_Tag!H160)","v":1.7339187594677997E-2},{"$f":"LN(Kurse_Tag!I161/Kurse_Tag!I160)","v":7.7089627398613534E-3}]
["2009-04-22",{"$f":"LN(Kurse_Tag!B162/Kurse_Tag!B161)","v":1.8093743442699081E-2},{"$f":"LN(Kurse_Tag!C162/Kurse_Tag!C161)","v":8.4262789277526396E-4},{"$f":"LN(Kurse_Tag!D162/Kurse_Tag!D161)","v":4.1524272563427465E-2},{"$f":"LN(Kurse_Tag!E162/Kurse_Tag!E161)","v":1.9533810971509313E-2},{"$f":"LN(Kurse_Tag!F162/Kurse_Tag!F161)","v":-8.4791181030613935E-3},{"$f":"LN(Kurse_Tag!G162/Kurse_Tag!G161)","v":5.4924802220610762E-3},{"$f":"LN(Kurse_Tag!H162/Kurse_Tag!H161)","v":-3.7869272979753947E-2},{"$f":"LN(Kurse_Tag!I162/Kurse_Tag!I161)","v":3.9583999132488537E-3}]
["2009-04-23",{"$f":"LN(Kurse_Tag!B163/Kurse_Tag!B162)","v":4.4483661006218186E-2},{"$f":"LN(Kurse_Tag!C163/Kurse_Tag!C162)","v":1.5927361963084676E-2},{"$f":"LN(Kurse_Tag!D163/Kurse_Tag!D162)","v":3.9481477120084136E-4},{"$f":"LN(Kurse_Tag!E163/Kurse_Tag!E162)","v":-9.5536882147852688E-3},{"$f":"LN(Kurse_Tag!F163/Kurse_Tag!F162)","v":-1.6635747211835777E-2},{"$f":"LN(Kurse_Tag!G163/Kurse_Tag!G162)","v":0},{"$f":"LN(Kurse_Tag!H163/Kurse_Tag!H162)","v":-5.0501406997518275E-3},{"$f":"LN(Kurse_Tag!I163/Kurse_Tag!I162)","v":-1.0933098940277104E-3}]
["2009-04-24",{"$f":"LN(Kurse_Tag!B164/Kurse_Tag!B163)","v":-2.2496779583204861E-2},{"$f":"LN(Kurse_Tag!C164/Kurse_Tag!C163)","v":-1.3115633449366056E-2},{"$f":"LN(Kurse_Tag!D164/Kurse_Tag!D163)","v":1.2682395259895051E-2},{"$f":"LN(Kurse_Tag!E164/Kurse_Tag!E163)","v":7.5845375949044102E-3},{"$f":"LN(Kurse_Tag!F164/Kurse_Tag!F163)","v":2.1943615299879985E-2},{"$f":"LN(Kurse_Tag!G164/Kurse_Tag!G163)","v":8.5495803793689453E-3},{"$f":"LN(Kurse_Tag!H164/Kurse_Tag!H163)","v":-1.7348638334612976E-2},{"$f":"LN(Kurse_Tag!I164/Kurse_Tag!I163)","v":-2.7807053940496194E-3}]
["2009-04-27",{"$f":"LN(Kurse_Tag!B165/Kurse_Tag!B164)","v":2.0107963720895548E-2},{"$f":"LN(Kurse_Tag!C165/Kurse_Tag!C164)","v":5.147463800189084E-3},{"$f":"LN(Kurse_Tag!D165/Kurse_Tag!D164)","v":6.8622008130752431E-3},{"$f":"LN(Kurse_Tag!E165/Kurse_Tag!E164)","v":-7.5845375949044908E-3},{"$f":"LN(Kurse_Tag!F165/Kurse_Tag!F164)","v":1.0007984506722143E-2},{"$f":"LN(Kurse_Tag!G165/Kurse_Tag!G164)","v":3.6320464344959835E-2},{"$f":"LN(Kurse_Tag!H165/Kurse_Tag!H164)","v":-1.0739278354054936E-2},{"$f":"LN(Kurse_Tag!I165/Kurse_Tag!I164)","v":-9.9216417026434366E-3}]
["2009-04-28",{"$f":"LN(Kurse_Tag!B166/Kurse_Tag!B165)","v":-4.0628569221381389E-2},{"$f":"LN(Kurse_Tag!C166/Kurse_Tag!C165)","v":-1.402856012206785E-2},{"$f":"LN(Kurse_Tag!D166/Kurse_Tag!D165)","v":-1.5867155627082952E-2},{"$f":"LN(Kurse_Tag!E166/Kurse_Tag!E165)","v":-1.0983635133964076E-2},{"$f":"LN(Kurse_Tag!F166/Kurse_Tag!F165)","v":-9.47874395454377E-3},{"$f":"LN(Kurse_Tag!G166/Kurse_Tag!G165)","v":-2.5081931110923592E-2},{"$f":"LN(Kurse_Tag!H166/Kurse_Tag!H165)","v":1.3764999270591971E-2},{"$f":"LN(Kurse_Tag!I166/Kurse_Tag!I165)","v":9.7528653309348432E-3}]
["2009-04-29",{"$f":"LN(Kurse_Tag!B167/Kurse_Tag!B166)","v":1.7033588396592414E-2},{"$f":"LN(Kurse_Tag!C167/Kurse_Tag!C166)","v":-9.1798603089447151E-3},{"$f":"LN(Kurse_Tag!D167/Kurse_Tag!D166)","v":1.5996179561201692E-2},{"$f":"LN(Kurse_Tag!E167/Kurse_Tag!E166)","v":4.0080213975388678E-3},{"$f":"LN(Kurse_Tag!F167/Kurse_Tag!F166)","v":-1.0103781779598375E-2},{"$f":"LN(Kurse_Tag!G167/Kurse_Tag!G166)","v":2.7061569766485029E-2},{"$f":"LN(Kurse_Tag!H167/Kurse_Tag!H166)","v":-1.4454416740159811E-2},{"$f":"LN(Kurse_Tag!I167/Kurse_Tag!I166)","v":1.1495826201390533E-2}]
["2009-04-30",{"$f":"LN(Kurse_Tag!B168/Kurse_Tag!B167)","v":-3.6078261254582737E-2},{"$f":"LN(Kurse_Tag!C168/Kurse_Tag!C167)","v":-8.5079716862046951E-3},{"$f":"LN(Kurse_Tag!D168/Kurse_Tag!D167)","v":2.9116544162343019E-2},{"$f":"LN(Kurse_Tag!E168/Kurse_Tag!E167)","v":-7.696206634470403E-3},{"$f":"LN(Kurse_Tag!F168/Kurse_Tag!F167)","v":-1.6047074853017685E-3},{"$f":"LN(Kurse_Tag!G168/Kurse_Tag!G167)","v":2.4558231544098766E-2},{"$f":"LN(Kurse_Tag!H168/Kurse_Tag!H167)","v":-2.4198481819528449E-2},{"$f":"LN(Kurse_Tag!I168/Kurse_Tag!I167)","v":-1.8610279856667713E-2}]
["2009-05-04",{"$f":"LN(Kurse_Tag!B169/Kurse_Tag!B168)","v":4.6503045341391325E-2},{"$f":"LN(Kurse_Tag!C169/Kurse_Tag!C168)","v":1.1913764821037674E-2},{"$f":"LN(Kurse_Tag!D169/Kurse_Tag!D168)","v":1.0099206839746419E-2},{"$f":"LN(Kurse_Tag!E169/Kurse_Tag!E168)","v":2.4553323700893265E-2},{"$f":"LN(Kurse_Tag!F169/Kurse_Tag!F168)","v":4.0393637263758719E-2},{"$f":"LN(Kurse_Tag!G169/Kurse_Tag!G168)","v":1.102080287879886E-3},{"$f":"LN(Kurse_Tag!H169/Kurse_Tag!H168)","v":-1.3356187006473603E-2},{"$f":"LN(Kurse_Tag!I169/Kurse_Tag!I168)","v":-2.5568474158202306E-2}]
["2009-05-05",{"$f":"LN(Kurse_Tag!B170/Kurse_Tag!B169)","v":2.949652044407159E-2},{"$f":"LN(Kurse_Tag!C170/Kurse_Tag!C169)","v":2.6058326363522432E-3},{"$f":"LN(Kurse_Tag!D170/Kurse_Tag!D169)","v":-2.8573222744545791E-3},{"$f":"LN(Kurse_Tag!E170/Kurse_Tag!E169)","v":-4.2700015609515619E-3},{"$f":"LN(Kurse_Tag!F170/Kurse_Tag!F169)","v":-6.188776844215876E-3},{"$f":"LN(Kurse_Tag!G170/Kurse_Tag!G169)","v":1.190734660071428E-2},{"$f":"LN(Kurse_Tag!H170/Kurse_Tag!H169)","v":2.4633490147319454E-3},{"$f":"LN(Kurse_Tag!I170/Kurse_Tag!I169)","v":-4.0192277784523054E-3}]
["2009-05-06",{"$f":"LN(Kurse_Tag!B171/Kurse_Tag!B170)","v":3.6021563530632149E-2},{"$f":"LN(Kurse_Tag!C171/Kurse_Tag!C170)","v":7.7130517701430512E-3},{"$f":"LN(Kurse_Tag!D171/Kurse_Tag!D170)","v":0},{"$f":"LN(Kurse_Tag!E171/Kurse_Tag!E170)","v":3.2704873686235515E-2},{"$f":"LN(Kurse_Tag!F171/Kurse_Tag!F170)","v":3.0991760343211253E-3},{"$f":"LN(Kurse_Tag!G171/Kurse_Tag!G170)","v":1.3596195160394302E-3},{"$f":"LN(Kurse_Tag!H171/Kurse_Tag!H170)","v":-2.7816429618768026E-3},{"$f":"LN(Kurse_Tag!I171/Kurse_Tag!I170)","v":3.5014005959974195E-4}]
["2009-05-07",{"$f":"LN(Kurse_Tag!B172/Kurse_Tag!B171)","v":-8.716112840364788E-3},{"$f":"LN(Kurse_Tag!C172/Kurse_Tag!C171)","v":1.5792816183255252E-3},{"$f":"LN(Kurse_Tag!D172/Kurse_Tag!D171)","v":6.819194486555713E-3},{"$f":"LN(Kurse_Tag!E172/Kurse_Tag!E171)","v":-2.5489361895527023E-2},{"$f":"LN(Kurse_Tag!F172/Kurse_Tag!F171)","v":1.2301539033809089E-2},{"$f":"LN(Kurse_Tag!G172/Kurse_Tag!G171)","v":0},{"$f":"LN(Kurse_Tag!H172/Kurse_Tag!H171)","v":1.5556834450599568E-2},{"$f":"LN(Kurse_Tag!I172/Kurse_Tag!I171)","v":7.9327443844994256E-3}]
["2009-05-08",{"$f":"LN(Kurse_Tag!B173/Kurse_Tag!B172)","v":3.3613477027049274E-3},{"$f":"LN(Kurse_Tag!C173/Kurse_Tag!C172)","v":-1.228285539290408E-2},{"$f":"LN(Kurse_Tag!D173/Kurse_Tag!D172)","v":2.0425097019321627E-2},{"$f":"LN(Kurse_Tag!E173/Kurse_Tag!E172)","v":1.5564516541111548E-2},{"$f":"LN(Kurse_Tag!F173/Kurse_Tag!F172)","v":4.0671128762591593E-3},{"$f":"LN(Kurse_Tag!G173/Kurse_Tag!G172)","v":1.0004139134275619E-2},{"$f":"LN(Kurse_Tag!H173/Kurse_Tag!H172)","v":-2.6117777475354705E-2},{"$f":"LN(Kurse_Tag!I173/Kurse_Tag!I172)","v":-5.5725002711911158E-3}]
["2009-05-11",{"$f":"LN(Kurse_Tag!B174/Kurse_Tag!B173)","v":-2.0853514855604462E-2},{"$f":"LN(Kurse_Tag!C174/Kurse_Tag!C173)","v":-1.1376510889047762E-2},{"$f":"LN(Kurse_Tag!D174/Kurse_Tag!D173)","v":-8.0224084082072683E-3},{"$f":"LN(Kurse_Tag!E174/Kurse_Tag!E173)","v":-9.3745635630376866E-3},{"$f":"LN(Kurse_Tag!F174/Kurse_Tag!F173)","v":0},{"$f":"LN(Kurse_Tag!G174/Kurse_Tag!G173)","v":-1.7231279065979811E-2},{"$f":"LN(Kurse_Tag!H174/Kurse_Tag!H173)","v":1.2548620085455403E-2},{"$f":"LN(Kurse_Tag!I174/Kurse_Tag!I173)","v":-1.9039799489813859E-2}]
["2009-05-12",{"$f":"LN(Kurse_Tag!B175/Kurse_Tag!B174)","v":2.4203601740886399E-2},{"$f":"LN(Kurse_Tag!C175/Kurse_Tag!C174)","v":7.1351318683485652E-3},{"$f":"LN(Kurse_Tag!D175/Kurse_Tag!D174)","v":-8.4564509088781211E-3},{"$f":"LN(Kurse_Tag!E175/Kurse_Tag!E174)","v":1.9617930977798674E-2},{"$f":"LN(Kurse_Tag!F175/Kurse_Tag!F174)","v":1.4606152389362102E-2},{"$f":"LN(Kurse_Tag!G175/Kurse_Tag!G174)","v":8.9918861984328077E-3},{"$f":"LN(Kurse_Tag!H175/Kurse_Tag!H174)","v":-1.5898254540997624E-3},{"$f":"LN(Kurse_Tag!I175/Kurse_Tag!I174)","v":5.1482449942011847E-3}]
["2009-05-13",{"$f":"LN(Kurse_Tag!B176/Kurse_Tag!B175)","v":-3.235999433771146E-3},{"$f":"LN(Kurse_Tag!C176/Kurse_Tag!C175)","v":4.6260683887822431E-3},{"$f":"LN(Kurse_Tag!D176/Kurse_Tag!D175)","v":-3.0364049442989347E-2},{"$f":"LN(Kurse_Tag!E176/Kurse_Tag!E175)","v":-1.8644063022237988E-2},{"$f":"LN(Kurse_Tag!F176/Kurse_Tag!F175)","v":1.242251999855711E-2},{"$f":"LN(Kurse_Tag!G176/Kurse_Tag!G175)","v":-1.5720370216635016E-2},{"$f":"LN(Kurse_Tag!H176/Kurse_Tag!H175)","v":2.761826253381754E-2},{"$f":"LN(Kurse_Tag!I176/Kurse_Tag!I175)","v":9.3409209316161392E-3}]
["2009-05-14",{"$f":"LN(Kurse_Tag!B177/Kurse_Tag!B176)","v":-7.2265696143944038E-3},{"$f":"LN(Kurse_Tag!C177/Kurse_Tag!C176)","v":5.2171362772869129E-3},{"$f":"LN(Kurse_Tag!D177/Kurse_Tag!D176)","v":1.3609081005371585E-2},{"$f":"LN(Kurse_Tag!E177/Kurse_Tag!E176)","v":-1.5367312386462394E-2},{"$f":"LN(Kurse_Tag!F177/Kurse_Tag!F176)","v":6.3992342420304774E-3},{"$f":"LN(Kurse_Tag!G177/Kurse_Tag!G176)","v":-3.3056231044638111E-2},{"$f":"LN(Kurse_Tag!H177/Kurse_Tag!H176)","v":2.936405788154824E-3},{"$f":"LN(Kurse_Tag!I177/Kurse_Tag!I176)","v":8.0370835350388192E-3}]
["2009-05-15",{"$f":"LN(Kurse_Tag!B178/Kurse_Tag!B177)","v":3.7511344601788943E-3},{"$f":"LN(Kurse_Tag!C178/Kurse_Tag!C177)","v":4.8915978710007786E-3},{"$f":"LN(Kurse_Tag!D178/Kurse_Tag!D177)","v":9.7148603137820998E-3},{"$f":"LN(Kurse_Tag!E178/Kurse_Tag!E177)","v":4.5096207833193271E-2},{"$f":"LN(Kurse_Tag!F178/Kurse_Tag!F177)","v":-9.8620128691158191E-3},{"$f":"LN(Kurse_Tag!G178/Kurse_Tag!G177)","v":1.4701989437403872E-2},{"$f":"LN(Kurse_Tag!H178/Kurse_Tag!H177)","v":3.3124091450541589E-3},{"$f":"LN(Kurse_Tag!I178/Kurse_Tag!I177)","v":9.5255309787869048E-3}]
["2009-05-18",{"$f":"LN(Kurse_Tag!B179/Kurse_Tag!B178)","v":-1.4700111742615105E-2},{"$f":"LN(Kurse_Tag!C179/Kurse_Tag!C178)","v":-1.8353607732564214E-3},{"$f":"LN(Kurse_Tag!D179/Kurse_Tag!D178)","v":2.2065126622693363E-2},{"$f":"LN(Kurse_Tag!E179/Kurse_Tag!E178)","v":-5.0521105247067844E-3},{"$f":"LN(Kurse_Tag!F179/Kurse_Tag!F178)","v":3.4627786270851556E-3},{"$f":"LN(Kurse_Tag!G179/Kurse_Tag!G178)","v":2.8498262793814056E-2},{"$f":"LN(Kurse_Tag!H179/Kurse_Tag!H178)","v":-3.0214250408445595E-2},{"$f":"LN(Kurse_Tag!I179/Kurse_Tag!I178)","v":1.6327242212904044E-2}]
["2009-05-19",{"$f":"LN(Kurse_Tag!B180/Kurse_Tag!B179)","v":1.5985480588220032E-2},{"$f":"LN(Kurse_Tag!C180/Kurse_Tag!C179)","v":-9.1589076773436918E-4},{"$f":"LN(Kurse_Tag!D180/Kurse_Tag!D179)","v":2.0639081539576543E-2},{"$f":"LN(Kurse_Tag!E180/Kurse_Tag!E179)","v":-2.8530689824063991E-3},{"$f":"LN(Kurse_Tag!F180/Kurse_Tag!F179)","v":-3.9584415864276443E-3},{"$f":"LN(Kurse_Tag!G180/Kurse_Tag!G179)","v":1.9717046577463468E-2},{"$f":"LN(Kurse_Tag!H180/Kurse_Tag!H179)","v":-2.5773173992581371E-2},{"$f":"LN(Kurse_Tag!I180/Kurse_Tag!I179)","v":-4.0781704779847654E-3}]
["2009-05-20",{"$f":"LN(Kurse_Tag!B181/Kurse_Tag!B180)","v":9.4314115510569698E-3},{"$f":"LN(Kurse_Tag!C181/Kurse_Tag!C180)","v":-1.6598985556918894E-3},{"$f":"LN(Kurse_Tag!D181/Kurse_Tag!D180)","v":3.6749493081098812E-3},{"$f":"LN(Kurse_Tag!E181/Kurse_Tag!E180)","v":-5.7306747089849834E-3},{"$f":"LN(Kurse_Tag!F181/Kurse_Tag!F180)","v":7.9012756741346727E-3},{"$f":"LN(Kurse_Tag!G181/Kurse_Tag!G180)","v":2.0646577768116053E-2},{"$f":"LN(Kurse_Tag!H181/Kurse_Tag!H180)","v":-1.153434195499234E-2},{"$f":"LN(Kurse_Tag!I181/Kurse_Tag!I180)","v":-1.5788898440043452E-2}]
["2009-05-22",{"$f":"LN(Kurse_Tag!B182/Kurse_Tag!B181)","v":1.0603147715070246E-2},{"$f":"LN(Kurse_Tag!C182/Kurse_Tag!C181)","v":9.7910757366017117E-3},{"$f":"LN(Kurse_Tag!D182/Kurse_Tag!D181)","v":-2.0441809165176995E-2},{"$f":"LN(Kurse_Tag!E182/Kurse_Tag!E181)","v":-1.0915036133879797E-2},{"$f":"LN(Kurse_Tag!F182/Kurse_Tag!F181)","v":-1.7866480212531337E-2},{"$f":"LN(Kurse_Tag!G182/Kurse_Tag!G181)","v":-2.8567677115649254E-2},{"$f":"LN(Kurse_Tag!H182/Kurse_Tag!H181)","v":2.6469029228118009E-2},{"$f":"LN(Kurse_Tag!I182/Kurse_Tag!I181)","v":5.4340928131357919E-3}]
["2009-05-25",{"$f":"LN(Kurse_Tag!B183/Kurse_Tag!B182)","v":4.150898467645589E-3},{"$f":"LN(Kurse_Tag!C183/Kurse_Tag!C182)","v":-2.0440602017206232E-3},{"$f":"LN(Kurse_Tag!D183/Kurse_Tag!D182)","v":4.9394715211243823E-3},{"$f":"LN(Kurse_Tag!E183/Kurse_Tag!E182)","v":6.4536949642365286E-4},{"$f":"LN(Kurse_Tag!F183/Kurse_Tag!F182)","v":1.3429696991540917E-2},{"$f":"LN(Kurse_Tag!G183/Kurse_Tag!G182)","v":-2.5642769972647811E-3},{"$f":"LN(Kurse_Tag!H183/Kurse_Tag!H182)","v":9.807517914073114E-3},{"$f":"LN(Kurse_Tag!I183/Kurse_Tag!I182)","v":-1.3771816987228996E-2}]
["2009-05-26",{"$f":"LN(Kurse_Tag!B184/Kurse_Tag!B183)","v":-6.7911640278218201E-3},{"$f":"LN(Kurse_Tag!C184/Kurse_Tag!C183)","v":-7.0069045456202282E-3},{"$f":"LN(Kurse_Tag!D184/Kurse_Tag!D183)","v":-5.060251761623908E-3},{"$f":"LN(Kurse_Tag!E184/Kurse_Tag!E183)","v":0},{"$f":"LN(Kurse_Tag!F184/Kurse_Tag!F183)","v":-3.9604012160967938E-3},{"$f":"LN(Kurse_Tag!G184/Kurse_Tag!G183)","v":-1.0050335853501338E-2},{"$f":"LN(Kurse_Tag!H184/Kurse_Tag!H183)","v":-1.9307629618273082E-2},{"$f":"LN(Kurse_Tag!I184/Kurse_Tag!I183)","v":-2.5324206871114416E-3}]
["2009-05-27",{"$f":"LN(Kurse_Tag!B185/Kurse_Tag!B184)","v":1.5738029750239864E-2},{"$f":"LN(Kurse_Tag!C185/Kurse_Tag!C184)","v":9.7384550261404058E-3},{"$f":"LN(Kurse_Tag!D185/Kurse_Tag!D184)","v":3.0151382668639551E-3},{"$f":"LN(Kurse_Tag!E185/Kurse_Tag!E184)","v":1.600034134644112E-2},{"$f":"LN(Kurse_Tag!F185/Kurse_Tag!F184)","v":-1.5496436069968391E-2},{"$f":"LN(Kurse_Tag!G185/Kurse_Tag!G184)","v":2.9057734479542765E-2},{"$f":"LN(Kurse_Tag!H185/Kurse_Tag!H184)","v":-4.7841161590497306E-3},{"$f":"LN(Kurse_Tag!I185/Kurse_Tag!I184)","v":1.5726021063793099E-3}]
["2009-05-28",{"$f":"LN(Kurse_Tag!B186/Kurse_Tag!B185)","v":2.1835336117685757E-2},{"$f":"LN(Kurse_Tag!C186/Kurse_Tag!C185)","v":4.8263603996099207E-3},{"$f":"LN(Kurse_Tag!D186/Kurse_Tag!D185)","v":-1.5656609640215782E-2},{"$f":"LN(Kurse_Tag!E186/Kurse_Tag!E185)","v":-1.2779726646398882E-2},{"$f":"LN(Kurse_Tag!F186/Kurse_Tag!F185)","v":-1.0126668817929271E-2},{"$f":"LN(Kurse_Tag!G186/Kurse_Tag!G185)","v":-3.0542484402755685E-3},{"$f":"LN(Kurse_Tag!H186/Kurse_Tag!H185)","v":1.1234711014796074E-2},{"$f":"LN(Kurse_Tag!I186/Kurse_Tag!I185)","v":-4.2867831711118146E-3}]
["2009-05-29",{"$f":"LN(Kurse_Tag!B187/Kurse_Tag!B186)","v":1.7085046669938379E-2},{"$f":"LN(Kurse_Tag!C187/Kurse_Tag!C186)","v":-5.9674684334716965E-4},{"$f":"LN(Kurse_Tag!D187/Kurse_Tag!D186)","v":4.1503965828121612E-3},{"$f":"LN(Kurse_Tag!E187/Kurse_Tag!E186)","v":1.2853472206637193E-3},{"$f":"LN(Kurse_Tag!F187/Kurse_Tag!F186)","v":-1.538491883947923E-2},{"$f":"LN(Kurse_Tag!G187/Kurse_Tag!G186)","v":-1.1772711220557563E-2},{"$f":"LN(Kurse_Tag!H187/Kurse_Tag!H186)","v":-5.8036596884314586E-3},{"$f":"LN(Kurse_Tag!I187/Kurse_Tag!I186)","v":-9.6908519834607854E-3}]
["2009-06-02",{"$f":"LN(Kurse_Tag!B188/Kurse_Tag!B187)","v":9.3429517989889084E-3},{"$f":"LN(Kurse_Tag!C188/Kurse_Tag!C187)","v":1.8072294075417677E-3},{"$f":"LN(Kurse_Tag!D188/Kurse_Tag!D187)","v":2.157099967354436E-2},{"$f":"LN(Kurse_Tag!E188/Kurse_Tag!E187)","v":-1.2853472206637586E-3},{"$f":"LN(Kurse_Tag!F188/Kurse_Tag!F187)","v":1.9954614529544615E-2},{"$f":"LN(Kurse_Tag!G188/Kurse_Tag!G187)","v":5.1279837157990185E-2},{"$f":"LN(Kurse_Tag!H188/Kurse_Tag!H187)","v":-3.7308234295727369E-2},{"$f":"LN(Kurse_Tag!I188/Kurse_Tag!I187)","v":-9.8750858087933348E-3}]
["2009-06-03",{"$f":"LN(Kurse_Tag!B189/Kurse_Tag!B188)","v":-3.1046283862971816E-3},{"$f":"LN(Kurse_Tag!C189/Kurse_Tag!C188)","v":-9.0320644406004463E-4},{"$f":"LN(Kurse_Tag!D189/Kurse_Tag!D188)","v":-1.1149189397265573E-2},{"$f":"LN(Kurse_Tag!E189/Kurse_Tag!E188)","v":8.9629281196980382E-3},{"$f":"LN(Kurse_Tag!F189/Kurse_Tag!F188)","v":0},{"$f":"LN(Kurse_Tag!G189/Kurse_Tag!G188)","v":-9.7636952407619982E-3},{"$f":"LN(Kurse_Tag!H189/Kurse_Tag!H188)","v":8.689168213448055E-3},{"$f":"LN(Kurse_Tag!I189/Kurse_Tag!I188)","v":-7.0880921226775181E-3}]
["2009-06-04",{"$f":"LN(Kurse_Tag!B190/Kurse_Tag!B189)","v":-1.2570086098722512E-3},{"$f":"LN(Kurse_Tag!C190/Kurse_Tag!C189)","v":1.802591223266889E-3},{"$f":"LN(Kurse_Tag!D190/Kurse_Tag!D189)","v":9.8369315292644779E-3},{"$f":"LN(Kurse_Tag!E190/Kurse_Tag!E189)","v":-2.8721896240957384E-3},{"$f":"LN(Kurse_Tag!F190/Kurse_Tag!F189)","v":1.0582109330537008E-2},{"$f":"LN(Kurse_Tag!G190/Kurse_Tag!G189)","v":-6.735776762457066E-3},{"$f":"LN(Kurse_Tag!H190/Kurse_Tag!H189)","v":-1.4151927439963945E-3},{"$f":"LN(Kurse_Tag!I190/Kurse_Tag!I189)","v":1.3497100172896539E-3}]
["2009-06-05",{"$f":"LN(Kurse_Tag!B191/Kurse_Tag!B190)","v":-2.4813135007348986E-3},{"$f":"LN(Kurse_Tag!C191/Kurse_Tag!C190)","v":-3.6114551472927938E-3},{"$f":"LN(Kurse_Tag!D191/Kurse_Tag!D190)","v":3.6937784029776768E-3},{"$f":"LN(Kurse_Tag!E191/Kurse_Tag!E190)","v":2.6491615446976501E-2},{"$f":"LN(Kurse_Tag!F191/Kurse_Tag!F190)","v":-2.8471674081312001E-2},{"$f":"LN(Kurse_Tag!G191/Kurse_Tag!G190)","v":1.6882024657528158E-3},{"$f":"LN(Kurse_Tag!H191/Kurse_Tag!H190)","v":1.2488033925311249E-3},{"$f":"LN(Kurse_Tag!I191/Kurse_Tag!I190)","v":-2.1604113182784649E-3}]
["2009-06-08",{"$f":"LN(Kurse_Tag!B192/Kurse_Tag!B191)","v":-2.1783614373281569E-2},{"$f":"LN(Kurse_Tag!C192/Kurse_Tag!C191)","v":-4.2940584291641269E-3},{"$f":"LN(Kurse_Tag!D192/Kurse_Tag!D191)","v":-7.1616443596956188E-3},{"$f":"LN(Kurse_Tag!E192/Kurse_Tag!E191)","v":-1.0953012019197206E-2},{"$f":"LN(Kurse_Tag!F192/Kurse_Tag!F191)","v":1.0772096981911261E-2},{"$f":"LN(Kurse_Tag!G192/Kurse_Tag!G191)","v":-1.398075950357074E-2},{"$f":"LN(Kurse_Tag!H192/Kurse_Tag!H191)","v":1.9037206020084185E-2},{"$f":"LN(Kurse_Tag!I192/Kurse_Tag!I191)","v":-7.5076106781368276E-3}]
["2009-06-09",{"$f":"LN(Kurse_Tag!B193/Kurse_Tag!B192)","v":-4.783413011440231E-3},{"$f":"LN(Kurse_Tag!C193/Kurse_Tag!C192)","v":-6.0184381791547068E-3},{"$f":"LN(Kurse_Tag!D193/Kurse_Tag!D192)","v":-6.7307946414211436E-3},{"$f":"LN(Kurse_Tag!E193/Kurse_Tag!E192)","v":1.1575289575058358E-2},{"$f":"LN(Kurse_Tag!F193/Kurse_Tag!F192)","v":1.0198879007453808E-3},{"$f":"LN(Kurse_Tag!G193/Kurse_Tag!G192)","v":-2.6350476380051138E-3},{"$f":"LN(Kurse_Tag!H193/Kurse_Tag!H192)","v":-8.1635985187634232E-5},{"$f":"LN(Kurse_Tag!I193/Kurse_Tag!I192)","v":5.3425218756814781E-3}]
["2009-06-10",{"$f":"LN(Kurse_Tag!B194/Kurse_Tag!B193)","v":0},{"$f":"LN(Kurse_Tag!C194/Kurse_Tag!C193)","v":-3.0534374868903431E-3},{"$f":"LN(Kurse_Tag!D194/Kurse_Tag!D193)","v":1.5081075774845755E-2},{"$f":"LN(Kurse_Tag!E194/Kurse_Tag!E193)","v":1.1750289801631692E-2},{"$f":"LN(Kurse_Tag!F194/Kurse_Tag!F193)","v":3.5614385138171877E-3},{"$f":"LN(Kurse_Tag!G194/Kurse_Tag!G193)","v":1.7004987920957799E-2},{"$f":"LN(Kurse_Tag!H194/Kurse_Tag!H193)","v":-1.9787932327002093E-2},{"$f":"LN(Kurse_Tag!I194/Kurse_Tag!I193)","v":2.3453014538711318E-3}]
["2009-06-11",{"$f":"LN(Kurse_Tag!B195/Kurse_Tag!B194)","v":4.6366699104952646E-3},{"$f":"LN(Kurse_Tag!C195/Kurse_Tag!C194)","v":-7.0584917884531327E-3},{"$f":"LN(Kurse_Tag!D195/Kurse_Tag!D194)","v":9.2231941512040446E-3},{"$f":"LN(Kurse_Tag!E195/Kurse_Tag!E194)","v":-1.6114386503488457E-2},{"$f":"LN(Kurse_Tag!F195/Kurse_Tag!F194)","v":-2.5425897247143654E-3},{"$f":"LN(Kurse_Tag!G195/Kurse_Tag!G194)","v":-9.0832420440925803E-4},{"$f":"LN(Kurse_Tag!H195/Kurse_Tag!H194)","v":1.4146039388307913E-3},{"$f":"LN(Kurse_Tag!I195/Kurse_Tag!I194)","v":-6.5082033933009003E-3}]
["2009-06-12",{"$f":"LN(Kurse_Tag!B196/Kurse_Tag!B195)","v":-2.0785595496020222E-2},{"$f":"LN(Kurse_Tag!C196/Kurse_Tag!C195)","v":-6.7985428729730761E-3},{"$f":"LN(Kurse_Tag!D196/Kurse_Tag!D195)","v":2.4687016593609307E-3},{"$f":"LN(Kurse_Tag!E196/Kurse_Tag!E195)","v":0},{"$f":"LN(Kurse_Tag!F196/Kurse_Tag!F195)","v":-1.0188487891027657E-3},{"$f":"LN(Kurse_Tag!G196/Kurse_Tag!G195)","v":-3.2507667922227483E-3},{"$f":"LN(Kurse_Tag!H196/Kurse_Tag!H195)","v":2.4085390157573042E-3},{"$f":"LN(Kurse_Tag!I196/Kurse_Tag!I195)","v":-2.5424512015618959E-3}]
["2009-06-15",{"$f":"LN(Kurse_Tag!B197/Kurse_Tag!B196)","v":-3.9716207255870377E-2},{"$f":"LN(Kurse_Tag!C197/Kurse_Tag!C196)","v":-6.2034741443499743E-4},{"$f":"LN(Kurse_Tag!D197/Kurse_Tag!D196)","v":-2.6170162476795628E-2},{"$f":"LN(Kurse_Tag!E197/Kurse_Tag!E196)","v":-1.7649370835322167E-2},{"$f":"LN(Kurse_Tag!F197/Kurse_Tag!F196)","v":-1.2823976718312501E-2},{"$f":"LN(Kurse_Tag!G197/Kurse_Tag!G196)","v":-1.9065727735048315E-2},{"$f":"LN(Kurse_Tag!H197/Kurse_Tag!H196)","v":2.1500910326212794E-2},{"$f":"LN(Kurse_Tag!I197/Kurse_Tag!I196)","v":-2.275520938195991E-3}]
["2009-06-16",{"$f":"LN(Kurse_Tag!B198/Kurse_Tag!B197)","v":-3.5582876294053384E-3},{"$f":"LN(Kurse_Tag!C198/Kurse_Tag!C197)","v":3.329851684801122E-3},{"$f":"LN(Kurse_Tag!D198/Kurse_Tag!D197)","v":-1.0053988147781349E-2},{"$f":"LN(Kurse_Tag!E198/Kurse_Tag!E197)","v":-3.8228781823492204E-3},{"$f":"LN(Kurse_Tag!F198/Kurse_Tag!F197)","v":4.6355993389544112E-3},{"$f":"LN(Kurse_Tag!G198/Kurse_Tag!G197)","v":-1.8759762268594587E-2},{"$f":"LN(Kurse_Tag!H198/Kurse_Tag!H197)","v":2.1086788024444079E-3},{"$f":"LN(Kurse_Tag!I198/Kurse_Tag!I197)","v":9.522585901752206E-3}]
["2009-06-17",{"$f":"LN(Kurse_Tag!B199/Kurse_Tag!B198)","v":-6.8731097401495062E-4},{"$f":"LN(Kurse_Tag!C199/Kurse_Tag!C198)","v":-3.3484680541751599E-3},{"$f":"LN(Kurse_Tag!D199/Kurse_Tag!D198)","v":-2.7649255756183475E-2},{"$f":"LN(Kurse_Tag!E199/Kurse_Tag!E198)","v":-5.1200111848545178E-3},{"$f":"LN(Kurse_Tag!F199/Kurse_Tag!F198)","v":-5.1400669340373277E-4},{"$f":"LN(Kurse_Tag!G199/Kurse_Tag!G198)","v":-2.6452580552953478E-2},{"$f":"LN(Kurse_Tag!H199/Kurse_Tag!H198)","v":2.8670360618991433E-2},{"$f":"LN(Kurse_Tag!I199/Kurse_Tag!I198)","v":1.4961085331474163E-2}]
["2009-06-18",{"$f":"LN(Kurse_Tag!B200/Kurse_Tag!B199)","v":6.7843325639552077E-3},{"$f":"LN(Kurse_Tag!C200/Kurse_Tag!C199)","v":-3.2787780739695618E-3},{"$f":"LN(Kurse_Tag!D200/Kurse_Tag!D199)","v":1.7739099406454684E-2},{"$f":"LN(Kurse_Tag!E200/Kurse_Tag!E199)","v":1.1166171210432584E-2},{"$f":"LN(Kurse_Tag!F200/Kurse_Tag!F199)","v":8.7023840727617451E-3},{"$f":"LN(Kurse_Tag!G200/Kurse_Tag!G199)","v":8.1610522806939041E-3},{"$f":"LN(Kurse_Tag!H200/Kurse_Tag!H199)","v":-1.4192507798887595E-2},{"$f":"LN(Kurse_Tag!I200/Kurse_Tag!I199)","v":4.5246938747816349E-3}]
["2009-06-19",{"$f":"LN(Kurse_Tag!B201/Kurse_Tag!B200)","v":3.3749837974249909E-3},{"$f":"LN(Kurse_Tag!C201/Kurse_Tag!C200)","v":1.7821297273569866E-3},{"$f":"LN(Kurse_Tag!D201/Kurse_Tag!D200)","v":1.4646911425909001E-2},{"$f":"LN(Kurse_Tag!E201/Kurse_Tag!E200)","v":3.0310084691330653E-2},{"$f":"LN(Kurse_Tag!F201/Kurse_Tag!F200)","v":2.2676708671029722E-2},{"$f":"LN(Kurse_Tag!G201/Kurse_Tag!G200)","v":1.0824247630386669E-2},{"$f":"LN(Kurse_Tag!H201/Kurse_Tag!H200)","v":8.8246388946133254E-3},{"$f":"LN(Kurse_Tag!I201/Kurse_Tag!I200)","v":-2.8366298605838384E-3}]
["2009-06-22",{"$f":"LN(Kurse_Tag!B202/Kurse_Tag!B201)","v":-3.2176799081122386E-2},{"$f":"LN(Kurse_Tag!C202/Kurse_Tag!C201)","v":-1.0031126629457382E-2},{"$f":"LN(Kurse_Tag!D202/Kurse_Tag!D201)","v":-3.4265121939638959E-2},{"$f":"LN(Kurse_Tag!E202/Kurse_Tag!E201)","v":-1.6447228782935083E-2},{"$f":"LN(Kurse_Tag!F202/Kurse_Tag!F201)","v":9.9601601859632474E-4},{"$f":"LN(Kurse_Tag!G202/Kurse_Tag!G201)","v":-3.2971541885820473E-2},{"$f":"LN(Kurse_Tag!H202/Kurse_Tag!H201)","v":1.6796564727897083E-2},{"$f":"LN(Kurse_Tag!I202/Kurse_Tag!I201)","v":-1.9548611165853226E-3}]
["2009-06-23",{"$f":"LN(Kurse_Tag!B203/Kurse_Tag!B202)","v":-2.5371339742017947E-2},{"$f":"LN(Kurse_Tag!C203/Kurse_Tag!C202)","v":-1.8688935063956025E-2},{"$f":"LN(Kurse_Tag!D203/Kurse_Tag!D202)","v":6.2676279080911058E-4},{"$f":"LN(Kurse_Tag!E203/Kurse_Tag!E202)","v":-7.8530323478179804E-3},{"$f":"LN(Kurse_Tag!F203/Kurse_Tag!F202)","v":1.3350012855479026E-2},{"$f":"LN(Kurse_Tag!G203/Kurse_Tag!G202)","v":-8.0605682839963635E-3},{"$f":"LN(Kurse_Tag!H203/Kurse_Tag!H202)","v":-1.0123428813020479E-3},{"$f":"LN(Kurse_Tag!I203/Kurse_Tag!I202)","v":5.6762901854855528E-3}]
["2009-06-24",{"$f":"LN(Kurse_Tag!B204/Kurse_Tag!B203)","v":3.987936623159654E-2},{"$f":"LN(Kurse_Tag!C204/Kurse_Tag!C203)","v":3.2757739718049024E-2},{"$f":"LN(Kurse_Tag!D204/Kurse_Tag!D203)","v":2.5486966608493908E-2},{"$f":"LN(Kurse_Tag!E204/Kurse_Tag!E203)","v":1.4091355760509485E-2},{"$f":"LN(Kurse_Tag!F204/Kurse_Tag!F203)","v":8.8020128180901804E-3},{"$f":"LN(Kurse_Tag!G204/Kurse_Tag!G203)","v":4.1304626863150902E-2},{"$f":"LN(Kurse_Tag!H204/Kurse_Tag!H203)","v":-9.7867291217410279E-3},{"$f":"LN(Kurse_Tag!I204/Kurse_Tag!I203)","v":4.4210620110883938E-4}]
["2009-06-25",{"$f":"LN(Kurse_Tag!B205/Kurse_Tag!B204)","v":1.1592356205316817E-2},{"$f":"LN(Kurse_Tag!C205/Kurse_Tag!C204)","v":1.3174408434582808E-2},{"$f":"LN(Kurse_Tag!D205/Kurse_Tag!D204)","v":-1.5759991301055789E-2},{"$f":"LN(Kurse_Tag!E205/Kurse_Tag!E204)","v":-8.1174345199666546E-3},{"$f":"LN(Kurse_Tag!F205/Kurse_Tag!F204)","v":-4.3913220116013653E-3},{"$f":"LN(Kurse_Tag!G205/Kurse_Tag!G204)","v":-8.6201532614749148E-3},{"$f":"LN(Kurse_Tag!H205/Kurse_Tag!H204)","v":2.6399048567339829E-2},{"$f":"LN(Kurse_Tag!I205/Kurse_Tag!I204)","v":-2.6555738364325253E-3}]
["2009-06-26",{"$f":"LN(Kurse_Tag!B206/Kurse_Tag!B205)","v":-1.3568523112899083E-3},{"$f":"LN(Kurse_Tag!C206/Kurse_Tag!C205)","v":-6.1244157796866011E-3},{"$f":"LN(Kurse_Tag!D206/Kurse_Tag!D205)","v":3.8397272666600871E-3},{"$f":"LN(Kurse_Tag!E206/Kurse_Tag!E205)","v":3.0258560397180456E-2},{"$f":"LN(Kurse_Tag!F206/Kurse_Tag!F205)","v":-1.4680697522911619E-3},{"$f":"LN(Kurse_Tag!G206/Kurse_Tag!G205)","v":0},{"$f":"LN(Kurse_Tag!H206/Kurse_Tag!H205)","v":-1.0166446158421376E-2},{"$f":"LN(Kurse_Tag!I206/Kurse_Tag!I205)","v":1.1456898033469307E-2}]
["2009-06-29",{"$f":"LN(Kurse_Tag!B207/Kurse_Tag!B206)","v":-1.9344076642121937E-2},{"$f":"LN(Kurse_Tag!C207/Kurse_Tag!C206)","v":-8.022258389143647E-3},{"$f":"LN(Kurse_Tag!D207/Kurse_Tag!D206)","v":9.3516123866128689E-3},{"$f":"LN(Kurse_Tag!E207/Kurse_Tag!E206)","v":-3.0418251185125258E-4},{"$f":"LN(Kurse_Tag!F207/Kurse_Tag!F206)","v":7.318890928346272E-3},{"$f":"LN(Kurse_Tag!G207/Kurse_Tag!G206)","v":1.2970350442627405E-2},{"$f":"LN(Kurse_Tag!H207/Kurse_Tag!H206)","v":-2.8821343931971829E-2},{"$f":"LN(Kurse_Tag!I207/Kurse_Tag!I206)","v":-1.9296558921627056E-3}]
["2009-06-30",{"$f":"LN(Kurse_Tag!B208/Kurse_Tag!B207)","v":-1.8004662660465746E-2},{"$f":"LN(Kurse_Tag!C208/Kurse_Tag!C207)","v":-5.2803353003254925E-3},{"$f":"LN(Kurse_Tag!D208/Kurse_Tag!D207)","v":-2.9437038305878448E-3},{"$f":"LN(Kurse_Tag!E208/Kurse_Tag!E207)","v":-9.1687683879858178E-3},{"$f":"LN(Kurse_Tag!F208/Kurse_Tag!F207)","v":-5.3619431413853991E-3},{"$f":"LN(Kurse_Tag!G208/Kurse_Tag!G207)","v":8.105961703960482E-3},{"$f":"LN(Kurse_Tag!H208/Kurse_Tag!H207)","v":1.6201405469501932E-2},{"$f":"LN(Kurse_Tag!I208/Kurse_Tag!I207)","v":-2.2853134671493064E-3}]
["2009-07-01",{"$f":"LN(Kurse_Tag!B209/Kurse_Tag!B208)","v":7.0447343526383772E-4},{"$f":"LN(Kurse_Tag!C209/Kurse_Tag!C208)","v":3.6184843107861988E-3},{"$f":"LN(Kurse_Tag!D209/Kurse_Tag!D208)","v":1.3542572617164622E-2},{"$f":"LN(Kurse_Tag!E209/Kurse_Tag!E208)","v":-3.6911761380430752E-3},{"$f":"LN(Kurse_Tag!F209/Kurse_Tag!F208)","v":1.4074486153226869E-2},{"$f":"LN(Kurse_Tag!G209/Kurse_Tag!G208)","v":-6.7299282437798132E-4},{"$f":"LN(Kurse_Tag!H209/Kurse_Tag!H208)","v":-1.2304935190378863E-2},{"$f":"LN(Kurse_Tag!I209/Kurse_Tag!I208)","v":-7.6852107417908593E-3}]
["2009-07-02",{"$f":"LN(Kurse_Tag!B210/Kurse_Tag!B209)","v":-2.0166778098077775E-2},{"$f":"LN(Kurse_Tag!C210/Kurse_Tag!C209)","v":-3.9611154094673622E-3},{"$f":"LN(Kurse_Tag!D210/Kurse_Tag!D209)","v":-2.3417976907541431E-2},{"$f":"LN(Kurse_Tag!E210/Kurse_Tag!E209)","v":-4.2492623964910645E-2},{"$f":"LN(Kurse_Tag!F210/Kurse_Tag!F209)","v":-1.212136053234485E-2},{"$f":"LN(Kurse_Tag!G210/Kurse_Tag!G209)","v":-9.3338520045767644E-3},{"$f":"LN(Kurse_Tag!H210/Kurse_Tag!H209)","v":2.2522237348821805E-2},{"$f":"LN(Kurse_Tag!I210/Kurse_Tag!I209)","v":-7.2086815969436124E-3}]
["2009-07-03",{"$f":"LN(Kurse_Tag!B211/Kurse_Tag!B210)","v":5.982143106121468E-3},{"$f":"LN(Kurse_Tag!C211/Kurse_Tag!C210)","v":5.0000958755057464E-3},{"$f":"LN(Kurse_Tag!D211/Kurse_Tag!D210)","v":-7.346107866420642E-3},{"$f":"LN(Kurse_Tag!E211/Kurse_Tag!E210)","v":1.5632795628805242E-2},{"$f":"LN(Kurse_Tag!F211/Kurse_Tag!F210)","v":3.408817520503309E-3},{"$f":"LN(Kurse_Tag!G211/Kurse_Tag!G210)","v":-2.9375345300751775E-2},{"$f":"LN(Kurse_Tag!H211/Kurse_Tag!H210)","v":9.4223743131679038E-3},{"$f":"LN(Kurse_Tag!I211/Kurse_Tag!I210)","v":9.8201141668395045E-4}]
["2009-07-06",{"$f":"LN(Kurse_Tag!B212/Kurse_Tag!B211)","v":-1.2217183938591752E-2},{"$f":"LN(Kurse_Tag!C212/Kurse_Tag!C211)","v":-9.027009806497021E-3},{"$f":"LN(Kurse_Tag!D212/Kurse_Tag!D211)","v":-2.8784201088992135E-3},{"$f":"LN(Kurse_Tag!E212/Kurse_Tag!E211)","v":-3.1660598649780008E-4},{"$f":"LN(Kurse_Tag!F212/Kurse_Tag!F211)","v":4.3657600266267249E-3},{"$f":"LN(Kurse_Tag!G212/Kurse_Tag!G211)","v":-1.5799454055949534E-2},{"$f":"LN(Kurse_Tag!H212/Kurse_Tag!H211)","v":1.0095688042078955E-2},{"$f":"LN(Kurse_Tag!I212/Kurse_Tag!I211)","v":1.0297472262011486E-2}]
["2009-07-07",{"$f":"LN(Kurse_Tag!B213/Kurse_Tag!B212)","v":-9.4443128425875916E-3},{"$f":"LN(Kurse_Tag!C213/Kurse_Tag!C212)","v":-6.25782248206304E-4},{"$f":"LN(Kurse_Tag!D213/Kurse_Tag!D212)","v":2.3784200984826348E-3},{"$f":"LN(Kurse_Tag!E213/Kurse_Tag!E212)","v":1.2899345133930684E-2},{"$f":"LN(Kurse_Tag!F213/Kurse_Tag!F212)","v":1.9342365798309684E-3},{"$f":"LN(Kurse_Tag!G213/Kurse_Tag!G212)","v":-2.2775810557295181E-3},{"$f":"LN(Kurse_Tag!H213/Kurse_Tag!H212)","v":-1.0018821137087059E-2},{"$f":"LN(Kurse_Tag!I213/Kurse_Tag!I212)","v":8.4425793876086487E-3}]
["2009-07-08",{"$f":"LN(Kurse_Tag!B214/Kurse_Tag!B213)","v":-1.767350861749744E-2},{"$f":"LN(Kurse_Tag!C214/Kurse_Tag!C213)","v":-9.4340322333586416E-3},{"$f":"LN(Kurse_Tag!D214/Kurse_Tag!D213)","v":-1.3975676008772772E-2},{"$f":"LN(Kurse_Tag!E214/Kurse_Tag!E213)","v":-3.0468875501137697E-2},{"$f":"LN(Kurse_Tag!F214/Kurse_Tag!F213)","v":-6.2999966064575278E-3},{"$f":"LN(Kurse_Tag!G214/Kurse_Tag!G213)","v":-1.3197724196749526E-2},{"$f":"LN(Kurse_Tag!H214/Kurse_Tag!H213)","v":1.6541902519496485E-2},{"$f":"LN(Kurse_Tag!I214/Kurse_Tag!I213)","v":-4.3796260499462007E-4}]
["2009-07-09",{"$f":"LN(Kurse_Tag!B215/Kurse_Tag!B214)","v":-1.1958288988873623E-2},{"$f":"LN(Kurse_Tag!C215/Kurse_Tag!C214)","v":-9.5238815112554786E-3},{"$f":"LN(Kurse_Tag!D215/Kurse_Tag!D214)","v":8.2076349384190474E-3},{"$f":"LN(Kurse_Tag!E215/Kurse_Tag!E214)","v":6.4246928346983296E-3},{"$f":"LN(Kurse_Tag!F215/Kurse_Tag!F214)","v":0},{"$f":"LN(Kurse_Tag!G215/Kurse_Tag!G214)","v":1.077209698191104E-2},{"$f":"LN(Kurse_Tag!H215/Kurse_Tag!H214)","v":-7.7413865662229403E-3},{"$f":"LN(Kurse_Tag!I215/Kurse_Tag!I214)","v":1.6509194144641082E-2}]
["2009-07-10",{"$f":"LN(Kurse_Tag!B216/Kurse_Tag!B215)","v":-1.5915455305899568E-2},{"$f":"LN(Kurse_Tag!C216/Kurse_Tag!C215)","v":2.230365748545504E-3},{"$f":"LN(Kurse_Tag!D216/Kurse_Tag!D215)","v":-1.265519294005828E-2},{"$f":"LN(Kurse_Tag!E216/Kurse_Tag!E215)","v":1.6198543803275726E-2},{"$f":"LN(Kurse_Tag!F216/Kurse_Tag!F215)","v":-5.3619431413853991E-3},{"$f":"LN(Kurse_Tag!G216/Kurse_Tag!G215)","v":-5.0125418235441753E-3},{"$f":"LN(Kurse_Tag!H216/Kurse_Tag!H215)","v":2.8150815562400398E-3},{"$f":"LN(Kurse_Tag!I216/Kurse_Tag!I215)","v":4.9000742790381146E-3}]
["2009-07-13",{"$f":"LN(Kurse_Tag!B217/Kurse_Tag!B216)","v":-7.7952452953477451E-4},{"$f":"LN(Kurse_Tag!C217/Kurse_Tag!C216)","v":9.5435031897445272E-4},{"$f":"LN(Kurse_Tag!D217/Kurse_Tag!D216)","v":6.7271942472206872E-3},{"$f":"LN(Kurse_Tag!E217/Kurse_Tag!E216)","v":-2.359051061311673E-2},{"$f":"LN(Kurse_Tag!F217/Kurse_Tag!F216)","v":1.4556297774207454E-2},{"$f":"LN(Kurse_Tag!G217/Kurse_Tag!G216)","v":1.6658746457942873E-2},{"$f":"LN(Kurse_Tag!H217/Kurse_Tag!H216)","v":-1.855739167947169E-2},{"$f":"LN(Kurse_Tag!I217/Kurse_Tag!I216)","v":7.3479483035531123E-3}]
["2009-07-14",{"$f":"LN(Kurse_Tag!B218/Kurse_Tag!B217)","v":3.162063005210991E-2},{"$f":"LN(Kurse_Tag!C218/Kurse_Tag!C217)","v":1.8270858396687083E-2},{"$f":"LN(Kurse_Tag!D218/Kurse_Tag!D217)","v":8.5653628589232207E-3},{"$f":"LN(Kurse_Tag!E218/Kurse_Tag!E217)","v":3.8634948250446392E-3},{"$f":"LN(Kurse_Tag!F218/Kurse_Tag!F217)","v":1.4440435722336239E-3},{"$f":"LN(Kurse_Tag!G218/Kurse_Tag!G217)","v":2.220296471697179E-2},{"$f":"LN(Kurse_Tag!H218/Kurse_Tag!H217)","v":-6.7565200921316099E-3},{"$f":"LN(Kurse_Tag!I218/Kurse_Tag!I217)","v":-1.2777377265443938E-3}]
["2009-07-15",{"$f":"LN(Kurse_Tag!B219/Kurse_Tag!B218)","v":9.5835602640575064E-3},{"$f":"LN(Kurse_Tag!C219/Kurse_Tag!C218)","v":5.6071217999708661E-3},{"$f":"LN(Kurse_Tag!D219/Kurse_Tag!D218)","v":2.6486696873952702E-2},{"$f":"LN(Kurse_Tag!E219/Kurse_Tag!E218)","v":9.2756142403644017E-3},{"$f":"LN(Kurse_Tag!F219/Kurse_Tag!F218)","v":1.8585238303338841E-2},{"$f":"LN(Kurse_Tag!G219/Kurse_Tag!G218)","v":1.8200981405269091E-2},{"$f":"LN(Kurse_Tag!H219/Kurse_Tag!H218)","v":-3.8040080988616595E-2},{"$f":"LN(Kurse_Tag!I219/Kurse_Tag!I218)","v":-6.5848786274840896E-3}]
["2009-07-16",{"$f":"LN(Kurse_Tag!B220/Kurse_Tag!B219)","v":7.3099740714384683E-3},{"$f":"LN(Kurse_Tag!C220/Kurse_Tag!C219)","v":-8.417820556241051E-3},{"$f":"LN(Kurse_Tag!D220/Kurse_Tag!D219)","v":1.2019813260898835E-2},{"$f":"LN(Kurse_Tag!E220/Kurse_Tag!E219)","v":-1.4430264829028783E-2},{"$f":"LN(Kurse_Tag!F220/Kurse_Tag!F219)","v":6.5882591243834696E-3},{"$f":"LN(Kurse_Tag!G220/Kurse_Tag!G219)","v":2.1598532266506081E-2},{"$f":"LN(Kurse_Tag!H220/Kurse_Tag!H219)","v":-1.4595228305054013E-2},{"$f":"LN(Kurse_Tag!I220/Kurse_Tag!I219)","v":-9.8293600494528E-3}]
["2009-07-17",{"$f":"LN(Kurse_Tag!B221/Kurse_Tag!B220)","v":8.702012853467847E-3},{"$f":"LN(Kurse_Tag!C221/Kurse_Tag!C220)","v":6.3884420520810056E-3},{"$f":"LN(Kurse_Tag!D221/Kurse_Tag!D220)","v":3.9747116465406662E-3},{"$f":"LN(Kurse_Tag!E221/Kurse_Tag!E220)","v":1.3793322132335769E-2},{"$f":"LN(Kurse_Tag!F221/Kurse_Tag!F220)","v":1.9968158237049376E-2},{"$f":"LN(Kurse_Tag!G221/Kurse_Tag!G220)","v":2.6507636462440864E-3},{"$f":"LN(Kurse_Tag!H221/Kurse_Tag!H220)","v":5.2429054315478374E-3},{"$f":"LN(Kurse_Tag!I221/Kurse_Tag!I220)","v":-7.1304649939565303E-3}]
["2009-07-20",{"$f":"LN(Kurse_Tag!B222/Kurse_Tag!B221)","v":1.0050408055664945E-2},{"$f":"LN(Kurse_Tag!C222/Kurse_Tag!C221)","v":6.0572693100134816E-3},{"$f":"LN(Kurse_Tag!D222/Kurse_Tag!D221)","v":1.183021504662839E-2},{"$f":"LN(Kurse_Tag!E222/Kurse_Tag!E221)","v":2.5453402224532365E-3},{"$f":"LN(Kurse_Tag!F222/Kurse_Tag!F221)","v":-1.622283550688737E-2},{"$f":"LN(Kurse_Tag!G222/Kurse_Tag!G221)","v":5.8070639629448396E-3},{"$f":"LN(Kurse_Tag!H222/Kurse_Tag!H221)","v":-1.1422121797506053E-2},{"$f":"LN(Kurse_Tag!I222/Kurse_Tag!I221)","v":-1.4846515979740958E-3}]
["2009-07-21",{"$f":"LN(Kurse_Tag!B223/Kurse_Tag!B222)","v":-2.1395433547859977E-3},{"$f":"LN(Kurse_Tag!C223/Kurse_Tag!C222)","v":-4.0309954365652864E-3},{"$f":"LN(Kurse_Tag!D223/Kurse_Tag!D222)","v":3.7941710207034982E-3},{"$f":"LN(Kurse_Tag!E223/Kurse_Tag!E222)","v":-2.5453402224532595E-3},{"$f":"LN(Kurse_Tag!F223/Kurse_Tag!F222)","v":3.2656898628837905E-3},{"$f":"LN(Kurse_Tag!G223/Kurse_Tag!G222)","v":7.9953240648519969E-3},{"$f":"LN(Kurse_Tag!H223/Kurse_Tag!H222)","v":-1.5491273396199663E-2},{"$f":"LN(Kurse_Tag!I223/Kurse_Tag!I222)","v":-8.7781462545008741E-3}]
["2009-07-22",{"$f":"LN(Kurse_Tag!B224/Kurse_Tag!B223)","v":-1.4336920018485856E-3},{"$f":"LN(Kurse_Tag!C224/Kurse_Tag!C223)","v":1.8641473514749039E-3},{"$f":"LN(Kurse_Tag!D224/Kurse_Tag!D223)","v":-1.1835019837483124E-4},{"$f":"LN(Kurse_Tag!E224/Kurse_Tag!E223)","v":1.2976918932268875E-2},{"$f":"LN(Kurse_Tag!F224/Kurse_Tag!F223)","v":-4.6587468813716652E-4},{"$f":"LN(Kurse_Tag!G224/Kurse_Tag!G223)","v":5.5978796183289731E-3},{"$f":"LN(Kurse_Tag!H224/Kurse_Tag!H223)","v":-4.6271062238374709E-3},{"$f":"LN(Kurse_Tag!I224/Kurse_Tag!I223)","v":2.817399292771789E-3}]
["2009-07-23",{"$f":"LN(Kurse_Tag!B225/Kurse_Tag!B224)","v":1.4245255136048924E-2},{"$f":"LN(Kurse_Tag!C225/Kurse_Tag!C224)","v":5.8551523303093742E-3},{"$f":"LN(Kurse_Tag!D225/Kurse_Tag!D224)","v":2.003699350489415E-2},{"$f":"LN(Kurse_Tag!E225/Kurse_Tag!E224)","v":2.3925329502010914E-2},{"$f":"LN(Kurse_Tag!F225/Kurse_Tag!F224)","v":2.3272060770863903E-3},{"$f":"LN(Kurse_Tag!G225/Kurse_Tag!G224)","v":3.3321522831121053E-2},{"$f":"LN(Kurse_Tag!H225/Kurse_Tag!H224)","v":-2.2944415630997732E-2},{"$f":"LN(Kurse_Tag!I225/Kurse_Tag!I224)","v":3.3353844666456959E-3}]
["2009-07-24",{"$f":"LN(Kurse_Tag!B226/Kurse_Tag!B225)","v":3.5298307035246598E-3},{"$f":"LN(Kurse_Tag!C226/Kurse_Tag!C225)","v":1.2469309415119607E-3},{"$f":"LN(Kurse_Tag!D226/Kurse_Tag!D225)","v":-2.3228814161397496E-3},{"$f":"LN(Kurse_Tag!E226/Kurse_Tag!E225)","v":-1.7343265306370554E-2},{"$f":"LN(Kurse_Tag!F226/Kurse_Tag!F225)","v":-5.5944201853244365E-3},{"$f":"LN(Kurse_Tag!G226/Kurse_Tag!G225)","v":-1.2557292664217853E-4},{"$f":"LN(Kurse_Tag!H226/Kurse_Tag!H225)","v":2.1547088707121083E-3},{"$f":"LN(Kurse_Tag!I226/Kurse_Tag!I225)","v":-8.2710546309214591E-3}]
["2009-07-27",{"$f":"LN(Kurse_Tag!B227/Kurse_Tag!B226)","v":1.4690715410003592E-2},{"$f":"LN(Kurse_Tag!C227/Kurse_Tag!C226)","v":2.4554444657864816E-3},{"$f":"LN(Kurse_Tag!D227/Kurse_Tag!D226)","v":8.9136435518905616E-3},{"$f":"LN(Kurse_Tag!E227/Kurse_Tag!E226)","v":1.1492594267717621E-2},{"$f":"LN(Kurse_Tag!F227/Kurse_Tag!F226)","v":9.7697915958050302E-3},{"$f":"LN(Kurse_Tag!G227/Kurse_Tag!G226)","v":-1.0051514855575847E-3},{"$f":"LN(Kurse_Tag!H227/Kurse_Tag!H226)","v":4.1240714865402742E-3},{"$f":"LN(Kurse_Tag!I227/Kurse_Tag!I226)","v":-8.8358736527474911E-5}]
["2009-07-28",{"$f":"LN(Kurse_Tag!B228/Kurse_Tag!B227)","v":-1.6101152879365924E-2},{"$f":"LN(Kurse_Tag!C228/Kurse_Tag!C227)","v":-9.2476903997301668E-3},{"$f":"LN(Kurse_Tag!D228/Kurse_Tag!D227)","v":-2.8853387205403408E-3},{"$f":"LN(Kurse_Tag!E228/Kurse_Tag!E227)","v":-1.8547145965944695E-3},{"$f":"LN(Kurse_Tag!F228/Kurse_Tag!F227)","v":6.920442844573757E-3},{"$f":"LN(Kurse_Tag!G228/Kurse_Tag!G227)","v":-1.1250987780132435E-2},{"$f":"LN(Kurse_Tag!H228/Kurse_Tag!H227)","v":-2.8334711783397459E-3},{"$f":"LN(Kurse_Tag!I228/Kurse_Tag!I227)","v":-4.4279208017758177E-3}]
["2009-07-29",{"$f":"LN(Kurse_Tag!B229/Kurse_Tag!B228)","v":-1.9238213565942939E-2},{"$f":"LN(Kurse_Tag!C229/Kurse_Tag!C228)","v":-6.1977070468526604E-4},{"$f":"LN(Kurse_Tag!D229/Kurse_Tag!D228)","v":4.8426244757879908E-3},{"$f":"LN(Kurse_Tag!E229/Kurse_Tag!E228)","v":1.8697862735378275E-2},{"$f":"LN(Kurse_Tag!F229/Kurse_Tag!F228)","v":4.5966445304894204E-4},{"$f":"LN(Kurse_Tag!G229/Kurse_Tag!G228)","v":1.6891867670218118E-2},{"$f":"LN(Kurse_Tag!H229/Kurse_Tag!H228)","v":-9.1561493082910131E-3},{"$f":"LN(Kurse_Tag!I229/Kurse_Tag!I228)","v":2.9246265362661127E-3}]
["2009-07-30",{"$f":"LN(Kurse_Tag!B230/Kurse_Tag!B229)","v":1.9936628756290882E-2},{"$f":"LN(Kurse_Tag!C230/Kurse_Tag!C229)","v":7.4120166386289965E-3},{"$f":"LN(Kurse_Tag!D230/Kurse_Tag!D229)","v":2.9355539085418745E-2},{"$f":"LN(Kurse_Tag!E230/Kurse_Tag!E229)","v":2.3410432857696541E-2},{"$f":"LN(Kurse_Tag!F230/Kurse_Tag!F229)","v":1.9117559934479084E-2},{"$f":"LN(Kurse_Tag!G230/Kurse_Tag!G229)","v":2.8951821949767649E-2},{"$f":"LN(Kurse_Tag!H230/Kurse_Tag!H229)","v":-1.2574388524097185E-2},{"$f":"LN(Kurse_Tag!I230/Kurse_Tag!I229)","v":9.3368070160522714E-3}]
["2009-07-31",{"$f":"LN(Kurse_Tag!B231/Kurse_Tag!B230)","v":-1.4920453845821047E-2},{"$f":"LN(Kurse_Tag!C231/Kurse_Tag!C230)","v":-5.7704632989489168E-3},{"$f":"LN(Kurse_Tag!D231/Kurse_Tag!D230)","v":3.0112106620891754E-3},{"$f":"LN(Kurse_Tag!E231/Kurse_Tag!E230)","v":-1.6148676287008331E-2},{"$f":"LN(Kurse_Tag!F231/Kurse_Tag!F230)","v":-8.6031773555512586E-3},{"$f":"LN(Kurse_Tag!G231/Kurse_Tag!G230)","v":-4.8691514338104818E-3},{"$f":"LN(Kurse_Tag!H231/Kurse_Tag!H230)","v":3.8589768990436152E-3},{"$f":"LN(Kurse_Tag!I231/Kurse_Tag!I230)","v":1.4893340174630583E-3}]
["2009-08-03",{"$f":"LN(Kurse_Tag!B232/Kurse_Tag!B231)","v":4.6169199984916975E-2},{"$f":"LN(Kurse_Tag!C232/Kurse_Tag!C231)","v":4.8438803073313679E-3},{"$f":"LN(Kurse_Tag!D232/Kurse_Tag!D231)","v":1.1184436393583031E-2},{"$f":"LN(Kurse_Tag!E232/Kurse_Tag!E231)","v":2.4714671657200239E-2},{"$f":"LN(Kurse_Tag!F232/Kurse_Tag!F231)","v":-4.5578930318981069E-3},{"$f":"LN(Kurse_Tag!G232/Kurse_Tag!G231)","v":1.4897629124926873E-2},{"$f":"LN(Kurse_Tag!H232/Kurse_Tag!H231)","v":-2.015983394402153E-2},{"$f":"LN(Kurse_Tag!I232/Kurse_Tag!I231)","v":-1.1534356360567226E-2}]
["2009-08-04",{"$f":"LN(Kurse_Tag!B233/Kurse_Tag!B232)","v":1.4184634991956602E-2},{"$f":"LN(Kurse_Tag!C233/Kurse_Tag!C232)","v":5.8375811982448352E-3},{"$f":"LN(Kurse_Tag!D233/Kurse_Tag!D232)","v":-6.8508555241202727E-3},{"$f":"LN(Kurse_Tag!E233/Kurse_Tag!E232)","v":-4.204823624349939E-2},{"$f":"LN(Kurse_Tag!F233/Kurse_Tag!F232)","v":-2.7447409729190967E-3},{"$f":"LN(Kurse_Tag!G233/Kurse_Tag!G232)","v":-6.7551523461471053E-3},{"$f":"LN(Kurse_Tag!H233/Kurse_Tag!H232)","v":7.4746744167057538E-3},{"$f":"LN(Kurse_Tag!I233/Kurse_Tag!I232)","v":-5.2386357318107207E-3}]
["2009-08-05",{"$f":"LN(Kurse_Tag!B234/Kurse_Tag!B233)","v":1.0124462090516973E-2},{"$f":"LN(Kurse_Tag!C234/Kurse_Tag!C233)","v":0},{"$f":"LN(Kurse_Tag!D234/Kurse_Tag!D233)","v":-6.7864753984627187E-3},{"$f":"LN(Kurse_Tag!E234/Kurse_Tag!E233)","v":0},{"$f":"LN(Kurse_Tag!F234/Kurse_Tag!F233)","v":-1.0591855871733107E-2},{"$f":"LN(Kurse_Tag!G234/Kurse_Tag!G233)","v":-6.4355756084436789E-3},{"$f":"LN(Kurse_Tag!H234/Kurse_Tag!H233)","v":1.2510074172758423E-2},{"$f":"LN(Kurse_Tag!I234/Kurse_Tag!I233)","v":-6.7887710483894529E-3}]
["2009-08-06",{"$f":"LN(Kurse_Tag!B235/Kurse_Tag!B234)","v":7.3114317063723514E-3},{"$f":"LN(Kurse_Tag!C235/Kurse_Tag!C234)","v":5.8798018970826742E-3},{"$f":"LN(Kurse_Tag!D235/Kurse_Tag!D234)","v":9.5545666306149739E-3},{"$f":"LN(Kurse_Tag!E235/Kurse_Tag!E234)","v":-6.462555189424104E-3},{"$f":"LN(Kurse_Tag!F235/Kurse_Tag!F234)","v":1.2879662863661019E-2},{"$f":"LN(Kurse_Tag!G235/Kurse_Tag!G234)","v":-2.3172155011509841E-3},{"$f":"LN(Kurse_Tag!H235/Kurse_Tag!H234)","v":-2.0156879880297144E-3},{"$f":"LN(Kurse_Tag!I235/Kurse_Tag!I234)","v":1.7924359252143534E-4}]
["2009-08-07",{"$f":"LN(Kurse_Tag!B236/Kurse_Tag!B235)","v":5.7713928960717439E-3},{"$f":"LN(Kurse_Tag!C236/Kurse_Tag!C235)","v":2.9603715091145312E-3},{"$f":"LN(Kurse_Tag!D236/Kurse_Tag!D235)","v":1.0121098497931013E-2},{"$f":"LN(Kurse_Tag!E236/Kurse_Tag!E235)","v":3.2799782039997172E-2},{"$f":"LN(Kurse_Tag!F236/Kurse_Tag!F235)","v":8.1930362715758528E-3},{"$f":"LN(Kurse_Tag!G236/Kurse_Tag!G235)","v":2.2337179846151998E-2},{"$f":"LN(Kurse_Tag!H236/Kurse_Tag!H235)","v":-1.6719395170573019E-2},{"$f":"LN(Kurse_Tag!I236/Kurse_Tag!I235)","v":1.7921147001380758E-4}]
["2009-08-10",{"$f":"LN(Kurse_Tag!B237/Kurse_Tag!B236)","v":-2.1786367974879085E-2},{"$f":"LN(Kurse_Tag!C237/Kurse_Tag!C236)","v":-9.9614386538579066E-3},{"$f":"LN(Kurse_Tag!D237/Kurse_Tag!D236)","v":1.7497817237875507E-3},{"$f":"LN(Kurse_Tag!E237/Kurse_Tag!E236)","v":-1.1720645067744747E-2},{"$f":"LN(Kurse_Tag!F237/Kurse_Tag!F236)","v":-4.998874304176064E-3},{"$f":"LN(Kurse_Tag!G237/Kurse_Tag!G236)","v":-1.0321743101740902E-2},{"$f":"LN(Kurse_Tag!H237/Kurse_Tag!H236)","v":1.1706412507767874E-2},{"$f":"LN(Kurse_Tag!I237/Kurse_Tag!I236)","v":-6.5621162260304962E-3}]
["2009-08-11",{"$f":"LN(Kurse_Tag!B238/Kurse_Tag!B237)","v":-4.0525879720018226E-3},{"$f":"LN(Kurse_Tag!C238/Kurse_Tag!C237)","v":-2.252453640080079E-3},{"$f":"LN(Kurse_Tag!D238/Kurse_Tag!D237)","v":-1.264517371762326E-2},{"$f":"LN(Kurse_Tag!E238/Kurse_Tag!E237)","v":1.8272187262970939E-2},{"$f":"LN(Kurse_Tag!F238/Kurse_Tag!F237)","v":4.5454623716746382E-3},{"$f":"LN(Kurse_Tag!G238/Kurse_Tag!G237)","v":1.5671150214577661E-3},{"$f":"LN(Kurse_Tag!H238/Kurse_Tag!H237)","v":1.6439684689131252E-2},{"$f":"LN(Kurse_Tag!I238/Kurse_Tag!I237)","v":4.0502282990227383E-3}]
["2009-08-12",{"$f":"LN(Kurse_Tag!B239/Kurse_Tag!B238)","v":1.0084119066626008E-2},{"$f":"LN(Kurse_Tag!C239/Kurse_Tag!C238)","v":-3.0769255044791975E-3},{"$f":"LN(Kurse_Tag!D239/Kurse_Tag!D238)","v":8.5941472108076525E-3},{"$f":"LN(Kurse_Tag!E239/Kurse_Tag!E238)","v":5.0333192865278792E-3},{"$f":"LN(Kurse_Tag!F239/Kurse_Tag!F238)","v":-4.0255261719594669E-2},{"$f":"LN(Kurse_Tag!G239/Kurse_Tag!G238)","v":-2.4015294443207619E-2},{"$f":"LN(Kurse_Tag!H239/Kurse_Tag!H238)","v":-9.5861300531034158E-3},{"$f":"LN(Kurse_Tag!I239/Kurse_Tag!I238)","v":8.2297628817477944E-3}]
["2009-08-13",{"$f":"LN(Kurse_Tag!B240/Kurse_Tag!B239)","v":2.3141528561694331E-2},{"$f":"LN(Kurse_Tag!C240/Kurse_Tag!C239)","v":4.85108040722502E-3},{"$f":"LN(Kurse_Tag!D240/Kurse_Tag!D239)","v":1.2104177005002383E-2},{"$f":"LN(Kurse_Tag!E240/Kurse_Tag!E239)","v":-1.8480406717741687E-2},{"$f":"LN(Kurse_Tag!F240/Kurse_Tag!F239)","v":-2.292363990193708E-2},{"$f":"LN(Kurse_Tag!G240/Kurse_Tag!G239)","v":1.8943432345247219E-2},{"$f":"LN(Kurse_Tag!H240/Kurse_Tag!H239)","v":-1.7668304133313915E-2},{"$f":"LN(Kurse_Tag!I240/Kurse_Tag!I239)","v":3.8234163858082231E-3}]
["2009-08-14",{"$f":"LN(Kurse_Tag!B241/Kurse_Tag!B240)","v":-1.1834457647002796E-2},{"$f":"LN(Kurse_Tag!C241/Kurse_Tag!C240)","v":-6.6153476762791322E-3},{"$f":"LN(Kurse_Tag!D241/Kurse_Tag!D240)","v":-3.2569782346937586E-3},{"$f":"LN(Kurse_Tag!E241/Kurse_Tag!E240)","v":-3.0088762074471974E-4},{"$f":"LN(Kurse_Tag!F241/Kurse_Tag!F240)","v":1.9139340210697506E-2},{"$f":"LN(Kurse_Tag!G241/Kurse_Tag!G240)","v":-2.7368708302305231E-2},{"$f":"LN(Kurse_Tag!H241/Kurse_Tag!H240)","v":2.0291829905698406E-2},{"$f":"LN(Kurse_Tag!I241/Kurse_Tag!I240)","v":-6.0530717130772996E-3}]
["2009-08-17",{"$f":"LN(Kurse_Tag!B242/Kurse_Tag!B241)","v":-5.5758833485525294E-2},{"$f":"LN(Kurse_Tag!C242/Kurse_Tag!C241)","v":-1.4073902228697704E-2},{"$f":"LN(Kurse_Tag!D242/Kurse_Tag!D241)","v":-1.777336966852263E-2},{"$f":"LN(Kurse_Tag!E242/Kurse_Tag!E241)","v":1.2857106396157022E-2},{"$f":"LN(Kurse_Tag!F242/Kurse_Tag!F241)","v":-1.1439590909394544E-2},{"$f":"LN(Kurse_Tag!G242/Kurse_Tag!G241)","v":-1.6686918785014711E-2},{"$f":"LN(Kurse_Tag!H242/Kurse_Tag!H241)","v":1.6715411054630282E-2},{"$f":"LN(Kurse_Tag!I242/Kurse_Tag!I241)","v":9.0659229066026269E-3}]
["2009-08-18",{"$f":"LN(Kurse_Tag!B243/Kurse_Tag!B242)","v":0},{"$f":"LN(Kurse_Tag!C243/Kurse_Tag!C242)","v":6.5501770312811573E-3},{"$f":"LN(Kurse_Tag!D243/Kurse_Tag!D242)","v":1.16651482336462E-2},{"$f":"LN(Kurse_Tag!E243/Kurse_Tag!E242)","v":-2.0712131679020158E-2},{"$f":"LN(Kurse_Tag!F243/Kurse_Tag!F242)","v":1.0016778243471429E-2},{"$f":"LN(Kurse_Tag!G243/Kurse_Tag!G242)","v":-5.0620097259095509E-4},{"$f":"LN(Kurse_Tag!H243/Kurse_Tag!H242)","v":-2.4077748325064575E-3},{"$f":"LN(Kurse_Tag!I243/Kurse_Tag!I242)","v":8.8090774017386825E-3}]
["2009-08-19",{"$f":"LN(Kurse_Tag!B244/Kurse_Tag!B243)","v":-1.7743908751364862E-2},{"$f":"LN(Kurse_Tag!C244/Kurse_Tag!C243)","v":-6.553307896761988E-3},{"$f":"LN(Kurse_Tag!D244/Kurse_Tag!D243)","v":2.513250517017371E-3},{"$f":"LN(Kurse_Tag!E244/Kurse_Tag!E243)","v":-6.38979809877101E-3},{"$f":"LN(Kurse_Tag!F244/Kurse_Tag!F243)","v":1.3201511858535981E-2},{"$f":"LN(Kurse_Tag!G244/Kurse_Tag!G243)","v":-3.2965669514300961E-3},{"$f":"LN(Kurse_Tag!H244/Kurse_Tag!H243)","v":-5.8717032526537545E-3},{"$f":"LN(Kurse_Tag!I244/Kurse_Tag!I243)","v":-3.6903653163848889E-3}]
["2009-08-20",{"$f":"LN(Kurse_Tag!B245/Kurse_Tag!B244)","v":9.3239447507958446E-3},{"$f":"LN(Kurse_Tag!C245/Kurse_Tag!C244)","v":-2.1940143576213832E-3},{"$f":"LN(Kurse_Tag!D245/Kurse_Tag!D244)","v":1.7525329546803078E-2},{"$f":"LN(Kurse_Tag!E245/Kurse_Tag!E244)","v":1.7849513376764204E-2},{"$f":"LN(Kurse_Tag!F245/Kurse_Tag!F244)","v":5.6048722160560623E-3},{"$f":"LN(Kurse_Tag!G245/Kurse_Tag!G244)","v":1.5875349158290281E-2},{"$f":"LN(Kurse_Tag!H245/Kurse_Tag!H244)","v":-1.0397713440017629E-3},{"$f":"LN(Kurse_Tag!I245/Kurse_Tag!I244)","v":1.4074597678797698E-3}]
["2009-08-21",{"$f":"LN(Kurse_Tag!B246/Kurse_Tag!B245)","v":1.8854841293148634E-2},{"$f":"LN(Kurse_Tag!C246/Kurse_Tag!C245)","v":1.2469778776399725E-2},{"$f":"LN(Kurse_Tag!D246/Kurse_Tag!D245)","v":2.1955593706616327E-2},{"$f":"LN(Kurse_Tag!E246/Kurse_Tag!E245)","v":9.5494608113504218E-3},{"$f":"LN(Kurse_Tag!F246/Kurse_Tag!F245)","v":8.348842557809287E-3},{"$f":"LN(Kurse_Tag!G246/Kurse_Tag!G245)","v":2.8344473009142567E-2},{"$f":"LN(Kurse_Tag!H246/Kurse_Tag!H245)","v":-3.8350697275206784E-2},{"$f":"LN(Kurse_Tag!I246/Kurse_Tag!I245)","v":-5.4649761399212715E-3}]
["2009-08-24",{"$f":"LN(Kurse_Tag!B247/Kurse_Tag!B246)","v":6.8965790590604587E-3},{"$f":"LN(Kurse_Tag!C247/Kurse_Tag!C246)","v":-4.7120595479351662E-3},{"$f":"LN(Kurse_Tag!D247/Kurse_Tag!D246)","v":9.6054194358821468E-3},{"$f":"LN(Kurse_Tag!E247/Kurse_Tag!E246)","v":-8.0513331903284899E-3},{"$f":"LN(Kurse_Tag!F247/Kurse_Tag!F246)","v":5.0679675392430639E-3},{"$f":"LN(Kurse_Tag!G247/Kurse_Tag!G246)","v":1.9492856405017609E-2},{"$f":"LN(Kurse_Tag!H247/Kurse_Tag!H246)","v":-8.5037603092554658E-3},{"$f":"LN(Kurse_Tag!I247/Kurse_Tag!I246)","v":-7.9865541208040732E-3}]
["2009-08-25",{"$f":"LN(Kurse_Tag!B248/Kurse_Tag!B247)","v":-6.308516707506151E-3},{"$f":"LN(Kurse_Tag!C248/Kurse_Tag!C247)","v":-5.9018960522869241E-3},{"$f":"LN(Kurse_Tag!D248/Kurse_Tag!D247)","v":-4.1571399476258725E-4},{"$f":"LN(Kurse_Tag!E248/Kurse_Tag!E247)","v":5.076911009288902E-3},{"$f":"LN(Kurse_Tag!F248/Kurse_Tag!F247)","v":-6.9172514689473307E-3},{"$f":"LN(Kurse_Tag!G248/Kurse_Tag!G247)","v":-1.4309566000044386E-3},{"$f":"LN(Kurse_Tag!H248/Kurse_Tag!H247)","v":-7.9354637244955731E-3},{"$f":"LN(Kurse_Tag!I248/Kurse_Tag!I247)","v":-2.3191518734583054E-3}]
["2009-08-26",{"$f":"LN(Kurse_Tag!B249/Kurse_Tag!B248)","v":1.0423748852612694E-2},{"$f":"LN(Kurse_Tag!C249/Kurse_Tag!C248)","v":6.2661091614476319E-3},{"$f":"LN(Kurse_Tag!D249/Kurse_Tag!D248)","v":-2.0811662038246232E-3},{"$f":"LN(Kurse_Tag!E249/Kurse_Tag!E248)","v":-2.9792939293806658E-4},{"$f":"LN(Kurse_Tag!F249/Kurse_Tag!F248)","v":-3.2444987905521682E-3},{"$f":"LN(Kurse_Tag!G249/Kurse_Tag!G248)","v":4.167913148777771E-3},{"$f":"LN(Kurse_Tag!H249/Kurse_Tag!H248)","v":4.203606665097722E-3},{"$f":"LN(Kurse_Tag!I249/Kurse_Tag!I248)","v":5.6990359057252542E-3}]
["2009-08-27",{"$f":"LN(Kurse_Tag!B250/Kurse_Tag!B249)","v":-4.8027536572348593E-3},{"$f":"LN(Kurse_Tag!C250/Kurse_Tag!C249)","v":-6.1955266544751534E-4},{"$f":"LN(Kurse_Tag!D250/Kurse_Tag!D249)","v":-4.2799793921650259E-3},{"$f":"LN(Kurse_Tag!E250/Kurse_Tag!E249)","v":1.3025643017155843E-2},{"$f":"LN(Kurse_Tag!F250/Kurse_Tag!F249)","v":-3.7209345256899624E-3},{"$f":"LN(Kurse_Tag!G250/Kurse_Tag!G249)","v":0},{"$f":"LN(Kurse_Tag!H250/Kurse_Tag!H249)","v":1.2145531336431864E-2},{"$f":"LN(Kurse_Tag!I250/Kurse_Tag!I249)","v":3.7224185497995448E-3}]
["2009-08-28",{"$f":"LN(Kurse_Tag!B251/Kurse_Tag!B250)","v":3.0473168872804907E-2},{"$f":"LN(Kurse_Tag!C251/Kurse_Tag!C250)","v":6.2266502634463568E-4},{"$f":"LN(Kurse_Tag!D251/Kurse_Tag!D250)","v":1.0096364713604892E-2},{"$f":"LN(Kurse_Tag!E251/Kurse_Tag!E250)","v":0},{"$f":"LN(Kurse_Tag!F251/Kurse_Tag!F250)","v":-4.6609182852652584E-4},{"$f":"LN(Kurse_Tag!G251/Kurse_Tag!G250)","v":-5.9594932039820341E-3},{"$f":"LN(Kurse_Tag!H251/Kurse_Tag!H250)","v":-1.6166004588326559E-2},{"$f":"LN(Kurse_Tag!I251/Kurse_Tag!I250)","v":7.2278851466638034E-3}]

{"sheet":"Kurse_Tag","index":1,"n_rows":251,"n_cols":9,"rows_kept":251,"cut":false,"hidden":false,"merged":[]}
["Date","ZKB SILVER ETF  (ZSIL/ CH0029792717)","ZKB GOLD ETF  (ZGLD/ CH0024391002)","Xmtch (CH) SLI  (XMSLI/ CH0031768937)","UBS-ETF MSCI JAPAN  (FDJPHU/ LU0136240974)","NESTLE N  (NESN/ CH0038863350)","DB X-TR DAX  (XDAX/ LU0274211480)","DB X-TR SHORT DAX  (XSDX/ LU0292106241)","JPY/CHF"]
["2008-08-29",1451,2938,108.65,39.99,48.6,104.4,115.71,1.0016000000000001E-2]
["2008-09-01",1435,2880,108.77,39.200000000000003,48.54,103.11,115.71,1.013E-2]
["2008-09-02",1362,2828,109.96,39.86,48.96,104.92,114.15,1.0173E-2]
["2008-09-03",1370,2839,109.82,38.76,48.62,103.7,114.29,1.0196999999999999E-2]
["2008-09-04",1360,2830,106.99,38.299999999999997,47.86,100.81,117.16,1.0217E-2]
["2008-09-05",1363,2871,104.55,37.880000000000003,48.1,96.6,119.58,1.0238000000000001E-2]
["2008-09-08",1340,2900,108,39.299999999999997,48.9,100.51,117.05,1.0390999999999999E-2]
["2008-09-09",1277,2817,107.5,39.299999999999997,49.92,99.37,117.73,1.0355E-2]
["2008-09-10",1199,2777,107.16,38.799999999999997,49.12,98.65,118.71,1.0492E-2]
["2008-09-11",1133,2698,104.26,39.19,49.48,97.76,119.66,1.0527E-2]
["2008-09-12",1179,2739,106.55,39.049999999999997,50.65,98.58,118.14,1.0633E-2]
["2008-09-15",1177,2786,103.7,37.85,49.42,95.66,121.9,1.0481000000000001E-2]
["2008-09-16",1151,2781,101.57,36.01,48.98,94.04,123,1.0573000000000001E-2]
["2008-09-17",1208,2974,99.5,36.6,48.6,93,123.26,1.0670000000000001E-2]
["2008-09-18",1298,3061,98.87,36.4,48.1,92.53,124.5,1.0602E-2]
["2008-09-19",1310,3049,105.8,39.99,49.34,98.93,119.63,1.0514000000000001E-2]
["2008-09-22",1385,3085,105.65,37.5,48.78,97.73,119.16,1.0297000000000001E-2]
["2008-09-23",1394,3109,102.55,36.85,47.64,97.48,120.82,1.0291E-2]
["2008-09-24",1389,3078,101.82,37.26,46.84,96.12,121.47,1.0227E-2]
["2008-09-25",1388,3021,104.01,37.299999999999997,47.7,97.88,120.88,1.0269E-2]
["2008-09-26",1408,3099,102.4,37.119999999999997,47.32,96.23,120.93,1.0245000000000001E-2]
["2008-09-29",1384,3138,96.71,36.14,46.54,91.79,120.93,1.0293999999999999E-2]
["2008-09-30",1327,3145,97.8,36.78,48.2,90.37,126.67,1.0362E-2]
["2008-10-01",1340,3155,98.14,37.14,48.42,90.7,126.67,1.0512000000000001E-2]
["2008-10-02",1222,3025,98.31,36.450000000000003,47.96,88.73,125.6,1.0567999999999999E-2]
["2008-10-03",1268,3050,99.5,35.54,47.5,90.78,123.95,1.0709E-2]
["2008-10-06",1235,3174,94.05,33.31,45.3,83.59,130.08000000000001,1.0737E-2]
["2008-10-07",1261,3206,93.8,33.93,45.96,83.62,130.85,1.1042E-2]
["2008-10-08",1280,3305,87.8,32.42,44.5,77.53,140.97,1.12E-2]
["2008-10-09",1288,3232,85.31,31.98,42.28,74.95,145.80000000000001,1.1292999999999999E-2]
["2008-10-10",1248,3209,79.599999999999994,28.25,39.46,70.069999999999993,152.9,1.1239000000000001E-2]
["2008-10-13",1140,3016,86.5,31.62,42.68,77.14,140.13999999999999,1.1320999999999999E-2]
["2008-10-14",1182,3045,91.35,33.200000000000003,44.82,79.64,131.49,1.1272000000000001E-2]
["2008-10-15",1120,3046.98,86.3,31,41.88,74.34,139.19999999999999,1.1081000000000001E-2]
["2008-10-16",1022,2892,81.5,29.09,40.92,69.41,143.15,1.1204E-2]
["2008-10-17",1014,2835,83.7,30.26,43.92,70.84,145.69999999999999,1.1322E-2]
["2008-10-20",1050,2901,87.52,33.450000000000003,45.3,73.84,141.47,1.1197E-2]
["2008-10-21",1100,2850.5,87.85,33.65,45.12,72.89,142,1.1202999999999999E-2]
["2008-10-22",1100,2780,83.98,31,42.96,69.180000000000007,146.06,1.1377E-2]
["2008-10-23",1104,2679,82.18,31.8,44.4,68.25,151.80000000000001,1.1683000000000001E-2]
["2008-10-24",987,2618.58,77.989999999999995,29.5,43.44,61.8,154.08000000000001,1.1958999999999999E-2]
["2008-10-27",1006,2713,77.81,29.32,42.72,62.56,145.01,1.2409999999999999E-2]
["2008-10-28",988,2743,76.900000000000006,28.37,43.5,66.5,139.94,1.2452E-2]
["2008-10-29",1095,2766,82.52,30.9,45.06,70.61,131,1.2259000000000001E-2]
["2008-10-30",1058,2707.55,82.4,32.46,43.88,73.099999999999994,129.82,1.1790999999999999E-2]
["2008-10-31",1100,2705.41,86.12,32.200000000000003,45,72.099999999999994,129.41,1.1528E-2]
["2008-11-03",1105.5899999999999,2712.83,87.82,33.47,45.92,74.13,129.61000000000001,1.1782000000000001E-2]
["2008-11-04",1164,2815,91.22,34.89,47.38,78.709999999999994,126.24,1.171E-2]
["2008-11-05",1160,2785,88.68,33.93,46.8,79.31,127.1,1.1805E-2]
["2008-11-06",1180,2775,83.94,32.79,45.84,72.099999999999994,131.49,1.1743E-2]
["2008-11-07",1145,2767.5,85.35,32.409999999999997,46.6,73.09,132.99,1.1906999999999999E-2]
["2008-11-10",1156,2819.81,86.5,34.200000000000003,47.08,75.34,130.02000000000001,1.1997000000000001E-2]
["2008-11-11",1095,2748,82.49,31.9,46,70.55,135.41,1.1887E-2]
["2008-11-12",1062,2704,79.14,31.7,45,67.349999999999994,133.49,1.2062E-2]
["2008-11-13",1053,2731.07,79.52,32.270000000000003,45.02,69.989999999999995,139.22999999999999,1.2208E-2]
["2008-11-14",1095,2825,80.510000000000005,31.5,45.56,71.040000000000006,138.5,1.2447E-2]
["2008-11-17",1075,2820,78.58,32.25,44.62,69.040000000000006,141.26,1.2342000000000001E-2]
["2008-11-18",1087,2831,78.12,31.84,45.28,69.260000000000005,143.71,1.2377000000000001E-2]
["2008-11-19",1118,2862,75.23,31,45.02,66.739999999999995,149.25,1.2418999999999999E-2]
["2008-11-20",1047,2913.62,72.34,30,43.12,64.17,156.49,1.2468E-2]
["2008-11-21",1120,3063.4,69.97,30.7,41.82,62.18,162.38999999999999,1.273E-2]
["2008-11-24",1227,3153,74.88,32.770000000000003,42.74,69.48,148.80000000000001,1.2755000000000001E-2]
["2008-11-25",1163,3073.19,77.900000000000006,31.65,41.88,70.61,145.4,1.2689000000000001E-2]
["2008-11-26",1185,3120.84,76.430000000000007,32.200000000000003,41.36,69.58,145.69999999999999,1.2435E-2]
["2008-11-27",1196,3105,79.14,31.11,42.52,72.09,141.87,1.2527E-2]
["2008-11-28",1185,3161,80.400000000000006,33.090000000000003,43.94,70.8,143.25,1.259E-2]
["2008-12-01",1084,2984,76.8,31.4,42.86,66.8,148.1,1.2711999999999999E-2]
["2008-12-02",1120,3011,77.209999999999994,31.33,42.7,69.489999999999995,144.30000000000001,1.2799E-2]
["2008-12-03",1123,3019.77,76.42,32.6,42.46,70.28,145.9,1.2918000000000001E-2]
["2008-12-04",1107,2984,78.95,31.16,42.58,70.31,145,1.2997E-2]
["2008-12-05",1086,2910.34,76.52,30.75,41.74,66.91,148.9,1.3010000000000001E-2]
["2008-12-08",1183,2982,81.09,33.39,42.64,73.95,139.75,1.3157E-2]
["2008-12-09",1143,2970.95,82.75,34.04,42.8,75.31,137.63999999999999,1.3054E-2]
["2008-12-10",1167,3073.63,81.55,33.25,41.76,74.239999999999995,137.97999999999999,1.3061E-2]
["2008-12-11",1195,3129.83,81.17,33.1,41.7,75.25,138.88999999999999,1.2997E-2]
["2008-12-12",1169,3107,79.39,32.520000000000003,41.3,73.66,143.54,1.2945E-2]
["2008-12-15",1191,3106,78.81,33,40.799999999999997,73.599999999999994,142.80000000000001,1.2904000000000001E-2]
["2008-12-16",1178,3050.33,79.33,32,41,74.400000000000006,140.9,1.2881E-2]
["2008-12-17",1190,3031,79.88,31.15,40.78,73.150000000000006,140.4,1.2775999999999999E-2]
["2008-12-18",1137,2910,79.25,30.36,40.520000000000003,73.37,136.6,1.2534999999999999E-2]
["2008-12-19",1163,2980,78.81,31.34,40.799999999999997,73.3,137.1,1.2112E-2]
["2008-12-22",1148,2967,77.959999999999994,31.59,40.840000000000003,71.7,139,1.2371999999999999E-2]
["2008-12-23",1081,2904,77.989999999999995,30.03,40.76,71.5,137.54,1.2234999999999999E-2]
["2008-12-29",1099,2928,78.17,30,41.2,69.97,134.72999999999999,1.1802999999999999E-2]
["2008-12-30",1125,2932.83,79.5,30.27,41.6,71.959999999999994,131.44,1.1669000000000001E-2]
["2009-01-05",1166,2987.39,83,31.94,42.4,74.91,127.8,1.1769E-2]
["2009-01-06",1205,3031.87,84,32.17,42.4,75.290000000000006,125.57,1.1793E-2]
["2009-01-07",1157,2964,83.19,32.1,42.44,73.91,128,1.1926000000000001E-2]
["2009-01-08",1169,2989.03,82.52,31.9,42.06,72.540000000000006,129.74,1.187E-2]
["2009-01-09",1180,3032,82.14,31.7,40.380000000000003,71.180000000000007,130.41,1.1965E-2]
["2009-01-12",1174,2945,80.97,32.1,40.380000000000003,70.569999999999993,133.19,1.2329E-2]
["2009-01-13",1162,2965,79.680000000000007,30.85,40.4,68.63,134.30000000000001,1.2434000000000001E-2]
["2009-01-14",1118,2912,76.55,30.1,39.299999999999997,65.239999999999995,140.21,1.2526000000000001E-2]
["2009-01-15",1125,2922,76.39,30.58,39.82,64.900000000000006,143.15,1.2505E-2]
["2009-01-16",1197.99,2980,77.72,30.6,40.78,65.72,140.99,1.2559000000000001E-2]
["2009-01-19",1205,3031,75.45,30.3,40.86,64.39,146.09,1.2333999999999999E-2]
["2009-01-20",1250,3164.03,74.5,30.84,40.94,63.65,146.08000000000001,1.2373E-2]
["2009-01-21",1241,3106.12,74.86,30.37,40.64,62.21,146.38,1.2629E-2]
["2009-01-22",1274,3166,74.930000000000007,30.9,40.44,62.8,146.38,1.2815999999999999E-2]
["2009-01-23",1284,3315,73.290000000000006,30.36,40.36,62.23,152.21,1.2991000000000001E-2]
["2009-01-26",1338,3311,76.44,30.26,40.78,64.290000000000006,147.69999999999999,1.3001E-2]
["2009-01-27",1329,3258,74.650000000000006,30.92,40.619999999999997,64.16,146.37,1.2982E-2]
["2009-01-28",1330,3260.22,78.37,31.3,40.24,68.39,141,1.2756E-2]
["2009-01-29",1329.31,3290,75.72,30.7,40.200000000000003,65.83,141,1.2775999999999999E-2]
["2009-01-30",1402,3423,75.36,30.07,40.18,64.680000000000007,143.97,1.2801E-2]
["2009-02-02",1401,3406,73.489999999999995,29.85,39.36,63.73,147.88,1.2916E-2]
["2009-02-03",1358,3314.59,73.56,29.5,40.04,63.98,143.71,1.2999999999999999E-2]
["2009-02-04",1400,3360,75.33,30.5,39.520000000000003,67.2,138.83000000000001,1.2935E-2]
["2009-02-05",1432,3409,73.849999999999994,31.29,38.340000000000003,67.22,139.58000000000001,1.2885000000000001E-2]
["2009-02-06",1464,3405.46,74.53,31.1,38.18,69.7,135.69999999999999,1.2926E-2]
["2009-02-09",1437,3324.99,74.83,30.89,38.299999999999997,69.7,136.4,1.2648E-2]
["2009-02-10",1453.99,3363,75,29.9,38.5,70.37,137.69999999999999,1.2678E-2]
["2009-02-11",1525,3502.99,74.099999999999994,30.29,37.92,66.97,139.51,1.2784E-2]
["2009-02-12",1516,3524.99,73.38,30.07,37.659999999999997,65.39,142,1.2831E-2]
["2009-02-13",1489,3462.01,74.010000000000005,29.2,37.479999999999997,65.39,138.97,1.2876E-2]
["2009-02-16",1519,3488.01,73.23,28.84,37.520000000000003,65.61,141.44,1.2657E-2]
["2009-02-17",1593,3649,71.02,28.88,36.96,64.8,145.4,1.2708000000000001E-2]
["2009-02-18",1614,3674.55,70.349999999999994,28.9,37.020000000000003,61.67,148.16,1.2711999999999999E-2]
["2009-02-19",1584,3673.48,71.09,28.3,38.94,62.92,147.80000000000001,1.2638999999999999E-2]
["2009-02-20",1640,3740.64,68.790000000000006,27.3,39.159999999999997,60.67,153.5,1.2526000000000001E-2]
["2009-02-23",1620,3680,67.22,27,38.659999999999997,58.2,157.4,1.2406E-2]
["2009-02-24",1596,3630.31,66.41,26.18,38.42,58.08,158.69999999999999,1.2367E-2]
["2009-02-25",1577,3614,66.28,26.32,38.46,58.08,161.75,1.2189999999999999E-2]
["2009-02-26",1460,3489.88,68.3,26.6,37.880000000000003,58.73,157.63,1.1988E-2]
["2009-02-27",1471,3530.81,66.31,26,38.340000000000003,55.89,161,1.1918E-2]
["2009-03-02",1440.15,3490,63.4,25.94,36.9,55,164.89,1.2004000000000001E-2]
["2009-03-03",1418,3413.79,62.2,25.47,35.42,55.26,164.91,1.2054E-2]
["2009-03-04",1473.52,3425.77,63.55,25.8,36.479999999999997,55.77,160.55000000000001,1.2014E-2]
["2009-03-05",1460,3430,62.5,26.01,35.659999999999997,55.77,161.5,1.1919000000000001E-2]
["2009-03-06",1486.47,3475,61.85,24.94,35.76,55,163.69999999999999,1.1847E-2]
["2009-03-09",1445,3405,60.26,24.53,35.58,52.67,165.5,1.1799E-2]
["2009-03-10",1390,3288,63.74,25.59,36.76,56.17,156.66999999999999,1.1769999999999999E-2]
["2009-03-11",1430,3366.93,64.38,25.46,36.72,58.8,154.69,1.172E-2]
["2009-03-12",1470.17,3523,66.03,25.92,36.700000000000003,58.86,157.97999999999999,1.1809999999999999E-2]
["2009-03-13",1502.59,3526.18,66.2,26.28,37.24,61.61,159.66,1.2012E-2]
["2009-03-16",1447,3487,68.34,27.16,37.5,61.26,158.83000000000001,1.2109999999999999E-2]
["2009-03-17",1430,3467,68.08,27.1,37.32,61.42,158.51,1.2081E-2]
["2009-03-18",1352,3321.18,67.739999999999995,27.06,36.659999999999997,61.77,156.96,1.2023000000000001E-2]
["2009-03-19",1447.77,3422.43,68.760000000000005,27.2,36.22,62.57,154.80000000000001,1.1945000000000001E-2]
["2009-03-20",1466.06,3415.58,69,26.75,35.200000000000003,61.66,154.83000000000001,1.1908999999999999E-2]
["2009-03-23",1506,3431,70.849999999999994,28.04,36.9,63.51,151.65,1.1762E-2]
["2009-03-24",1449,3327.49,70.900000000000006,27.9,37.5,63.45,150.52000000000001,1.1672999999999999E-2]
["2009-03-25",1452.28,3338.36,71.569999999999993,28.8,38.32,63,149.57,1.1505E-2]
["2009-03-26",1487,3389.05,70.489999999999995,28.69,38.54,64.62,147.75,1.1549E-2]
["2009-03-27",1465.2,3373.17,69.77,28.76,37.82,64.849999999999994,149.93,1.1462E-2]
["2009-03-30",1471,3417.99,67.25,28.21,37.4,61,155.78,1.1702000000000001E-2]
["2009-03-31",1390.25,3337,69.260000000000005,27.2,38.479999999999997,61.33,154,1.1813000000000001E-2]
["2009-04-01",1428,3387,70.63,29.02,39.1,61.53,151.22999999999999,1.1568999999999999E-2]
["2009-04-02",1375.92,3251,74,29.25,39.46,65.8,143.9,1.157E-2]
["2009-04-03",1385,3261,73,29.47,38.479999999999997,66.56,141.28,1.1521999999999999E-2]
["2009-04-06",1325,3170,72.260000000000005,28.3,39.1,65.849999999999994,144.78,1.1283E-2]
["2009-04-07",1352,3224,71.569999999999993,29.19,39.72,64.849999999999994,144.57,1.1218000000000001E-2]
["2009-04-08",1354.85,3252.5,71.48,28.8,39.82,65.58,143,1.1348E-2]
["2009-04-09",1346.85,3240,73.349999999999994,29.8,39.54,66.94,138.4,1.1461000000000001E-2]
["2009-04-14",1365,3232.56,74.989999999999995,30.18,39.299999999999997,69.099999999999994,135.19,1.1455E-2]
["2009-04-15",1397.12,3261.64,74.53,30.09,38.78,69.099999999999994,136.34,1.142E-2]
["2009-04-16",1344,3219.22,75.77,30,38.86,69.47,134.47999999999999,1.154E-2]
["2009-04-17",1318.54,3225,77.13,30.31,38.299999999999997,70.959999999999994,133.76,1.1561E-2]
["2009-04-20",1352.72,3297.01,75,30.5,37.979999999999997,68.5,137.79,1.1759E-2]
["2009-04-21",1338.56,3285.95,72.88,29.91,37.9,67.180000000000007,140.19999999999999,1.1849999999999999E-2]
["2009-04-22",1363,3288.72,75.97,30.5,37.58,67.55,134.99,1.1897E-2]
["2009-04-23",1425,3341.52,76,30.21,36.96,67.55,134.31,1.1884E-2]
["2009-04-24",1393.3,3297.98,76.97,30.44,37.78,68.13,132,1.1851E-2]
["2009-04-27",1421.6,3315,77.5,30.21,38.159999999999997,70.650000000000006,130.59,1.1734E-2]
["2009-04-28",1365,3268.82,76.28,29.88,37.799999999999997,68.900000000000006,132.4,1.1849E-2]
["2009-04-29",1388.45,3238.95,77.510000000000005,30,37.42,70.790000000000006,130.5,1.1986E-2]
["2009-04-30",1339.25,3211.51,79.8,29.77,37.36,72.55,127.38,1.1764999999999999E-2]
["2009-05-04",1403,3250,80.61,30.51,38.9,72.63,125.69,1.1468000000000001E-2]
["2009-05-05",1445,3258.48,80.38,30.38,38.659999999999997,73.5,126,1.1422E-2]
["2009-05-06",1498,3283.71,80.38,31.39,38.78,73.599999999999994,125.65,1.1426E-2]
["2009-05-07",1485,3288.9,80.930000000000007,30.6,39.26,73.599999999999994,127.62,1.1516999999999999E-2]
["2009-05-08",1490,3248.75,82.6,31.08,39.42,74.34,124.33,1.1453E-2]
["2009-05-11",1459.25,3212,81.94,30.79,39.42,73.069999999999993,125.9,1.1237E-2]
["2009-05-12",1495,3235,81.25,31.4,40,73.73,125.7,1.1294999999999999E-2]
["2009-05-13",1490.17,3250,78.819999999999993,30.82,40.5,72.58,129.22,1.1401E-2]
["2009-05-14",1479.44,3267,79.900000000000006,30.35,40.76,70.22,129.6,1.1493E-2]
["2009-05-15",1485,3283.02,80.680000000000007,31.75,40.36,71.260000000000005,130.03,1.1603E-2]
["2009-05-18",1463.33,3277,82.48,31.59,40.5,73.319999999999993,126.16,1.1794000000000001E-2]
["2009-05-19",1486.91,3274,84.2,31.5,40.340000000000003,74.78,122.95,1.1745999999999999E-2]
["2009-05-20",1501,3268.57,84.51,31.32,40.659999999999997,76.34,121.54,1.1561999999999999E-2]
["2009-05-22",1517,3300.73,82.8,30.98,39.94,74.19,124.8,1.1625E-2]
["2009-05-25",1523.31,3293.99,83.21,31,40.479999999999997,74,126.03,1.1466E-2]
["2009-05-26",1513,3270.99,82.79,31,40.32,73.260000000000005,123.62,1.1436999999999999E-2]
["2009-05-27",1537,3303,83.04,31.5,39.700000000000003,75.42,123.03,1.1455E-2]
["2009-05-28",1570.93,3318.98,81.75,31.1,39.299999999999997,75.19,124.42,1.1405999999999999E-2]
["2009-05-29",1598,3317,82.09,31.14,38.700000000000003,74.31,123.7,1.1296E-2]
["2009-06-02",1613,3323,83.88,31.1,39.479999999999997,78.22,119.17,1.1185E-2]
["2009-06-03",1608,3320,82.95,31.38,39.479999999999997,77.459999999999994,120.21,1.1106E-2]
["2009-06-04",1605.98,3325.99,83.77,31.29,39.9,76.94,120.04,1.1121000000000001E-2]
["2009-06-05",1602,3314,84.08,32.130000000000003,38.78,77.069999999999993,120.19,1.1096999999999999E-2]
["2009-06-08",1567.48,3299.8,83.48,31.78,39.200000000000003,76,122.5,1.1013999999999999E-2]
["2009-06-09",1560,3280,82.92,32.15,39.24,75.8,122.49,1.1073E-2]
["2009-06-10",1560,3270,84.18,32.53,39.380000000000003,77.099999999999994,120.09,1.1098999999999999E-2]
["2009-06-11",1567.25,3247,84.96,32.01,39.28,77.03,120.26,1.1027E-2]
["2009-06-12",1535.01,3225,85.17,32.01,39.24,76.78,120.55,1.0999E-2]
["2009-06-15",1475.24,3223,82.97,31.45,38.74,75.33,123.17,1.0973999999999999E-2]
["2009-06-16",1470,3233.75,82.14,31.33,38.92,73.930000000000007,123.43,1.1079E-2]
["2009-06-17",1468.99,3222.94,79.900000000000006,31.17,38.9,72,127.02,1.1246000000000001E-2]
["2009-06-18",1478.99,3212.39,81.33,31.52,39.24,72.59,125.23,1.1297E-2]
["2009-06-19",1483.99,3218.12,82.53,32.49,40.14,73.38,126.34,1.1265000000000001E-2]
["2009-06-22",1437,3186,79.75,31.96,40.18,71,128.47999999999999,1.1243E-2]
["2009-06-23",1401,3127.01,79.8,31.71,40.72,70.430000000000007,128.35,1.1306999999999999E-2]
["2009-06-24",1458,3231.14,81.86,32.159999999999997,41.08,73.400000000000006,127.1,1.1311999999999999E-2]
["2009-06-25",1475,3273.99,80.58,31.9,40.9,72.77,130.5,1.1282E-2]
["2009-06-26",1473,3254,80.89,32.880000000000003,40.840000000000003,72.77,129.18,1.1412E-2]
["2009-06-29",1444.78,3228,81.650000000000006,32.869999999999997,41.14,73.72,125.51,1.1390000000000001E-2]
["2009-06-30",1419,3211,81.41,32.57,40.92,74.319999999999993,127.56,1.1364000000000001E-2]
["2009-07-01",1420,3222.64,82.52,32.450000000000003,41.5,74.27,126,1.1277000000000001E-2]
["2009-07-02",1391.65,3209.9,80.61,31.1,41,73.58,128.87,1.1195999999999999E-2]
["2009-07-03",1400,3225.99,80.02,31.59,41.14,71.45,130.09,1.1207E-2]
["2009-07-06",1383,3197,79.790000000000006,31.58,41.32,70.33,131.41,1.1323E-2]
["2009-07-07",1370,3195,79.98,31.99,41.4,70.17,130.1,1.1419E-2]
["2009-07-08",1346,3165,78.87,31.03,41.14,69.25,132.27000000000001,1.1414000000000001E-2]
["2009-07-09",1330,3135,79.52,31.23,41.14,70,131.25,1.1604E-2]
["2009-07-10",1309,3142,78.52,31.74,40.92,69.650000000000006,131.62,1.1660999999999999E-2]
["2009-07-13",1307.98,3145,79.05,31,41.52,70.819999999999993,129.19999999999999,1.1747E-2]
["2009-07-14",1350,3202.99,79.73,31.12,41.58,72.41,128.33000000000001,1.1731999999999999E-2]
["2009-07-15",1363,3221,81.87,31.41,42.36,73.739999999999995,123.54,1.1655E-2]
["2009-07-16",1373,3194,82.86,30.96,42.64,75.349999999999994,121.75,1.1540999999999999E-2]
["2009-07-17",1385,3214.47,83.19,31.39,43.5,75.55,122.39,1.1459E-2]
["2009-07-20",1398.99,3234,84.18,31.47,42.8,75.989999999999995,121,1.1442000000000001E-2]
["2009-07-21",1396,3220.99,84.5,31.39,42.94,76.599999999999994,119.14,1.1342E-2]
["2009-07-22",1394,3227,84.49,31.8,42.92,77.03,118.59,1.1374E-2]
["2009-07-23",1414,3245.95,86.2,32.57,43.02,79.64,115.9,1.1412E-2]
["2009-07-24",1419,3250,86,32.01,42.78,79.63,116.15,1.1318E-2]
["2009-07-27",1440,3257.99,86.77,32.380000000000003,43.2,79.55,116.63,1.1317000000000001E-2]
["2009-07-28",1417,3228,86.52,32.32,43.5,78.66,116.3,1.1266999999999999E-2]
["2009-07-29",1390,3226,86.94,32.93,43.52,80,115.24,1.1299999999999999E-2]
["2009-07-30",1417.99,3250,89.53,33.71,44.36,82.35,113.8,1.1405999999999999E-2]
["2009-07-31",1396.99,3231.3,89.8,33.17,43.98,81.95,114.24,1.1423000000000001E-2]
["2009-08-03",1463,3246.99,90.81,34,43.78,83.18,111.96,1.1292E-2]
["2009-08-04",1483.9,3266,90.19,32.6,43.66,82.62,112.8,1.1233E-2]
["2009-08-05",1499,3266,89.58,32.6,43.2,82.09,114.22,1.1157E-2]
["2009-08-06",1510,3285.26,90.44,32.39,43.76,81.900000000000006,113.99,1.1159000000000001E-2]
["2009-08-07",1518.74,3295,91.36,33.47,44.12,83.75,112.1,1.1161000000000001E-2]
["2009-08-10",1486.01,3262.34,91.52,33.08,43.9,82.89,113.42,1.1088000000000001E-2]
["2009-08-11",1480,3255,90.37,33.69,44.1,83.02,115.3,1.1133000000000001E-2]
["2009-08-12",1495,3245,91.15,33.86,42.36,81.05,114.2,1.1225000000000001E-2]
["2009-08-13",1530,3260.78,92.26,33.24,41.4,82.6,112.2,1.1268E-2]
["2009-08-14",1512,3239.28,91.96,33.229999999999997,42.2,80.37,114.5,1.12E-2]
["2009-08-17",1430,3194.01,90.34,33.659999999999997,41.72,79.040000000000006,116.43,1.1302E-2]
["2009-08-18",1430,3215,91.4,32.97,42.14,79,116.15,1.1402000000000001E-2]
["2009-08-19",1404.85,3194,91.63,32.76,42.7,78.739999999999995,115.47,1.136E-2]
["2009-08-20",1418.01,3187,93.25,33.35,42.94,80,115.35,1.1376000000000001E-2]
["2009-08-21",1445,3226.99,95.32,33.67,43.3,82.3,111.01,1.1313999999999999E-2]
["2009-08-24",1455,3211.82,96.24,33.4,43.52,83.92,110.07,1.1224E-2]
["2009-08-25",1445.85,3192.92,96.2,33.57,43.22,83.8,109.2,1.1198E-2]
["2009-08-26",1461,3212.99,96,33.56,43.08,84.15,109.66,1.1261999999999999E-2]
["2009-08-27",1454,3211,95.59,34,42.92,84.15,111,1.1304E-2]
["2009-08-28",1498.99,3213,96.56,34,42.9,83.65,109.22,1.1386E-2]

{"sheet":"Silber_Gold_Tag","index":2,"n_rows":0,"n_cols":0,"rows_kept":0,"cut":false,"hidden":false,"merged":[]}

{"sheet":"Korrelation_Woche","index":3,"n_rows":50,"n_cols":19,"rows_kept":50,"cut":false,"hidden":false,"merged":[[1,11,1,18]]}
["Date","ZKB SILVER ETF  (ZSIL/ CH0029792717)","ZKB GOLD ETF  (ZGLD/ CH0024391002)","Xmtch (CH) SLI  (XMSLI/ CH0031768937)","UBS-ETF MSCI JAPAN  (FDJPHU/ LU0136240974)","NESTLE N  (NESN/ CH0038863350)","DB X-TR DAX  (XDAX/ LU0274211480)","DB X-TR SHORT DAX  (XSDX/ LU0292106241)","JPY/CHF"]
["2008-09-04",{"$f":"LN(Kurse_Woche!B3/Kurse_Woche!B2)","v":-6.4768274154090144E-2},{"$f":"LN(Kurse_Woche!C3/Kurse_Woche!C2)","v":-3.745236609653934E-2},{"$f":"LN(Kurse_Woche!D3/Kurse_Woche!D2)","v":-1.5396334551923612E-2},{"$f":"LN(Kurse_Woche!E3/Kurse_Woche!E2)","v":-4.3179526672126767E-2},{"$f":"LN(Kurse_Woche!F3/Kurse_Woche!F2)","v":-1.5343448426220872E-2},{"$f":"LN(Kurse_Woche!G3/Kurse_Woche!G2)","v":-3.4992118382688217E-2},{"$f":"LN(Kurse_Woche!H3/Kurse_Woche!H2)","v":1.2453461071286557E-2},{"$f":"LN(Kurse_Woche!I3/Kurse_Woche!I2)","v":1.9869185251543915E-2},null,null,"1-Jahr Korrelation basierend Wochenkurs"]
["2008-09-11",{"$f":"LN(Kurse_Woche!B4/Kurse_Woche!B3)","v":-0.18261571770209134},{"$f":"LN(Kurse_Woche!C4/Kurse_Woche!C3)","v":-4.7765953869582073E-2},{"$f":"LN(Kurse_Woche!D4/Kurse_Woche!D3)","v":-2.5847592810555164E-2},{"$f":"LN(Kurse_Woche!E4/Kurse_Woche!E3)","v":2.2971716024939779E-2},{"$f":"LN(Kurse_Woche!F4/Kurse_Woche!F3)","v":3.3288465044059766E-2},{"$f":"LN(Kurse_Woche!G4/Kurse_Woche!G3)","v":-3.0722061642564965E-2},{"$f":"LN(Kurse_Woche!H4/Kurse_Woche!H3)","v":2.1113866002352908E-2},{"$f":"LN(Kurse_Woche!I4/Kurse_Woche!I3)","v":2.9890385659901021E-2},null,null,"ZKB Silver","ZKB Gold","Xmtch SLI","UBS MSCI Japan","Nestlé","DB X-TR-Dax","DB Sh. Dax","JPY/CHF"]
["2008-09-18",{"$f":"LN(Kurse_Woche!B5/Kurse_Woche!B4)","v":0.13595563623602894},{"$f":"LN(Kurse_Woche!C5/Kurse_Woche!C4)","v":0.12623090217771132},{"$f":"LN(Kurse_Woche!D5/Kurse_Woche!D4)","v":-5.3081923430918269E-2},{"$f":"LN(Kurse_Woche!E5/Kurse_Woche!E4)","v":-7.3852837568845101E-2},{"$f":"LN(Kurse_Woche!F5/Kurse_Woche!F4)","v":-2.8286370412571545E-2},{"$f":"LN(Kurse_Woche!G5/Kurse_Woche!G4)","v":-5.4982579162346321E-2},{"$f":"LN(Kurse_Woche!H5/Kurse_Woche!H4)","v":3.9651327942876673E-2},{"$f":"LN(Kurse_Woche!I5/Kurse_Woche!I4)","v":7.0992772964265979E-3},null,"ZKB Silver",{"$f":"CorrMatrix(Korrelation_Woche!$B$2:'Korrelation_Woche'!$I$50)","v":1.0000000000000002},0.73115569931348801,0.25783155946940844,0.26152813512695611,2.4312991805529458E-2,0.30870195919977339,-0.10715369989114304,-0.13375315904266497]
["2008-09-25",{"$f":"LN(Kurse_Woche!B6/Kurse_Woche!B5)","v":6.7039243802714574E-2},{"$f":"LN(Kurse_Woche!C6/Kurse_Woche!C5)","v":-1.3153757558740542E-2},{"$f":"LN(Kurse_Woche!D6/Kurse_Woche!D5)","v":5.068119245600014E-2},{"$f":"LN(Kurse_Woche!E6/Kurse_Woche!E5)","v":2.4424552007074794E-2},{"$f":"LN(Kurse_Woche!F6/Kurse_Woche!F5)","v":-8.3507792174199631E-3},{"$f":"LN(Kurse_Woche!G6/Kurse_Woche!G5)","v":5.6209322313532026E-2},{"$f":"LN(Kurse_Woche!H6/Kurse_Woche!H5)","v":-2.95073979402782E-2},{"$f":"LN(Kurse_Woche!I6/Kurse_Woche!I5)","v":-3.1913014349456398E-2},null,"ZKB Gold",0.73115569931348801,0.99999999999999989,-5.4187418343439972E-2,-4.12991548152754E-2,-0.16663383165114637,6.8431033369525843E-2,3.6978520350799078E-2,7.1881226508662535E-2]
["2008-10-02",{"$f":"LN(Kurse_Woche!B7/Kurse_Woche!B6)","v":-0.12737500133520915},{"$f":"LN(Kurse_Woche!C7/Kurse_Woche!C6)","v":1.3231890782697932E-3},{"$f":"LN(Kurse_Woche!D7/Kurse_Woche!D6)","v":-5.6361296986208835E-2},{"$f":"LN(Kurse_Woche!E7/Kurse_Woche!E6)","v":-2.3051868195102604E-2},{"$f":"LN(Kurse_Woche!F7/Kurse_Woche!F6)","v":5.4359322650178142E-3},{"$f":"LN(Kurse_Woche!G7/Kurse_Woche!G6)","v":-9.8144187727224372E-2},{"$f":"LN(Kurse_Woche!H7/Kurse_Woche!H6)","v":3.8303936069614117E-2},{"$f":"LN(Kurse_Woche!I7/Kurse_Woche!I6)","v":2.87009190038661E-2},null,"Xmtch SLI",0.25783155946940844,-5.4187418343439972E-2,0.99999999999999989,0.70427421172547633,0.52560354365829753,0.87837178575999975,-0.77031169282314538,-0.45965100692921584]
["2008-10-09",{"$f":"LN(Kurse_Woche!B8/Kurse_Woche!B7)","v":5.2601766932758247E-2},{"$f":"LN(Kurse_Woche!C8/Kurse_Woche!C7)","v":6.6190049176044138E-2},{"$f":"LN(Kurse_Woche!D8/Kurse_Woche!D7)","v":-0.14183407045822946},{"$f":"LN(Kurse_Woche!E8/Kurse_Woche!E7)","v":-0.13083075104885902},{"$f":"LN(Kurse_Woche!F8/Kurse_Woche!F7)","v":-0.12605316915727657},{"$f":"LN(Kurse_Woche!G8/Kurse_Woche!G7)","v":-0.16877682629863971},{"$f":"LN(Kurse_Woche!H8/Kurse_Woche!H7)","v":0.14913356554045967},{"$f":"LN(Kurse_Woche!I8/Kurse_Woche!I7)","v":6.6352497521509068E-2},null,"UBS MSCI Japan",0.26152813512695611,-4.12991548152754E-2,0.70427421172547633,0.99999999999999989,0.54447315669670338,0.66766836720854739,-0.52144119696817848,-0.11869466535692354]
["2008-10-16",{"$f":"LN(Kurse_Woche!B9/Kurse_Woche!B8)","v":-0.23132913590064921},{"$f":"LN(Kurse_Woche!C9/Kurse_Woche!C8)","v":-0.11115283636233067},{"$f":"LN(Kurse_Woche!D9/Kurse_Woche!D8)","v":-4.5688660673786359E-2},{"$f":"LN(Kurse_Woche!E9/Kurse_Woche!E8)","v":-9.4716234898697987E-2},{"$f":"LN(Kurse_Woche!F9/Kurse_Woche!F8)","v":-3.2695219918611122E-2},{"$f":"LN(Kurse_Woche!G9/Kurse_Woche!G8)","v":-7.6790275197114524E-2},{"$f":"LN(Kurse_Woche!H9/Kurse_Woche!H8)","v":-1.834278803043381E-2},{"$f":"LN(Kurse_Woche!I9/Kurse_Woche!I8)","v":-7.9122073436710631E-3},null,"Nestlé",2.4312991805529458E-2,-0.16663383165114637,0.52560354365829753,0.54447315669670338,1,0.34338575896391865,-0.27199156435613109,-0.29909751430439419]
["2008-10-23",{"$f":"LN(Kurse_Woche!B10/Kurse_Woche!B9)","v":7.7178456073390828E-2},{"$f":"LN(Kurse_Woche!C10/Kurse_Woche!C9)","v":-7.650471373404652E-2},{"$f":"LN(Kurse_Woche!D10/Kurse_Woche!D9)","v":8.3089432084467538E-3},{"$f":"LN(Kurse_Woche!E10/Kurse_Woche!E9)","v":8.9071817279020943E-2},{"$f":"LN(Kurse_Woche!F10/Kurse_Woche!F9)","v":8.1620528354753266E-2},{"$f":"LN(Kurse_Woche!G10/Kurse_Woche!G9)","v":-1.6853515286423166E-2},{"$f":"LN(Kurse_Woche!H10/Kurse_Woche!H9)","v":5.8670833417405498E-2},{"$f":"LN(Kurse_Woche!I10/Kurse_Woche!I9)","v":4.1863936337149285E-2},null,"DB X-TR-Dax",0.30870195919977339,6.8431033369525843E-2,0.87837178575999975,0.66766836720854739,0.34338575896391865,1.0000000000000002,-0.85130061568807203,-0.42749872578668796]
["2008-10-30",{"$f":"LN(Kurse_Woche!B11/Kurse_Woche!B10)","v":-4.2559614418795889E-2},{"$f":"LN(Kurse_Woche!C11/Kurse_Woche!C10)","v":1.0600576380703245E-2},{"$f":"LN(Kurse_Woche!D11/Kurse_Woche!D10)","v":2.6734734601622434E-3},{"$f":"LN(Kurse_Woche!E11/Kurse_Woche!E10)","v":2.0542272300314107E-2},{"$f":"LN(Kurse_Woche!F11/Kurse_Woche!F10)","v":-1.1780834031149453E-2},{"$f":"LN(Kurse_Woche!G11/Kurse_Woche!G10)","v":6.8650932690663677E-2},{"$f":"LN(Kurse_Woche!H11/Kurse_Woche!H10)","v":-0.15641498935620718},{"$f":"LN(Kurse_Woche!I11/Kurse_Woche!I10)","v":9.2017348595249057E-3},null,"DB Sh. Dax",-0.10715369989114304,3.6978520350799078E-2,-0.77031169282314538,-0.52144119696817848,-0.27199156435613109,-0.85130061568807203,0.99999999999999989,0.48622817749397657]
["2008-11-06",{"$f":"LN(Kurse_Woche!B12/Kurse_Woche!B11)","v":0.10913410504146574},{"$f":"LN(Kurse_Woche!C12/Kurse_Woche!C11)","v":2.4606580255222912E-2},{"$f":"LN(Kurse_Woche!D12/Kurse_Woche!D11)","v":1.8516820990018643E-2},{"$f":"LN(Kurse_Woche!E12/Kurse_Woche!E11)","v":1.0115028770111747E-2},{"$f":"LN(Kurse_Woche!F12/Kurse_Woche!F11)","v":4.3698436999454554E-2},{"$f":"LN(Kurse_Woche!G12/Kurse_Woche!G11)","v":-1.3774322464829399E-2},{"$f":"LN(Kurse_Woche!H12/Kurse_Woche!H11)","v":1.2781927493505051E-2},{"$f":"LN(Kurse_Woche!I12/Kurse_Woche!I11)","v":-4.0792102115921334E-3},null,"JPY/CHF",-0.13375315904266497,7.1881226508662535E-2,-0.45965100692921584,-0.11869466535692354,-0.29909751430439419,-0.42749872578668796,0.48622817749397657,1.0000000000000002]
["2008-11-13",{"$f":"LN(Kurse_Woche!B13/Kurse_Woche!B12)","v":-0.11387120532573497},{"$f":"LN(Kurse_Woche!C13/Kurse_Woche!C12)","v":-1.5957273398551561E-2},{"$f":"LN(Kurse_Woche!D13/Kurse_Woche!D12)","v":-5.4093695557126287E-2},{"$f":"LN(Kurse_Woche!E13/Kurse_Woche!E12)","v":-1.5985584792686258E-2},{"$f":"LN(Kurse_Woche!F13/Kurse_Woche!F12)","v":-1.8050236927897936E-2},{"$f":"LN(Kurse_Woche!G13/Kurse_Woche!G12)","v":-2.970166958945511E-2},{"$f":"LN(Kurse_Woche!H13/Kurse_Woche!H12)","v":5.7196438822366587E-2},{"$f":"LN(Kurse_Woche!I13/Kurse_Woche!I12)","v":3.8834156159157147E-2}]
["2008-11-20",{"$f":"LN(Kurse_Woche!B14/Kurse_Woche!B13)","v":-5.7143012634386639E-3},{"$f":"LN(Kurse_Woche!C14/Kurse_Woche!C13)","v":6.470282052804216E-2},{"$f":"LN(Kurse_Woche!D14/Kurse_Woche!D13)","v":-9.4631335824366669E-2},{"$f":"LN(Kurse_Woche!E14/Kurse_Woche!E13)","v":-7.2940624401715184E-2},{"$f":"LN(Kurse_Woche!F14/Kurse_Woche!F13)","v":-4.3119908877844629E-2},{"$f":"LN(Kurse_Woche!G14/Kurse_Woche!G13)","v":-8.6816562939024206E-2},{"$f":"LN(Kurse_Woche!H14/Kurse_Woche!H13)","v":0.11686486825388663},{"$f":"LN(Kurse_Woche!I14/Kurse_Woche!I13)","v":2.1073887362989513E-2}]
["2008-11-27",{"$f":"LN(Kurse_Woche!B15/Kurse_Woche!B14)","v":0.1330537236400402},{"$f":"LN(Kurse_Woche!C15/Kurse_Woche!C14)","v":6.3617421057553691E-2},{"$f":"LN(Kurse_Woche!D15/Kurse_Woche!D14)","v":8.9841209433326255E-2},{"$f":"LN(Kurse_Woche!E15/Kurse_Woche!E14)","v":3.6331929247390204E-2},{"$f":"LN(Kurse_Woche!F15/Kurse_Woche!F14)","v":-1.4012373126994387E-2},{"$f":"LN(Kurse_Woche!G15/Kurse_Woche!G14)","v":0.11637952665406329},{"$f":"LN(Kurse_Woche!H15/Kurse_Woche!H14)","v":-9.8080964851186531E-2},{"$f":"LN(Kurse_Woche!I15/Kurse_Woche!I14)","v":4.7209529569642488E-3}]
["2008-12-04",{"$f":"LN(Kurse_Woche!B16/Kurse_Woche!B15)","v":-7.7329001801940175E-2},{"$f":"LN(Kurse_Woche!C16/Kurse_Woche!C15)","v":-3.9749033043927691E-2},{"$f":"LN(Kurse_Woche!D16/Kurse_Woche!D15)","v":-2.4036952556271002E-3},{"$f":"LN(Kurse_Woche!E16/Kurse_Woche!E15)","v":1.6059100930019294E-3},{"$f":"LN(Kurse_Woche!F16/Kurse_Woche!F15)","v":1.4101059915861678E-3},{"$f":"LN(Kurse_Woche!G16/Kurse_Woche!G15)","v":-2.500130220541727E-2},{"$f":"LN(Kurse_Woche!H16/Kurse_Woche!H15)","v":2.182259709668033E-2},{"$f":"LN(Kurse_Woche!I16/Kurse_Woche!I15)","v":3.6832246737396421E-2}]
["2008-12-11",{"$f":"LN(Kurse_Woche!B17/Kurse_Woche!B16)","v":7.6492531656974089E-2},{"$f":"LN(Kurse_Woche!C17/Kurse_Woche!C16)","v":4.7714007636496018E-2},{"$f":"LN(Kurse_Woche!D17/Kurse_Woche!D16)","v":2.7730980071433143E-2},{"$f":"LN(Kurse_Woche!E17/Kurse_Woche!E16)","v":6.0398061380469721E-2},{"$f":"LN(Kurse_Woche!F17/Kurse_Woche!F16)","v":-2.08835306605775E-2},{"$f":"LN(Kurse_Woche!G17/Kurse_Woche!G16)","v":6.7901867417915165E-2},{"$f":"LN(Kurse_Woche!H17/Kurse_Woche!H16)","v":-4.3051489492446873E-2},{"$f":"LN(Kurse_Woche!I17/Kurse_Woche!I16)","v":0}]
["2008-12-18",{"$f":"LN(Kurse_Woche!B18/Kurse_Woche!B17)","v":-4.9752970615074998E-2},{"$f":"LN(Kurse_Woche!C18/Kurse_Woche!C17)","v":-7.2825608794609351E-2},{"$f":"LN(Kurse_Woche!D18/Kurse_Woche!D17)","v":-2.3938308015694396E-2},{"$f":"LN(Kurse_Woche!E18/Kurse_Woche!E17)","v":-8.6407329855588161E-2},{"$f":"LN(Kurse_Woche!F18/Kurse_Woche!F17)","v":-2.8705449424273135E-2},{"$f":"LN(Kurse_Woche!G18/Kurse_Woche!G17)","v":-2.530077090308221E-2},{"$f":"LN(Kurse_Woche!H18/Kurse_Woche!H17)","v":-1.6625305791437842E-2},{"$f":"LN(Kurse_Woche!I18/Kurse_Woche!I17)","v":-3.6193829989194702E-2}]
["2009-01-08",{"$f":"LN(Kurse_Woche!B19/Kurse_Woche!B18)","v":2.7755467721532326E-2},{"$f":"LN(Kurse_Woche!C19/Kurse_Woche!C18)","v":2.6795838869637351E-2},{"$f":"LN(Kurse_Woche!D19/Kurse_Woche!D18)","v":4.0433275445660978E-2},{"$f":"LN(Kurse_Woche!E19/Kurse_Woche!E18)","v":4.9480057263369716E-2},{"$f":"LN(Kurse_Woche!F19/Kurse_Woche!F18)","v":3.730149089407097E-2},{"$f":"LN(Kurse_Woche!G19/Kurse_Woche!G18)","v":-1.1376998871146545E-2},{"$f":"LN(Kurse_Woche!H19/Kurse_Woche!H18)","v":-5.1524499351780266E-2},{"$f":"LN(Kurse_Woche!I19/Kurse_Woche!I18)","v":-5.4510522988679914E-2}]
["2009-01-15",{"$f":"LN(Kurse_Woche!B20/Kurse_Woche!B19)","v":-3.8365646833547914E-2},{"$f":"LN(Kurse_Woche!C20/Kurse_Woche!C19)","v":-2.2680606724530619E-2},{"$f":"LN(Kurse_Woche!D20/Kurse_Woche!D19)","v":-7.7188890649782654E-2},{"$f":"LN(Kurse_Woche!E20/Kurse_Woche!E19)","v":-4.2259809289882613E-2},{"$f":"LN(Kurse_Woche!F20/Kurse_Woche!F19)","v":-5.4727871638503567E-2},{"$f":"LN(Kurse_Woche!G20/Kurse_Woche!G19)","v":-0.11129051014471199},{"$f":"LN(Kurse_Woche!H20/Kurse_Woche!H19)","v":9.8360583759214734E-2},{"$f":"LN(Kurse_Woche!I20/Kurse_Woche!I19)","v":5.2114355708005773E-2}]
["2009-01-22",{"$f":"LN(Kurse_Woche!B21/Kurse_Woche!B20)","v":0.12437852149358808},{"$f":"LN(Kurse_Woche!C21/Kurse_Woche!C20)","v":8.0200648130312746E-2},{"$f":"LN(Kurse_Woche!D21/Kurse_Woche!D20)","v":-1.9297453177048864E-2},{"$f":"LN(Kurse_Woche!E21/Kurse_Woche!E20)","v":1.0409983402783532E-2},{"$f":"LN(Kurse_Woche!F21/Kurse_Woche!F20)","v":1.5450095516220445E-2},{"$f":"LN(Kurse_Woche!G21/Kurse_Woche!G20)","v":-3.2892550235891417E-2},{"$f":"LN(Kurse_Woche!H21/Kurse_Woche!H20)","v":2.2312948628957028E-2},{"$f":"LN(Kurse_Woche!I21/Kurse_Woche!I20)","v":2.4565825996420935E-2}]
["2009-01-29",{"$f":"LN(Kurse_Woche!B22/Kurse_Woche!B21)","v":4.2498453469487031E-2},{"$f":"LN(Kurse_Woche!C22/Kurse_Woche!C21)","v":3.841860331846008E-2},{"$f":"LN(Kurse_Woche!D22/Kurse_Woche!D21)","v":1.0487981964902643E-2},{"$f":"LN(Kurse_Woche!E22/Kurse_Woche!E21)","v":-6.4935293105482308E-3},{"$f":"LN(Kurse_Woche!F22/Kurse_Woche!F21)","v":-5.9523985272951609E-3},{"$f":"LN(Kurse_Woche!G22/Kurse_Woche!G21)","v":4.7120588005632305E-2},{"$f":"LN(Kurse_Woche!H22/Kurse_Woche!H21)","v":-3.7446089794912783E-2},{"$f":"LN(Kurse_Woche!I22/Kurse_Woche!I21)","v":-3.1259794132921042E-3}]
["2009-02-05",{"$f":"LN(Kurse_Woche!B23/Kurse_Woche!B22)","v":7.4412057918995342E-2},{"$f":"LN(Kurse_Woche!C23/Kurse_Woche!C22)","v":3.5531428378485622E-2},{"$f":"LN(Kurse_Woche!D23/Kurse_Woche!D22)","v":-2.5006317363733332E-2},{"$f":"LN(Kurse_Woche!E23/Kurse_Woche!E22)","v":1.9035903087639396E-2},{"$f":"LN(Kurse_Woche!F23/Kurse_Woche!F22)","v":-4.7373258007476916E-2},{"$f":"LN(Kurse_Woche!G23/Kurse_Woche!G22)","v":2.0895160817174369E-2},{"$f":"LN(Kurse_Woche!H23/Kurse_Woche!H22)","v":-1.0121976789162592E-2},{"$f":"LN(Kurse_Woche!I23/Kurse_Woche!I22)","v":8.4954331916171945E-3}]
["2009-02-12",{"$f":"LN(Kurse_Woche!B24/Kurse_Woche!B23)","v":5.7003218681726114E-2},{"$f":"LN(Kurse_Woche!C24/Kurse_Woche!C23)","v":3.3458606225009277E-2},{"$f":"LN(Kurse_Woche!D24/Kurse_Woche!D23)","v":-6.3845900502527897E-3},{"$f":"LN(Kurse_Woche!E24/Kurse_Woche!E23)","v":-3.9770560680352986E-2},{"$f":"LN(Kurse_Woche!F24/Kurse_Woche!F23)","v":-1.7895214388492269E-2},{"$f":"LN(Kurse_Woche!G24/Kurse_Woche!G23)","v":-2.7601480723774954E-2},{"$f":"LN(Kurse_Woche!H24/Kurse_Woche!H23)","v":1.7189144012255082E-2},{"$f":"LN(Kurse_Woche!I24/Kurse_Woche!I23)","v":-4.1997261914471541E-3}]
["2009-02-19",{"$f":"LN(Kurse_Woche!B25/Kurse_Woche!B24)","v":4.3878006172054271E-2},{"$f":"LN(Kurse_Woche!C25/Kurse_Woche!C24)","v":4.1261842283524398E-2},{"$f":"LN(Kurse_Woche!D25/Kurse_Woche!D24)","v":-3.1704738985744198E-2},{"$f":"LN(Kurse_Woche!E25/Kurse_Woche!E24)","v":-6.0666192351245686E-2},{"$f":"LN(Kurse_Woche!F25/Kurse_Woche!F24)","v":3.3423476715047321E-2},{"$f":"LN(Kurse_Woche!G25/Kurse_Woche!G24)","v":-3.8505263383107426E-2},{"$f":"LN(Kurse_Woche!H25/Kurse_Woche!H24)","v":4.0032950912840828E-2},{"$f":"LN(Kurse_Woche!I25/Kurse_Woche!I24)","v":-1.5076846247892217E-2}]
["2009-02-26",{"$f":"LN(Kurse_Woche!B26/Kurse_Woche!B25)","v":-8.1516857671989046E-2},{"$f":"LN(Kurse_Woche!C26/Kurse_Woche!C25)","v":-5.1272089995260409E-2},{"$f":"LN(Kurse_Woche!D26/Kurse_Woche!D25)","v":-4.0036913364647424E-2},{"$f":"LN(Kurse_Woche!E26/Kurse_Woche!E25)","v":-6.1950588861538529E-2},{"$f":"LN(Kurse_Woche!F26/Kurse_Woche!F25)","v":-2.7598731626176029E-2},{"$f":"LN(Kurse_Woche!G26/Kurse_Woche!G25)","v":-6.8913408655649003E-2},{"$f":"LN(Kurse_Woche!H26/Kurse_Woche!H25)","v":6.4390506124349586E-2},{"$f":"LN(Kurse_Woche!I26/Kurse_Woche!I25)","v":-5.2881122210572347E-2}]
["2009-03-05",{"$f":"LN(Kurse_Woche!B27/Kurse_Woche!B26)","v":0},{"$f":"LN(Kurse_Woche!C27/Kurse_Woche!C26)","v":-1.7307090491190804E-2},{"$f":"LN(Kurse_Woche!D27/Kurse_Woche!D26)","v":-8.8743209834388506E-2},{"$f":"LN(Kurse_Woche!E27/Kurse_Woche!E26)","v":-2.2430136327093189E-2},{"$f":"LN(Kurse_Woche!F27/Kurse_Woche!F26)","v":-6.0393655882883306E-2},{"$f":"LN(Kurse_Woche!G27/Kurse_Woche!G26)","v":-5.1714579132965635E-2},{"$f":"LN(Kurse_Woche!H27/Kurse_Woche!H26)","v":2.4254628024260285E-2},{"$f":"LN(Kurse_Woche!I27/Kurse_Woche!I26)","v":-5.7723839538451486E-3}]
["2009-03-12",{"$f":"LN(Kurse_Woche!B28/Kurse_Woche!B27)","v":6.9416046423903463E-3},{"$f":"LN(Kurse_Woche!C28/Kurse_Woche!C27)","v":2.6752638181252106E-2},{"$f":"LN(Kurse_Woche!D28/Kurse_Woche!D27)","v":5.4942627464124261E-2},{"$f":"LN(Kurse_Woche!E28/Kurse_Woche!E27)","v":-3.4662079764861725E-3},{"$f":"LN(Kurse_Woche!F28/Kurse_Woche!F27)","v":2.8747142625530304E-2},{"$f":"LN(Kurse_Woche!G28/Kurse_Woche!G27)","v":5.3925652403864335E-2},{"$f":"LN(Kurse_Woche!H28/Kurse_Woche!H27)","v":-2.2036699926438218E-2},{"$f":"LN(Kurse_Woche!I28/Kurse_Woche!I27)","v":-9.1871352913007465E-3}]
["2009-03-19",{"$f":"LN(Kurse_Woche!B29/Kurse_Woche!B28)","v":-1.5353598794489937E-2},{"$f":"LN(Kurse_Woche!C29/Kurse_Woche!C28)","v":-2.896207427311456E-2},{"$f":"LN(Kurse_Woche!D29/Kurse_Woche!D28)","v":4.0512996308168486E-2},{"$f":"LN(Kurse_Woche!E29/Kurse_Woche!E28)","v":4.8202101817877686E-2},{"$f":"LN(Kurse_Woche!F29/Kurse_Woche!F28)","v":-1.3165302605257348E-2},{"$f":"LN(Kurse_Woche!G29/Kurse_Woche!G28)","v":6.1124187204945446E-2},{"$f":"LN(Kurse_Woche!H29/Kurse_Woche!H28)","v":-2.0334481580646144E-2},{"$f":"LN(Kurse_Woche!I29/Kurse_Woche!I28)","v":1.1366150568502096E-2}]
["2009-03-26",{"$f":"LN(Kurse_Woche!B30/Kurse_Woche!B29)","v":2.6736225909872575E-2},{"$f":"LN(Kurse_Woche!C30/Kurse_Woche!C29)","v":-9.8011789552695482E-3},{"$f":"LN(Kurse_Woche!D30/Kurse_Woche!D29)","v":2.4848675271135545E-2},{"$f":"LN(Kurse_Woche!E30/Kurse_Woche!E29)","v":5.3331656691321921E-2},{"$f":"LN(Kurse_Woche!F30/Kurse_Woche!F29)","v":6.2085210530953075E-2},{"$f":"LN(Kurse_Woche!G30/Kurse_Woche!G29)","v":3.2238030386080217E-2},{"$f":"LN(Kurse_Woche!H30/Kurse_Woche!H29)","v":-4.6612304869419245E-2},{"$f":"LN(Kurse_Woche!I30/Kurse_Woche!I29)","v":-3.3713927644822506E-2}]
["2009-04-02",{"$f":"LN(Kurse_Woche!B31/Kurse_Woche!B30)","v":-7.7638069191918083E-2},{"$f":"LN(Kurse_Woche!C31/Kurse_Woche!C30)","v":-4.1587004808948128E-2},{"$f":"LN(Kurse_Woche!D31/Kurse_Woche!D30)","v":4.8594237418385589E-2},{"$f":"LN(Kurse_Woche!E31/Kurse_Woche!E30)","v":1.9330943684592074E-2},{"$f":"LN(Kurse_Woche!F31/Kurse_Woche!F30)","v":2.3590837608249069E-2},{"$f":"LN(Kurse_Woche!G31/Kurse_Woche!G30)","v":1.8095877934919291E-2},{"$f":"LN(Kurse_Woche!H31/Kurse_Woche!H30)","v":-2.640304239288542E-2},{"$f":"LN(Kurse_Woche!I31/Kurse_Woche!I30)","v":1.8166880726348893E-3}]
["2009-04-09",{"$f":"LN(Kurse_Woche!B32/Kurse_Woche!B31)","v":-2.1354065633309775E-2},{"$f":"LN(Kurse_Woche!C32/Kurse_Woche!C31)","v":-3.3893115175303262E-3},{"$f":"LN(Kurse_Woche!D32/Kurse_Woche!D31)","v":-8.8225886151791083E-3},{"$f":"LN(Kurse_Woche!E32/Kurse_Woche!E31)","v":1.8628819833493199E-2},{"$f":"LN(Kurse_Woche!F32/Kurse_Woche!F31)","v":2.0253171480015971E-3},{"$f":"LN(Kurse_Woche!G32/Kurse_Woche!G31)","v":1.7176857451909066E-2},{"$f":"LN(Kurse_Woche!H32/Kurse_Woche!H31)","v":-3.8970570709752975E-2},{"$f":"LN(Kurse_Woche!I32/Kurse_Woche!I31)","v":-9.4655736910230666E-3}]
["2009-04-16",{"$f":"LN(Kurse_Woche!B33/Kurse_Woche!B32)","v":-2.1182905518324488E-3},{"$f":"LN(Kurse_Woche!C33/Kurse_Woche!C32)","v":-6.434235616650576E-3},{"$f":"LN(Kurse_Woche!D33/Kurse_Woche!D32)","v":3.2459931354291274E-2},{"$f":"LN(Kurse_Woche!E33/Kurse_Woche!E32)","v":6.6889881507964889E-3},{"$f":"LN(Kurse_Woche!F33/Kurse_Woche!F32)","v":-1.7347373793176843E-2},{"$f":"LN(Kurse_Woche!G33/Kurse_Woche!G32)","v":3.709830892160907E-2},{"$f":"LN(Kurse_Woche!H33/Kurse_Woche!H32)","v":-2.8732554083209152E-2},{"$f":"LN(Kurse_Woche!I33/Kurse_Woche!I32)","v":6.8692935653911977E-3}]
["2009-04-23",{"$f":"LN(Kurse_Woche!B34/Kurse_Woche!B33)","v":5.8521571619656106E-2},{"$f":"LN(Kurse_Woche!C34/Kurse_Woche!C33)","v":3.728669909941533E-2},{"$f":"LN(Kurse_Woche!D34/Kurse_Woche!D33)","v":3.03090434304912E-3},{"$f":"LN(Kurse_Woche!E34/Kurse_Woche!E33)","v":6.9756137364253585E-3},{"$f":"LN(Kurse_Woche!F34/Kurse_Woche!F33)","v":-5.0129197175810568E-2},{"$f":"LN(Kurse_Woche!G34/Kurse_Woche!G33)","v":-2.8026940298581698E-2},{"$f":"LN(Kurse_Woche!H34/Kurse_Woche!H33)","v":-1.2649281793762211E-3},{"$f":"LN(Kurse_Woche!I34/Kurse_Woche!I33)","v":2.9373696520407722E-2}]
["2009-04-30",{"$f":"LN(Kurse_Woche!B35/Kurse_Woche!B34)","v":-6.2062057941681174E-2},{"$f":"LN(Kurse_Woche!C35/Kurse_Woche!C34)","v":-3.9684561766394143E-2},{"$f":"LN(Kurse_Woche!D35/Kurse_Woche!D34)","v":4.8790164169432049E-2},{"$f":"LN(Kurse_Woche!E35/Kurse_Woche!E34)","v":-1.4671820370895622E-2},{"$f":"LN(Kurse_Woche!F35/Kurse_Woche!F34)","v":1.0764366587158484E-2},{"$f":"LN(Kurse_Woche!G35/Kurse_Woche!G34)","v":7.1407914923988972E-2},{"$f":"LN(Kurse_Woche!H35/Kurse_Woche!H34)","v":-5.2975815977764171E-2},{"$f":"LN(Kurse_Woche!I35/Kurse_Woche!I34)","v":-1.006393542103548E-2}]
["2009-05-07",{"$f":"LN(Kurse_Woche!B36/Kurse_Woche!B35)","v":0.10330501647573027},{"$f":"LN(Kurse_Woche!C36/Kurse_Woche!C35)","v":2.3811930845858493E-2},{"$f":"LN(Kurse_Woche!D36/Kurse_Woche!D35)","v":1.406107905184765E-2},{"$f":"LN(Kurse_Woche!E36/Kurse_Woche!E35)","v":2.7498833930650144E-2},{"$f":"LN(Kurse_Woche!F36/Kurse_Woche!F35)","v":4.9605575487673186E-2},{"$f":"LN(Kurse_Woche!G36/Kurse_Woche!G35)","v":1.4369046404633681E-2},{"$f":"LN(Kurse_Woche!H36/Kurse_Woche!H35)","v":1.8823534969812021E-3},{"$f":"LN(Kurse_Woche!I36/Kurse_Woche!I35)","v":-2.1304817492555486E-2}]
["2009-05-14",{"$f":"LN(Kurse_Woche!B37/Kurse_Woche!B36)","v":-3.7511344601788366E-3},{"$f":"LN(Kurse_Woche!C37/Kurse_Woche!C36)","v":-6.6810297475338514E-3},{"$f":"LN(Kurse_Woche!D37/Kurse_Woche!D36)","v":-1.2808730735381498E-2},{"$f":"LN(Kurse_Woche!E37/Kurse_Woche!E36)","v":-8.2034914528277911E-3},{"$f":"LN(Kurse_Woche!F37/Kurse_Woche!F36)","v":3.7495019506209031E-2},{"$f":"LN(Kurse_Woche!G37/Kurse_Woche!G36)","v":-4.7011854994544307E-2},{"$f":"LN(Kurse_Woche!H37/Kurse_Woche!H36)","v":1.5395685477973473E-2},{"$f":"LN(Kurse_Woche!I37/Kurse_Woche!I36)","v":-2.0860503001487105E-3}]
["2009-05-28",{"$f":"LN(Kurse_Woche!B38/Kurse_Woche!B37)","v":6.0004162879660441E-2},{"$f":"LN(Kurse_Woche!C38/Kurse_Woche!C37)","v":1.5785374189329397E-2},{"$f":"LN(Kurse_Woche!D38/Kurse_Woche!D37)","v":2.2889957005133674E-2},{"$f":"LN(Kurse_Woche!E38/Kurse_Woche!E37)","v":2.4411301679681204E-2},{"$f":"LN(Kurse_Woche!F38/Kurse_Woche!F37)","v":-3.6476689479308572E-2},{"$f":"LN(Kurse_Woche!G38/Kurse_Woche!G37)","v":6.8385072649649298E-2},{"$f":"LN(Kurse_Woche!H38/Kurse_Woche!H37)","v":-4.0789844831300541E-2},{"$f":"LN(Kurse_Woche!I38/Kurse_Woche!I37)","v":-7.5986216522744869E-3}]
["2009-06-04",{"$f":"LN(Kurse_Woche!B39/Kurse_Woche!B38)","v":2.2066361472757961E-2},{"$f":"LN(Kurse_Woche!C39/Kurse_Woche!C38)","v":2.1098673434013612E-3},{"$f":"LN(Kurse_Woche!D39/Kurse_Woche!D38)","v":2.4409138388355411E-2},{"$f":"LN(Kurse_Woche!E39/Kurse_Woche!E38)","v":6.0907384956022806E-3},{"$f":"LN(Kurse_Woche!F39/Kurse_Woche!F38)","v":1.5151805020602246E-2},{"$f":"LN(Kurse_Woche!G39/Kurse_Woche!G38)","v":2.3007653934213508E-2},{"$f":"LN(Kurse_Woche!H39/Kurse_Woche!H38)","v":-3.5837918514707363E-2},{"$f":"LN(Kurse_Woche!I39/Kurse_Woche!I38)","v":-2.5304319897642123E-2}]
["2009-06-11",{"$f":"LN(Kurse_Woche!B40/Kurse_Woche!B39)","v":-2.4411670974961559E-2},{"$f":"LN(Kurse_Woche!C40/Kurse_Woche!C39)","v":-2.4035881030955036E-2},{"$f":"LN(Kurse_Woche!D40/Kurse_Woche!D39)","v":1.4105609327910587E-2},{"$f":"LN(Kurse_Woche!E40/Kurse_Woche!E39)","v":2.2749796300980826E-2},{"$f":"LN(Kurse_Woche!F40/Kurse_Woche!F39)","v":-1.5660840409552554E-2},{"$f":"LN(Kurse_Woche!G40/Kurse_Woche!G39)","v":1.1690590407253383E-3},{"$f":"LN(Kurse_Woche!H40/Kurse_Woche!H39)","v":1.831045039256285E-3},{"$f":"LN(Kurse_Woche!I40/Kurse_Woche!I39)","v":-8.4884020601634618E-3}]
["2009-06-18",{"$f":"LN(Kurse_Woche!B41/Kurse_Woche!B40)","v":-5.7963068791355668E-2},{"$f":"LN(Kurse_Woche!C41/Kurse_Woche!C40)","v":-1.0716284730751813E-2},{"$f":"LN(Kurse_Woche!D41/Kurse_Woche!D40)","v":-4.3665605314944754E-2},{"$f":"LN(Kurse_Woche!E41/Kurse_Woche!E40)","v":-1.5426088992093278E-2},{"$f":"LN(Kurse_Woche!F41/Kurse_Woche!F40)","v":-1.0188487891027657E-3},{"$f":"LN(Kurse_Woche!G41/Kurse_Woche!G40)","v":-5.9367785068125137E-2},{"$f":"LN(Kurse_Woche!H41/Kurse_Woche!H40)","v":4.0495980964518508E-2},{"$f":"LN(Kurse_Woche!I41/Kurse_Woche!I40)","v":2.4190392968250263E-2}]
["2009-06-25",{"$f":"LN(Kurse_Woche!B42/Kurse_Woche!B41)","v":-2.7014325888020233E-3},{"$f":"LN(Kurse_Woche!C42/Kurse_Woche!C41)","v":1.8994216186575496E-2},{"$f":"LN(Kurse_Woche!D42/Kurse_Woche!D41)","v":-9.2644724154826337E-3},{"$f":"LN(Kurse_Woche!E42/Kurse_Woche!E41)","v":1.1983744801120588E-2},{"$f":"LN(Kurse_Woche!F42/Kurse_Woche!F41)","v":4.1433428351593637E-2},{"$f":"LN(Kurse_Woche!G42/Kurse_Woche!G41)","v":2.4766110622457924E-3},{"$f":"LN(Kurse_Woche!H42/Kurse_Woche!H41)","v":4.1221180186807059E-2},{"$f":"LN(Kurse_Woche!I42/Kurse_Woche!I41)","v":-1.3286684270072701E-3}]
["2009-07-02",{"$f":"LN(Kurse_Woche!B43/Kurse_Woche!B42)","v":-5.8167896276691645E-2},{"$f":"LN(Kurse_Woche!C43/Kurse_Woche!C42)","v":-1.9769640567836973E-2},{"$f":"LN(Kurse_Woche!D43/Kurse_Woche!D42)","v":3.7223153230846098E-4},{"$f":"LN(Kurse_Woche!E43/Kurse_Woche!E42)","v":-2.5398190605610344E-2},{"$f":"LN(Kurse_Woche!F43/Kurse_Woche!F42)","v":2.4420036555518089E-3},{"$f":"LN(Kurse_Woche!G43/Kurse_Woche!G42)","v":1.1069467317633258E-2},{"$f":"LN(Kurse_Woche!H43/Kurse_Woche!H42)","v":-1.2569082462448315E-2},{"$f":"LN(Kurse_Woche!I43/Kurse_Woche!I42)","v":-7.6519636645774117E-3}]
["2009-07-09",{"$f":"LN(Kurse_Woche!B44/Kurse_Woche!B43)","v":-4.5311151281429138E-2},{"$f":"LN(Kurse_Woche!C44/Kurse_Woche!C43)","v":-2.3610609923811608E-2},{"$f":"LN(Kurse_Woche!D44/Kurse_Woche!D43)","v":-1.3614148947191027E-2},{"$f":"LN(Kurse_Woche!E44/Kurse_Woche!E43)","v":4.171352109798649E-3},{"$f":"LN(Kurse_Woche!F44/Kurse_Woche!F43)","v":3.408817520503309E-3},{"$f":"LN(Kurse_Woche!G44/Kurse_Woche!G43)","v":-4.987800762726928E-2},{"$f":"LN(Kurse_Woche!H44/Kurse_Woche!H43)","v":1.8299757171433395E-2},{"$f":"LN(Kurse_Woche!I44/Kurse_Woche!I43)","v":3.5793294605950432E-2}]
["2009-07-16",{"$f":"LN(Kurse_Woche!B45/Kurse_Woche!B44)","v":3.1819184552171635E-2},{"$f":"LN(Kurse_Woche!C45/Kurse_Woche!C44)","v":1.8644875707936631E-2},{"$f":"LN(Kurse_Woche!D45/Kurse_Woche!D44)","v":4.1143874300937244E-2},{"$f":"LN(Kurse_Woche!E45/Kurse_Woche!E44)","v":-8.6831225734608809E-3},{"$f":"LN(Kurse_Woche!F45/Kurse_Woche!F44)","v":3.5811895632777938E-2},{"$f":"LN(Kurse_Woche!G45/Kurse_Woche!G44)","v":7.3648683023145353E-2},{"$f":"LN(Kurse_Woche!H45/Kurse_Woche!H44)","v":-7.5134139509034012E-2},{"$f":"LN(Kurse_Woche!I45/Kurse_Woche!I44)","v":-5.4439538208898297E-3}]
["2009-07-23",{"$f":"LN(Kurse_Woche!B46/Kurse_Woche!B45)","v":2.9424440688547E-2},{"$f":"LN(Kurse_Woche!C46/Kurse_Woche!C45)","v":1.6134015607313437E-2},{"$f":"LN(Kurse_Woche!D46/Kurse_Woche!D45)","v":3.9517741020391781E-2},{"$f":"LN(Kurse_Woche!E46/Kurse_Woche!E45)","v":5.0695570566615701E-2},{"$f":"LN(Kurse_Woche!F46/Kurse_Woche!F45)","v":8.8723439819948652E-3},{"$f":"LN(Kurse_Woche!G46/Kurse_Woche!G45)","v":5.5372554123491076E-2},{"$f":"LN(Kurse_Woche!H46/Kurse_Woche!H45)","v":-4.924201161699307E-2},{"$f":"LN(Kurse_Woche!I46/Kurse_Woche!I45)","v":-1.1240479087014095E-2}]
["2009-07-30",{"$f":"LN(Kurse_Woche!B47/Kurse_Woche!B46)","v":2.8178084245103594E-3},{"$f":"LN(Kurse_Woche!C47/Kurse_Woche!C46)","v":1.2469309415119607E-3},{"$f":"LN(Kurse_Woche!D47/Kurse_Woche!D46)","v":3.7903586976417131E-2},{"$f":"LN(Kurse_Woche!E47/Kurse_Woche!E46)","v":3.4402909957827348E-2},{"$f":"LN(Kurse_Woche!F47/Kurse_Woche!F46)","v":3.0673038642582282E-2},{"$f":"LN(Kurse_Woche!G47/Kurse_Woche!G46)","v":3.3461977427653757E-2},{"$f":"LN(Kurse_Woche!H47/Kurse_Woche!H46)","v":-1.8285228653475552E-2},{"$f":"LN(Kurse_Woche!I47/Kurse_Woche!I46)","v":-5.2590061690656136E-4}]
["2009-08-06",{"$f":"LN(Kurse_Woche!B48/Kurse_Woche!B47)","v":6.2869274927941768E-2},{"$f":"LN(Kurse_Woche!C48/Kurse_Woche!C47)","v":1.0790800103710104E-2},{"$f":"LN(Kurse_Woche!D48/Kurse_Woche!D47)","v":1.011288276370443E-2},{"$f":"LN(Kurse_Woche!E48/Kurse_Woche!E47)","v":-3.994479606273145E-2},{"$f":"LN(Kurse_Woche!F48/Kurse_Woche!F47)","v":-1.3618004368440521E-2},{"$f":"LN(Kurse_Woche!G48/Kurse_Woche!G47)","v":-5.4794657646254838E-3},{"$f":"LN(Kurse_Woche!H48/Kurse_Woche!H47)","v":1.6682035564566573E-3},{"$f":"LN(Kurse_Woche!I48/Kurse_Woche!I47)","v":-2.1893185530782799E-2}]
["2009-08-13",{"$f":"LN(Kurse_Woche!B49/Kurse_Woche!B48)","v":1.3158084577511201E-2},{"$f":"LN(Kurse_Woche!C49/Kurse_Woche!C48)","v":-7.4793658820778057E-3},{"$f":"LN(Kurse_Woche!D49/Kurse_Woche!D48)","v":1.9924030719905381E-2},{"$f":"LN(Kurse_Woche!E49/Kurse_Woche!E48)","v":2.5904236804009537E-2},{"$f":"LN(Kurse_Woche!F49/Kurse_Woche!F48)","v":-5.5439277282457108E-2},{"$f":"LN(Kurse_Woche!G49/Kurse_Woche!G48)","v":8.5106896679086105E-3},{"$f":"LN(Kurse_Woche!H49/Kurse_Woche!H48)","v":-1.5827732160091219E-2},{"$f":"LN(Kurse_Woche!I49/Kurse_Woche!I48)","v":9.7205028105620244E-3}]
["2009-08-20",{"$f":"LN(Kurse_Woche!B50/Kurse_Woche!B49)","v":-7.6013255133097174E-2},{"$f":"LN(Kurse_Woche!C50/Kurse_Woche!C49)","v":-2.2886395128078971E-2},{"$f":"LN(Kurse_Woche!D50/Kurse_Woche!D49)","v":1.0673380394250491E-2},{"$f":"LN(Kurse_Woche!E50/Kurse_Woche!E49)","v":3.3038023743852557E-3},{"$f":"LN(Kurse_Woche!F50/Kurse_Woche!F49)","v":3.6522911619366299E-2},{"$f":"LN(Kurse_Woche!G50/Kurse_Woche!G49)","v":-3.1983045853050653E-2},{"$f":"LN(Kurse_Woche!H50/Kurse_Woche!H49)","v":2.7687991531166734E-2},{"$f":"LN(Kurse_Woche!I50/Kurse_Woche!I49)","v":9.5390230467589099E-3}]
["2009-08-27",{"$f":"LN(Kurse_Woche!B51/Kurse_Woche!B50)","v":2.5063898840080607E-2},{"$f":"LN(Kurse_Woche!C51/Kurse_Woche!C50)","v":7.5023796721774162E-3},{"$f":"LN(Kurse_Woche!D51/Kurse_Woche!D50)","v":2.4784153551746377E-2},{"$f":"LN(Kurse_Woche!E51/Kurse_Woche!E50)","v":1.9302752254528675E-2},{"$f":"LN(Kurse_Woche!F51/Kurse_Woche!F50)","v":-4.6587468813716652E-4},{"$f":"LN(Kurse_Woche!G51/Kurse_Woche!G50)","v":5.0574285962933514E-2},{"$f":"LN(Kurse_Woche!H51/Kurse_Woche!H50)","v":-3.844078330742845E-2},{"$f":"LN(Kurse_Woche!I51/Kurse_Woche!I50)","v":-6.34922767865878E-3}]

{"sheet":"Kurse_Woche","index":4,"n_rows":51,"n_cols":9,"rows_kept":51,"cut":false,"hidden":false,"merged":[]}
["Date","ZKB SILVER ETF  (ZSIL/ CH0029792717)","ZKB GOLD ETF  (ZGLD/ CH0024391002)","Xmtch (CH) SLI  (XMSLI/ CH0031768937)","UBS-ETF MSCI JAPAN  (FDJPHU/ LU0136240974)","NESTLE N  (NESN/ CH0038863350)","DB X-TR DAX  (XDAX/ LU0274211480)","DB X-TR SHORT DAX  (XSDX/ LU0292106241)","JPY/CHF"]
["2008-08-29",1451,2938,108.65,39.99,48.6,104.4,115.71,1.0016000000000001E-2]
["2008-09-04",1360,2830,106.99,38.299999999999997,47.86,100.81,117.16,1.0217E-2]
["2008-09-11",1133,2698,104.26,39.19,49.48,97.76,119.66,1.0527E-2]
["2008-09-18",1298,3061,98.87,36.4,48.1,92.53,124.5,1.0602E-2]
["2008-09-25",1388,3021,104.01,37.299999999999997,47.7,97.88,120.88,1.0269E-2]
["2008-10-02",1222,3025,98.31,36.450000000000003,47.96,88.73,125.6,1.0567999999999999E-2]
["2008-10-09",1288,3232,85.31,31.98,42.28,74.95,145.80000000000001,1.1292999999999999E-2]
["2008-10-16",1022,2892,81.5,29.09,40.92,69.41,143.15,1.1204E-2]
["2008-10-23",1104,2679,82.18,31.8,44.4,68.25,151.80000000000001,1.1683000000000001E-2]
["2008-10-30",1058,2707.55,82.4,32.46,43.88,73.099999999999994,129.82,1.1790999999999999E-2]
["2008-11-06",1180,2775,83.94,32.79,45.84,72.099999999999994,131.49,1.1743E-2]
["2008-11-13",1053,2731.07,79.52,32.270000000000003,45.02,69.989999999999995,139.22999999999999,1.2208E-2]
["2008-11-20",1047,2913.62,72.34,30,43.12,64.17,156.49,1.2468E-2]
["2008-11-27",1196,3105,79.14,31.11,42.52,72.09,141.87,1.2527E-2]
["2008-12-04",1107,2984,78.95,31.16,42.58,70.31,145,1.2997E-2]
["2008-12-11",1195,3129.83,81.17,33.1,41.7,75.25,138.88999999999999,1.2997E-2]
["2008-12-18",1137,2910,79.25,30.36,40.520000000000003,73.37,136.6,1.2534999999999999E-2]
["2009-01-08",1169,2989.03,82.52,31.9,42.06,72.540000000000006,129.74,1.187E-2]
["2009-01-15",1125,2922,76.39,30.58,39.82,64.900000000000006,143.15,1.2505E-2]
["2009-01-22",1274,3166,74.930000000000007,30.9,40.44,62.8,146.38,1.2815999999999999E-2]
["2009-01-29",1329.31,3290,75.72,30.7,40.200000000000003,65.83,141,1.2775999999999999E-2]
["2009-02-05",1432,3409,73.849999999999994,31.29,38.340000000000003,67.22,139.58000000000001,1.2885000000000001E-2]
["2009-02-12",1516,3524.99,73.38,30.07,37.659999999999997,65.39,142,1.2831E-2]
["2009-02-19",1584,3673.48,71.09,28.3,38.94,62.92,147.80000000000001,1.2638999999999999E-2]
["2009-02-26",1460,3489.88,68.3,26.6,37.880000000000003,58.73,157.63,1.1988E-2]
["2009-03-05",1460,3430,62.5,26.01,35.659999999999997,55.77,161.5,1.1919000000000001E-2]
["2009-03-12",1470.17,3523,66.03,25.92,36.700000000000003,58.86,157.97999999999999,1.1809999999999999E-2]
["2009-03-19",1447.77,3422.43,68.760000000000005,27.2,36.22,62.57,154.80000000000001,1.1945000000000001E-2]
["2009-03-26",1487,3389.05,70.489999999999995,28.69,38.54,64.62,147.75,1.1549E-2]
["2009-04-02",1375.92,3251,74,29.25,39.46,65.8,143.9,1.157E-2]
["2009-04-09",1346.85,3240,73.349999999999994,29.8,39.54,66.94,138.4,1.1461000000000001E-2]
["2009-04-16",1344,3219.22,75.77,30,38.86,69.47,134.47999999999999,1.154E-2]
["2009-04-23",1425,3341.52,76,30.21,36.96,67.55,134.31,1.1884E-2]
["2009-04-30",1339.25,3211.51,79.8,29.77,37.36,72.55,127.38,1.1764999999999999E-2]
["2009-05-07",1485,3288.9,80.930000000000007,30.6,39.26,73.599999999999994,127.62,1.1516999999999999E-2]
["2009-05-14",1479.44,3267,79.900000000000006,30.35,40.76,70.22,129.6,1.1493E-2]
["2009-05-28",1570.93,3318.98,81.75,31.1,39.299999999999997,75.19,124.42,1.1405999999999999E-2]
["2009-06-04",1605.98,3325.99,83.77,31.29,39.9,76.94,120.04,1.1121000000000001E-2]
["2009-06-11",1567.25,3247,84.96,32.01,39.28,77.03,120.26,1.1027E-2]
["2009-06-18",1478.99,3212.39,81.33,31.52,39.24,72.59,125.23,1.1297E-2]
["2009-06-25",1475,3273.99,80.58,31.9,40.9,72.77,130.5,1.1282E-2]
["2009-07-02",1391.65,3209.9,80.61,31.1,41,73.58,128.87,1.1195999999999999E-2]
["2009-07-09",1330,3135,79.52,31.23,41.14,70,131.25,1.1604E-2]
["2009-07-16",1373,3194,82.86,30.96,42.64,75.349999999999994,121.75,1.1540999999999999E-2]
["2009-07-23",1414,3245.95,86.2,32.57,43.02,79.64,115.9,1.1412E-2]
["2009-07-30",1417.99,3250,89.53,33.71,44.36,82.35,113.8,1.1405999999999999E-2]
["2009-08-06",1510,3285.26,90.44,32.39,43.76,81.900000000000006,113.99,1.1159000000000001E-2]
["2009-08-13",1530,3260.78,92.26,33.24,41.4,82.6,112.2,1.1268E-2]
["2009-08-20",1418.01,3187,93.25,33.35,42.94,80,115.35,1.1376000000000001E-2]
["2009-08-27",1454,3211,95.59,34,42.92,84.15,111,1.1304E-2]

{"sheet":"Tabelle1","index":5,"n_rows":0,"n_cols":0,"rows_kept":0,"cut":false,"hidden":false,"merged":[]}